Workbook
Name ACC_Functii: [1]!Tb_Functie[functii_acc]
Name L_Echipa: [1]!Tb_Echipe[echipa]
Name ListaFunctii: [1]!Table4[functii_acc]
Name N_Functii: [1]!Tb_NCM_Functii[functii_ncm]
Name PrPrima: [2]Constante!$B$5
Name PrVM: [2]Constante!$B$4

Sheet CMSA - ANRE
M1: =0.8/25 -> 0.032
J3: Branșare în țeavă de oțel | Y3: Branșare în țeavă de polietilenă, fontă | GG3: Racordarea instalațiilor interne la rețeaua publică de canalizare | GL3: Branșare în țeavă de oțel, în cazul cînd consumatorii au asigurat executarea branșamentului | GZ3: Branșare în țeavă de polietilenă, fontă, în cazul cînd consumatorii au asigurat executarea branșamentului | MR3: racordarea instalațiilor interne la rețeaua publică de canalizare, în cazul în care consumatorul a executat racordul de canalizare | MS3: Reconectarea la rețeaua publică de alimentare cu apă a instalațiilor interne de apă ale consumatorului, care anterior au fost deconectate de operator din cauza încălcării de către consumator a normelor de utilizare și/sau a clauzelor contractuale. | MX3: Reconectarea la rețeaua publică de canalizare a instalației interne de canalizare a consumatorului, care anterior au fost deconectate de către operator din cauza încălcării de către consumator a normelor de utilizare și/sau a clauzelor contractuale. | MY3: Deconectarea de la rețeaua publică de alimentare cu apă a instalațiilor interne de apă, la solicitarea consumatorului, cu excepția cazurilor de reziliere a contractului pentru furnizarea serviciului public de alimentare cu apă. | ND3: Deconectarea de la rețeaua publică de canalizare a instalației interne de canalizare a consumatorului la solicitarea consumatorului. | NE3: Reconectarea la rețeaua publică de alimentare cu apă a instalațiilor interne de apă, care anterior au fost deconectate la solicitarea consumatorului. | NJ3: Reconectarea la reţeaua publică de canalizare a instalaţiilor interne de canalizare, care anterior au fost deconectate la solicitarea consumatorului | NK3: Instalarea și sigilarea contorului, la solicitarea consumatorului | NV3: Demontarea, remontarea și sigilarea contorului la solicitarea consumatorului | OG3: Demontarea, verificarea metrologică de expertiză, remontarea și sigilarea contorului în cazul cînd consumatorul solicită efectuarea verificării metrologice de expertiză, iar în rezultatul verificării se constată că contorul corespunde normelor | OH3: Demontarea, verificarea metrologică, remontarea și sigilarea contorului în cazul cînd acesta a fost deteriorat din vina consumatorului | OI3: Demontarea contorului deteriorat din vina consumatorului și instalarea unui alt contor, în cazul cînd contorul deteriorat nu poate fi reparat | OJ3: Sigilarea contorului, la solicitarea consumatorului, în cazul deteriorării de către consumator a sigiliului aplicat de operator. | OU3: Eliberarea, la solicitarea consumatorului, din arhiva operatorului a copiilor de pe acte și de pe proiect, prezentate de consumator operatorului.
I4: Tip consumator | J4: casnici/noncasnici | K4: casnici | L4: noncasnici | M4: noncasnici | N4: noncasnici | O4: noncasnici | P4: noncasnici | Q4: noncasnici | R4: noncasnici | S4: noncasnici | T4: noncasnici | U4: noncasnici | V4: noncasnici | W4: noncasnici | X4: noncasnici | Y4: casnici / noncasnici | Z4: casnici / noncasnici | AA4: casnici / noncasnici | AB4: casnici / noncasnici | AC4: casnici / noncasnici | AD4: casnici / noncasnici | AE4: casnici / noncasnici | AF4: casnici / noncasnici | AG4: casnici / noncasnici | AH4: casnici / noncasnici | AI4: casnici / noncasnici | AJ4: casnici / noncasnici | AK4: casnici / noncasnici | AL4: casnici / noncasnici | AM4: casnici / noncasnici | AN4: casnici / noncasnici | AO4: casnici / noncasnici | AP4: casnici / noncasnici | AQ4: casnici | AR4: noncasnici | AS4: casnici | AT4: noncasnici | AU4: casnici | AV4: noncasnici | AW4: casnici | AX4: noncasnici | AY4: casnici | AZ4: noncasnici | BA4: casnici | BB4: noncasnici | BC4: casnici | BD4: noncasnici | BE4: casnici | BF4: noncasnici | BG4: casnici | BH4: noncasnici | BI4: casnici | BJ4: noncasnici | BK4: casnici | BL4: noncasnici | BM4: casnici | BN4: noncasnici | BO4: casnici | BP4: noncasnici | BQ4: casnici | BR4: noncasnici | BS4: casnici | BT4: noncasnici | BU4: casnici | BV4: noncasnici | BW4: casnici / noncasnici | BX4: casnici / noncasnici | BY4: noncasnici | BZ4: noncasnici | CA4: noncasnici | CB4: noncasnici | CC4: casnici / noncasnici | CD4: casnici / noncasnici | CE4: noncasnici | CF4: casnici / noncasnici | CG4: casnici / noncasnici | CH4: casnici / noncasnici | CI4: casnici / noncasnici | CJ4: casnici / noncasnici | CK4: casnici / noncasnici | CL4: casnici / noncasnici | CM4: casnici / noncasnici | CN4: casnici / noncasnici | CO4: casnici / noncasnici | CP4: casnici / noncasnici | CQ4: casnici / noncasnici | CR4: casnici / noncasnici | CS4: casnici / noncasnici | CT4: casnici / noncasnici | CU4: casnici / noncasnici | CV4: casnici / noncasnici | CW4: casnici / noncasnici | CX4: casnici / noncasnici | CY4: casnici / noncasnici | CZ4: casnici / noncasnici | DA4: noncasnici | DB4: noncasnici | DC4: noncasnici | DD4: casnici / noncasnici | DE4: casnici / noncasnici | DF4: noncasnici | DG4: casnici / noncasnici | DH4: noncasnici | DI4: casnici / noncasnici | DJ4: casnici / noncasnici | DK4: noncasnici | DL4: casnici / noncasnici | DM4: casnici / noncasnici | DN4: casnici / noncasnici | DO4: casnici / noncasnici | DP4: casnici / noncasnici | DQ4: casnici / noncasnici | DR4: casnici / noncasnici | DS4: casnici / noncasnici | DT4: casnici / noncasnici | DU4: casnici / noncasnici | DV4: casnici / noncasnici | DW4: casnici / noncasnici | DX4: casnici / noncasnici | DY4: casnici / noncasnici | DZ4: casnici / noncasnici | EA4: casnici / noncasnici | EB4: casnici / noncasnici | EC4: noncasnici | ED4: casnici / noncasnici | EE4: noncasnici | EF4: casnici / noncasnici | EG4: casnici / noncasnici | EH4: casnici / noncasnici | EI4: casnici / noncasnici | EJ4: casnici / noncasnici | EK4: casnici / noncasnici | EL4: casnici / noncasnici | EM4: casnici / noncasnici | EN4: casnici / noncasnici | EO4: casnici / noncasnici | EP4: casnici / noncasnici | EQ4: casnici / noncasnici | ER4: casnici / noncasnici | ES4: casnici / noncasnici | ET4: noncasnici | EU4: casnici / noncasnici | EV4: noncasnici | EW4: noncasnici | EX4: noncasnici | EY4: noncasnici | EZ4: noncasnici | FA4: noncasnici | FB4: noncasnici | FC4: casnici / noncasnici | FD4: casnici / noncasnici | FE4: casnici / noncasnici | FF4: casnici / noncasnici | FG4: casnici / noncasnici | FH4: casnici / noncasnici | FI4: casnici / noncasnici | FJ4: casnici / noncasnici | FK4: casnici / noncasnici | FL4: casnici / noncasnici | FM4: casnici / noncasnici | FN4: casnici / noncasnici | FO4: casnici / noncasnici | FP4: casnici / noncasnici | FQ4: casnici / noncasnici | FR4: noncasnici | FS4: noncasnici | FT4: noncasnici | FU4: noncasnici | FV4: noncasnici | FW4: noncasnici | FX4: noncasnici | FY4: noncasnici | FZ4: noncasnici | GA4: noncasnici | GB4: noncasnici | GC4: noncasnici | GD4: noncasnici | GE4: noncasnici | GF4: noncasnici | GG4: casnici/ noncasnici | GH4: casnici/ noncasnici | GI4: casnici/ noncasnici | GJ4: casnici/ noncasnici | GK4: casnici/ noncasnici | GL4: casnici/noncasnici | GM4: casnici | GN4: noncasnici | GO4: noncasnici | GP4: noncasnici | GQ4: noncasnici | GR4: noncasnici | GS4: noncasnici | GT4: noncasnici | GU4: noncasnici | GV4: noncasnici | GW4: noncasnici | GX4: noncasnici | GY4: noncasnici | GZ4: casnici / noncasnici | HA4: casnici / noncasnici | HB4: casnici / noncasnici | HC4: casnici / noncasnici | HD4: casnici / noncasnici | HE4: casnici / noncasnici | HF4: casnici / noncasnici | HG4: casnici / noncasnici | HH4: casnici / noncasnici | HI4: casnici / noncasnici | HJ4: casnici / noncasnici | HK4: casnici / noncasnici | HL4: casnici / noncasnici | HM4: casnici / noncasnici | HN4: casnici / noncasnici | HO4: casnici / noncasnici | HP4: casnici / noncasnici | HQ4: casnici / noncasnici | HR4: casnici / noncasnici | HS4: casnici / noncasnici | HT4: casnici / noncasnici | HU4: casnici / noncasnici | HV4: casnici / noncasnici | HW4: casnici / noncasnici | HX4: casnici / noncasnici | HY4: casnici / noncasnici | HZ4: casnici / noncasnici | IA4: casnici / noncasnici | IB4: casnici / noncasnici | IC4: casnici / noncasnici | ID4: casnici / noncasnici | IE4: casnici / noncasnici | IF4: casnici / noncasnici | IG4: casnici / noncasnici | IH4: casnici / noncasnici | II4: casnici / noncasnici | IJ4: noncasnici | IK4: noncasnici | IL4: noncasnici | IM4: noncasnici | IN4: casnici / noncasnici | IO4: casnici / noncasnici | IP4: noncasnici | IQ4: casnici / noncasnici | IR4: casnici / noncasnici | IS4: casnici / noncasnici | IT4: casnici / noncasnici | IU4: casnici / noncasnici | IV4: casnici / noncasnici | IW4: casnici / noncasnici | IX4: casnici / noncasnici | IY4: casnici / noncasnici | IZ4: casnici / noncasnici | JA4: casnici / noncasnici | JB4: casnici / noncasnici | JC4: casnici / noncasnici | JD4: casnici / noncasnici | JE4: casnici / noncasnici | JF4: casnici / noncasnici | JG4: casnici / noncasnici | JH4: casnici / noncasnici | JI4: casnici / noncasnici | JJ4: casnici / noncasnici | JK4: casnici / noncasnici | JL4: noncasnici | JM4: noncasnici | JN4: noncasnici | JO4: casnici / noncasnici | JP4: casnici / noncasnici | JQ4: noncasnici | JR4: casnici / noncasnici | JS4: noncasnici | JT4: casnici / noncasnici | JU4: casnici / noncasnici | JV4: noncasnici | JW4: casnici / noncasnici | JX4: casnici / noncasnici | JY4: casnici / noncasnici | JZ4: casnici / noncasnici | KA4: casnici / noncasnici | KB4: casnici / noncasnici | KC4: casnici / noncasnici | KD4: casnici / noncasnici | KE4: casnici / noncasnici | KF4: casnici / noncasnici | KG4: casnici / noncasnici | KH4: casnici / noncasnici | KI4: casnici / noncasnici | KJ4: casnici / noncasnici | KK4: casnici / noncasnici | KL4: casnici / noncasnici | KM4: casnici / noncasnici | KN4: noncasnici | KO4: casnici / noncasnici | KP4: noncasnici | KQ4: casnici / noncasnici | KR4: casnici / noncasnici | KS4: casnici / noncasnici | KT4: casnici / noncasnici | KU4: casnici / noncasnici | KV4: casnici / noncasnici | KW4: casnici / noncasnici | KX4: casnici / noncasnici | KY4: casnici / noncasnici | KZ4: casnici / noncasnici | LA4: casnici / noncasnici | LB4: casnici / noncasnici | LC4: casnici / noncasnici | LD4: casnici / noncasnici | LE4: noncasnici | LF4: casnici / noncasnici | LG4: noncasnici | LH4: noncasnici | LI4: noncasnici | LJ4: noncasnici | LK4: noncasnici | LL4: noncasnici | LM4: noncasnici | LN4: casnici / noncasnici | LO4: casnici / noncasnici | LP4: casnici / noncasnici | LQ4: casnici / noncasnici | LR4: casnici / noncasnici | LS4: casnici / noncasnici | LT4: casnici / noncasnici | LU4: casnici / noncasnici | LV4: casnici / noncasnici | LW4: casnici / noncasnici | LX4: casnici / noncasnici | LY4: casnici / noncasnici | LZ4: casnici / noncasnici | MA4: casnici / noncasnici | MB4: casnici / noncasnici | MC4: noncasnici | MD4: noncasnici | ME4: noncasnici | MF4: noncasnici | MG4: noncasnici | MH4: noncasnici | MI4: noncasnici | MJ4: noncasnici | MK4: noncasnici | ML4: noncasnici | MM4: noncasnici | MN4: noncasnici | MO4: noncasnici | MP4: noncasnici | MQ4: noncasnici | MR4: casnici/ noncasnici | MS4: casnici | MT4: noncasnici | MU4: noncasnici | MV4: noncasnici | MW4: noncasnici | MY4: casnici | MZ4: noncasnici | NA4: noncasnici | NB4: noncasnici | NC4: noncasnici | NE4: casnici | NF4: noncasnici | NG4: noncasnici | NH4: noncasnici | NI4: noncasnici | NK4: casnici/noncasnici | NL4: noncasnici | NM4: noncasnici | NN4: noncasnici | NO4: noncasnici | NP4: noncasnici | NQ4: noncasnici | NR4: noncasnici | NS4: noncasnici | NT4: noncasnici | NU4: noncasnici | NV4: casnici/noncasnici | NW4: noncasnici | NX4: noncasnici | NY4: noncasnici | NZ4: noncasnici | OA4: noncasnici | OB4: noncasnici | OC4: noncasnici | OD4: noncasnici | OE4: noncasnici | OF4: noncasnici | OH4: casnici / noncasnici | OJ4: casnici/noncasnici | OK4: noncasnici | OL4: noncasnici | OM4: noncasnici | ON4: noncasnici | OO4: noncasnici | OP4: noncasnici | OQ4: noncasnici | OR4: noncasnici | OS4: noncasnici | OT4: noncasnici
I5: Branșament | J5: PE 20 mm | K5: PE 25 mm | L5: PE 25 mm | M5: PE 32mm | N5: PE 40mm | O5: PE 50mm | P5: PE 63mm | Q5: PE 75mm | R5: PE 90mm | S5: PE 110mm | T5: PE 140mm | U5: PE 160mm | V5: PE 200mm | W5: PE 250mm | X5: PE 300mm | Y5: PE 25*20 mm | Z5: PE 32*20 mm | AA5: PE 40*20 mm | AB5: PE 50*20mm | AC5: PE 63*20mm | AD5: PE 75*20mm | AE5: PE 90*20mm | AF5: PE 110*20mm | AG5: PE 125*20mm | AH5: PE 140*20mm | AI5: PE 160*20mm | AJ5: PE 180*20mm | AK5: PE 200*20mm | AL5: PE 225*20mm | AM5: PE 250*20mm | AN5: PE 315*20mm | AO5: PE 350*20mm | AP5: PE 25*25 mm | AQ5: PE 32*25 mm | AR5: PE 32*25 mm | AS5: PE 40*25 mm | AT5: PE 40*25 mm | AU5: PE 50*25mm | AV5: PE 50*25mm | AW5: PE 63*25mm | AX5: PE 63*25mm | AY5: PE 75*25mm | AZ5: PE 75*25mm | BA5: PE 90*25mm | BB5: PE 90*25mm | BC5: PE 110*25mm | BD5: PE 110*25mm | BE5: PE 125*25mm | BF5: PE 125*25mm | BG5: PE 140*25mm | BH5: PE 140*25mm | BI5: PE 160*25mm | BJ5: PE 160*25mm | BK5: PE 180*25mm | BL5: PE 180*25mm | BM5: PE 200*25mm | BN5: PE 200*25mm | BO5: PE 225*25mm | BP5: PE 225*25mm | BQ5: PE 250*25mm | BR5: PE 250*25mm | BS5: PE 315*25mm | BT5: PE 315*25mm | BU5: PE 350*25mm | BV5: PE 350*25mm | BW5: PE 40*32mm | BX5: PE 50*32mm | BY5: PE 63*32mm | BZ5: PE 75*32mm | CA5: PE 90*32mm | CB5: PE 110*32mm | CC5: PE 125*32mm | CD5: PE 140*32mm | CE5: PE 160*32mm | CF5: PE 180*32mm | CG5: PE 200*32mm | CH5: PE 225*32mm | CI5: PE 250*32mm | CJ5: PE 315*32mm | CK5: PE 350*32mm | CL5: PE 50*40mm | CM5: PE 63*40mm | CN5: PE 75*40mm | CO5: PE 90*40mm | CP5: PE 110*40mm | CQ5: PE 125*40mm | CR5: PE 140*40mm | CS5: PE 160*40mm | CT5: PE 180*40mm | CU5: PE 200*40mm | CV5: PE 225*40mm | CW5: PE 250*40mm | CX5: PE 315*40mm | CY5: PE 350*40mm | CZ5: PE 63*50mm | DA5: PE 75*50mm | DB5: PE 90*50mm | DC5: PE 110*50mm | DD5: PE 125*50mm | DE5: PE 140*50mm | DF5: PE 160*50mm | DG5: PE 180*50mm | DH5: PE 200*50mm | DI5: PE 225*50mm | DJ5: PE 250*50mm | DK5: PE 315*50mm | DL5: PE 350*50mm | DM5: PE 75*63mm | DN5: PE 90*63mm | DO5: PE 110*63mm | DP5: PE 125*63mm | DQ5: PE 140*63mm | DR5: PE 160*63mm | DS5: PE 180*63mm | DT5: PE 200*63mm | DU5: PE 225*63mm | DV5: PE 250*63mm | DW5: PE 315*63mm | DX5: PE 350*63mm | DY5: PE 90*75mm | DZ5: PE 110*75mm | EA5: PE 125*75mm | EB5: PE 140*75mm | EC5: PE 160*75mm | ED5: PE 180*75mm | EE5: PE 200*75mm | EF5: PE 225*75mm | EG5: PE 250*75mm | EH5: PE 315*75mm | EI5: PE 350*75mm | EJ5: PE 110*90mm | EK5: PE 125*90mm | EL5: PE 140*90mm | EM5: PE 160*90mm | EN5: PE 180*90mm | EO5: PE 200*90mm | EP5: PE 225*90mm | EQ5: PE 250*90mm | ER5: PE 315*90mm | ES5: PE 350*90mm | ET5: PE 125*110mm | EU5: PE 140*110mm | EV5: PE 160*110mm | EW5: PE 180*110mm | EX5: PE 200*110mm | EY5: PE 225*110mm | EZ5: PE 250*110mm | FA5: PE 315*110mm | FB5: PE 350*110mm | FC5: PE 140*125mm | FD5: PE 160*125mm | FE5: PE 180*125mm | FF5: PE 200*125mm | FG5: PE 225*125mm | FH5: PE 250*125mm | FI5: PE 315*125mm | FJ5: PE 350*125mm | FK5: PE 160*140mm | FL5: PE 180*140mm | FM5: PE 200*140mm | FN5: PE 225*140mm | FO5: PE 250*140mm | FP5: PE 315*140mm | FQ5: PE 350*140mm | FR5: PE 180*160mm | FS5: PE 200*160mm | FT5: PE 225*160mm | FU5: PE 250*160mm | FV5: PE 315*160mm | FW5: PE 350*160mm | FX5: PE 200*180mm | FY5: PE 225*180mm | FZ5: PE 250*180mm | GA5: PE 315*180mm | GB5: PE 350*180mm | GC5: PE 225*200mm | GD5: PE 250*200mm | GE5: PE 315*200mm | GF5: PE 350*200mm | GG5: PE 110*4 mm | GH5: PE 160*4 mm | GI5: PE 200 mm | GJ5: PE 250 mm | GK5: PE 300 mm | GL5: PE 20 mm | GM5: PE 25 mm | GN5: PE 32mm | GO5: PE 40mm | GP5: PE 50mm | GQ5: PE 63mm | GR5: PE 75mm | GS5: PE 90mm | GT5: PE 110mm | GU5: PE 140mm | GV5: PE 160mm | GW5: PE 200mm | GX5: PE 250mm | GY5: PE 300mm | GZ5: PE 25*20 mm | HA5: PE 32*20 mm | HB5: PE 40*20 mm | HC5: PE 50*20mm | HD5: PE 63*20mm | HE5: PE 75*20mm | HF5: PE 90*20mm | HG5: PE 110*20mm | HH5: PE 125*20mm | HI5: PE 140*20mm | HJ5: PE 160*20mm | HK5: PE 180*20mm | HL5: PE 200*20mm | HM5: PE 225*20mm | HN5: PE 250*20mm | HO5: PE 315*20mm | HP5: PE 350*20mm | HQ5: PE 25*25 mm | HR5: PE 32*25 mm | HS5: PE 40*25 mm | HT5: PE 50*25mm | HU5: PE 63*25mm | HV5: PE 75*25mm | HW5: PE 90*25mm | HX5: PE 110*25mm | HY5: PE 125*25mm | HZ5: PE 140*25mm | IA5: PE 160*25mm | IB5: PE 180*25mm | IC5: PE 200*25mm | ID5: PE 225*25mm | IE5: PE 250*25mm | IF5: PE 315*25mm | IG5: PE 350*25mm | IH5: PE 40*32mm | II5: PE 50*32mm | IJ5: PE 63*32mm | IK5: PE 75*32mm | IL5: PE 90*32mm | IM5: PE 110*32mm | IN5: PE 125*32mm | IO5: PE 140*32mm | IP5: PE 160*32mm | IQ5: PE 180*32mm | IR5: PE 200*32mm | IS5: PE 225*32mm | IT5: PE 250*32mm | IU5: PE 315*32mm | IV5: PE 350*32mm | IW5: PE 50*40mm | IX5: PE 63*40mm | IY5: PE 75*40mm | IZ5: PE 90*40mm | JA5: PE 110*40mm | JB5: PE 125*40mm | JC5: PE 140*40mm | JD5: PE 160*40mm | JE5: PE 180*40mm | JF5: PE 200*40mm | JG5: PE 225*40mm | JH5: PE 250*40mm | JI5: PE 315*40mm | JJ5: PE 350*40mm | JK5: PE 63*50mm | JL5: PE 75*50mm | JM5: PE 90*50mm | JN5: PE 110*50mm | JO5: PE 125*50mm | JP5: PE 140*50mm | JQ5: PE 160*50mm | JR5: PE 180*50mm | JS5: PE 200*50mm | JT5: PE 225*50mm | JU5: PE 250*50mm | JV5: PE 315*50mm | JW5: PE 350*50mm | JX5: PE 75*63mm | JY5: PE 90*63mm | JZ5: PE 110*63mm | KA5: PE 125*63mm | KB5: PE 140*63mm | KC5: PE 160*63mm | KD5: PE 180*63mm | KE5: PE 200*63mm | KF5: PE 225*63mm | KG5: PE 250*63mm | KH5: PE 315*63mm | KI5: PE 350*63mm | KJ5: PE 90*75mm | KK5: PE 110*75mm | KL5: PE 125*75mm | KM5: PE 140*75mm | KN5: PE 160*75mm | KO5: PE 180*75mm | KP5: PE 200*75mm | KQ5: PE 225*75mm | KR5: PE 250*75mm | KS5: PE 315*75mm | KT5: PE 350*75mm | KU5: PE 110*90mm | KV5: PE 125*90mm | KW5: PE 140*90mm | KX5: PE 160*90mm | KY5: PE 180*90mm | KZ5: PE 200*90mm | LA5: PE 225*90mm | LB5: PE 250*90mm | LC5: PE 315*90mm | LD5: PE 350*90mm | LE5: PE 125*110mm | LF5: PE 140*110mm | LG5: PE 160*110mm | LH5: PE 180*110mm | LI5: PE 200*110mm | LJ5: PE 225*110mm | LK5: PE 250*110mm | LL5: PE 315*110mm | LM5: PE 350*110mm | LN5: PE 140*125mm | LO5: PE 160*125mm | LP5: PE 180*125mm | LQ5: PE 200*125mm | LR5: PE 225*125mm | LS5: PE 250*125mm | LT5: PE 315*125mm | LU5: PE 350*125mm | LV5: PE 160*140mm | LW5: PE 180*140mm | LX5: PE 200*140mm | LY5: PE 225*140mm | LZ5: PE 250*140mm | MA5: PE 315*140mm | MB5: PE 350*140mm | MC5: PE 180*160mm | MD5: PE 200*160mm | ME5: PE 225*160mm | MF5: PE 250*160mm | MG5: PE 315*160mm | MH5: PE 350*160mm | MI5: PE 200*180mm | MJ5: PE 225*180mm | MK5: PE 250*180mm | ML5: PE 315*180mm | MM5: PE 350*180mm | MN5: PE 225*200mm | MO5: PE 250*200mm | MP5: PE 315*200mm | MQ5: PE 350*200mm | MS5: 25mm | MT5: 25mm-50mm | MU5: 63mm-90mm | MV5: 110mm-200mm | MW5: 250mm-300mm | MY5: 25mm | MZ5: 25mm-50mm | NA5: 63mm-90mm | NB5: 110mm-300mm | NC5: conductă metal | NE5: 25mm | NF5: 25mm-50mm | NG5: 63mm-90mm | NH5: 110mm-200mm | NI5: 250mm-300mm | NK5: 15mm | NL5: 20mm | NM5: 25mm | NN5: 32mm | NO5: 40mm | NP5: 50mm | NQ5: 65mm | NR5: 80mm | NS5: 100mm | NT5: 150mm | NU5: 200mm | NV5: 15mm | NW5: 20mm | NX5: 25mm | NY5: 32mm | NZ5: 40mm | OA5: 50mm | OB5: 65mm | OC5: 80mm | OD5: 100mm | OE5: 150mm | OF5: 200mm | OH5: PE 25 mm | OJ5: 15mm | OK5: 20mm | OL5: 25mm | OM5: 32mm | ON5: 40mm | OO5: 50mm | OP5: 65mm | OQ5: 80mm | OR5: 100mm | OS5: 150mm | OT5: 200mm
B6: Denumirea | C6: Unitatea de măsură | D6: preț pe piață 2026 | E6: Sursa | F6: Preț SA „Apă - Canal Strășeni” 2025 | I6: Preț acceptat ANRE in tarife 2026 | J6: Norma
G7: Ultimele preturi Ungheni 30.06.2026 | H7: Tarife auxiliare 2025 | J7: 2.1 | K7: 2.2 | L7: 2.2 | M7: 2.3 | N7: 2.4 | O7: 2.5 | P7: 2.6 | Q7: 2.7 | R7: 2.8 | S7: 2.9 | T7: 2.10 | U7: 2.11 | V7: 2.12 | W7: 2.13 | X7: 2.14 | Y7: 2.15 | Z7: 2.16 | AA7: 2.17 | AB7: 2.18 | AC7: 2.19 | AD7: 2.20 | AE7: 2.21 | AF7: 2.22 | AG7: 2.23 | AH7: 2.24 | AI7: 2.25 | AJ7: 2.26 | AK7: 2.27 | AL7: 2.28 | AM7: 2.29 | AN7: 2.30 | AO7: 2.31 | AQ7: 2.32 | AR7: 2.32 | AS7: 2.33 | AT7: 2.33 | AU7: 2.34 | AV7: 2.34 | AW7: 2.35 | AX7: 2.35 | AY7: 2.36 | AZ7: 2.36 | BA7: 2.37 | BB7: 2.37 | BC7: 2.38 | BD7: 2.38 | BE7: 2.39 | BF7: 2.39 | BG7: 2.40 | BH7: 2.40 | BI7: 2.41 | BJ7: 2.41 | BK7: 2.42 | BL7: 2.42 | BM7: 2.43 | BN7: 2.43 | BO7: 2.44 | BP7: 2.44 | BQ7: 2.45 | BR7: 2.45 | BS7: 2.46 | BT7: 2.46 | BU7: 2.47 | BV7: 2.47 | BW7: 2.48 | BX7: 2.49 | BY7: 2.50 | BZ7: 2.51 | CA7: 2.52 | CB7: 2.53 | CC7: 2.54 | CD7: 2.55 | CE7: 2.56 | CF7: 2.57 | CG7: 2.58 | CH7: 2.59 | CI7: 2.60 | CJ7: 2.61 | CK7: 2.62 | CL7: 2.63 | CM7: 2.64 | CN7: 2.65 | CO7: 2.66 | CP7: 2.67 | CQ7: 2.68 | CR7: 2.69 | CS7: 2.70 | CT7: 2.71 | CU7: 2.72 | CV7: 2.73 | CW7: 2.74 | CX7: 2.75 | CY7: 2.76 | CZ7: 2.77 | DA7: 2.78 | DB7: 2.79 | DC7: 2.80 | DD7: 2.81 | DE7: 2.82 | DF7: 2.83 | DG7: 2.84 | DH7: 2.85 | DI7: 2.86 | DJ7: 2.87 | DK7: 2.88 | DL7: 2.89 | DM7: 2.90 | DN7: 2.91 | DO7: 2.92 | DP7: 2.93 | DQ7: 2.94 | DR7: 2.95 | DS7: 2.96 | DT7: 2.97 | DU7: 2.98 | DV7: 2.99 | DW7: 2.100 | DX7: 2.101 | DY7: 2.102 | DZ7: 2.103 | EA7: 2.104 | EB7: 2.105 | EC7: 2.106 | ED7: 2.107 | EE7: 2.108 | EF7: 2.109 | EG7: 2.110 | EH7: 2.111 | EI7: 2.112 | EJ7: 2.113 | EK7: 2.114 | EL7: 2.115 | EM7: 2.116 | EN7: 2.117 | EO7: 2.118 | EP7: 2.119 | EQ7: 2.120 | ER7: 2.121 | ES7: 2.122 | ET7: 2.123 | EU7: 2.124 | EV7: 2.125 | EW7: 2.126 | EX7: 2.127 | EY7: 2.128 | EZ7: 2.129 | FA7: 2.130 | FB7: 2.131 | FC7: 2.132 | FD7: 2.133 | FE7: 2.134 | FF7: 2.135 | FG7: 2.136 | FH7: 2.137 | FI7: 2.138 | FJ7: 2.139 | FK7: 2.140 | FL7: 2.141 | FM7: 2.142 | FN7: 2.143 | FO7: 2.144 | FP7: 2.145 | FQ7: 2.146 | FR7: 2.147 | FS7: 2.148 | FT7: 2.149 | FU7: 2.150 | FV7: 2.151 | FW7: 2.152 | FX7: 2.153 | FY7: 2.154 | FZ7: 2.155 | GA7: 2.156 | GB7: 2.157 | GC7: 2.158 | GD7: 2.159 | GE7: 2.160 | GF7: 2.161 | GG7: 3.1 | GH7: 3.2 | GI7: 3.3 | GJ7: 3.4 | GK7: 3.5 | GL7: 4.1 | GM7: 4.2 | GN7: 4.3 | GO7: 4.4 | GP7: 4.5 | GQ7: 4.6 | GR7: 4.7 | GS7: 4.8 | GT7: 4.9 | GU7: 4.10 | GV7: 4.11 | GW7: 4.12 | GX7: 4.13 | GY7: 4.14 | GZ7: 4.15 | HA7: 4.16 | HB7: 4.17 | HC7: 4.18 | HD7: 4.19 | HE7: 4.20 | HF7: 4.21 | HG7: 4.22 | HH7: 4.23 | HI7: 4.24 | HJ7: 4.25 | HK7: 4.26 | HL7: 4.27 | HM7: 4.28 | HN7: 4.29 | HO7: 4.30 | HP7: 4.31 | HR7: 4.32 | HS7: 4.33 | HT7: 4.34 | HU7: 4.35 | HV7: 4.36 | HW7: 4.37 | HX7: 4.38 | HY7: 4.39 | HZ7: 4.40 | IA7: 4.41 | IB7: 4.42 | IC7: 4.43 | ID7: 4.44 | IE7: 4.45 | IF7: 4.46 | IG7: 4.47 | IH7: 4.48 | II7: 4.49 | IJ7: 4.50 | IK7: 4.51 | IL7: 4.52 | IM7: 4.53 | IN7: 4.54 | IO7: 4.55 | IP7: 4.56 | IQ7: 4.57 | IR7: 4.58 | IS7: 4.59 | IT7: 4.60 | IU7: 4.61 | IV7: 4.62 | IW7: 4.63 | IX7: 4.64 | IY7: 4.65 | IZ7: 4.66 | JA7: 4.67 | JB7: 4.68 | JC7: 4.69 | JD7: 4.70 | JE7: 4.71 | JF7: 4.72 | JG7: 4.73 | JH7: 4.74 | JI7: 4.75 | JJ7: 4.76 | JK7: 4.77 | JL7: 4.78 | JM7: 4.79 | JN7: 4.80 | JO7: 4.81 | JP7: 4.82 | JQ7: 4.83 | JR7: 4.84 | JS7: 4.85 | JT7: 4.86 | JU7: 4.87 | JV7: 4.88 | JW7: 4.89 | JX7: 4.90 | JY7: 4.91 | JZ7: 4.92 | KA7: 4.93 | KB7: 4.94 | KC7: 4.95 | KD7: 4.96 | KE7: 4.97 | KF7: 4.98 | KG7: 4.99 | KH7: 4.100 | KI7: 4.101 | KJ7: 4.102 | KK7: 4.103 | KL7: 4.104 | KM7: 4.105 | KN7: 4.106 | KO7: 4.107 | KP7: 4.108 | KQ7: 4.109 | KR7: 4.110 | KS7: 4.111 | KT7: 4.112 | KU7: 4.113 | KV7: 4.114 | KW7: 4.115 | KX7: 4.116 | KY7: 4.117 | KZ7: 4.118 | LA7: 4.119 | LB7: 4.120 | LC7: 4.121 | LD7: 4.122 | LE7: 4.123 | LF7: 4.124 | LG7: 4.125 | LH7: 4.126 | LI7: 4.127 | LJ7: 4.128 | LK7: 4.129 | LL7: 4.130 | LM7: 4.131 | LN7: 4.132 | LO7: 4.133 | LP7: 4.134 | LQ7: 4.135 | LR7: 4.136 | LS7: 4.137 | LT7: 4.138 | LU7: 4.139 | LV7: 4.140 | LW7: 4.141 | LX7: 4.142 | LY7: 4.143 | LZ7: 4.144 | MA7: 4.145 | MB7: 4.146 | MC7: 4.147 | MD7: 4.148 | ME7: 4.149 | MF7: 4.150 | MG7: 4.151 | MH7: 4.152 | MI7: 4.153 | MJ7: 4.154 | MK7: 4.155 | ML7: 4.156 | MM7: 4.157 | MN7: 4.158 | MO7: 4.159 | MP7: 4.160 | MQ7: 4.161 | MR7: 5.1 | MS7: 6.1 | MT7: 6.2 | MU7: 6.3 | MV7: 6.4 | MW7: 6.5 | MX7: 7.1 | MY7: 8.1 | MZ7: 8.2 | NA7: 8.3 | NB7: 8.4 | NC7: 8.5 | ND7: 9.1 | NE7: 10.1 | NF7: 10.2 | NG7: 10.3 | NH7: 10.4 | NI7: 10.5 | NJ7: 11.1 | NK7: 12.1 | NL7: 12.2 | NM7: 12.3 | NN7: 12.4 | NO7: 12.5 | NP7: 12.6 | NQ7: 12.7 | NR7: 12.8 | NS7: 12.9 | NT7: 12.10 | NU7: 12.11 | NV7: 13.1 | NW7: 13.2 | NX7: 13.3 | NY7: 13.4 | NZ7: 13.5 | OA7: 13.6 | OB7: 13.7 | OC7: 13.8 | OD7: 13.9 | OE7: 13.10 | OF7: 13.11 | OG7: 14.1 | OH7: 15.1 | OI7: 16.1 | OJ7: 17.1 | OK7: 17.2 | OL7: 17.3 | OM7: 17.4 | ON7: 17.5 | OO7: 17.6 | OP7: 17.7 | OQ7: 17.8 | OR7: 17.9 | OS7: 17.10 | OT7: 17.11 | OU7: 18.1
A8: 1 | B8: Clapetă de sens unic (supapă) D20 mm (3/4) | C8: buc | D8: 110.41 | E8: https://term.md/ru/catalog/fitinguri-profactor/vane-de-mixare/PFCV241P/ | F8: 99 | G8: 90 | H8: 76 | I8: =MIN(D8,F8) -> 99 | J8: 1 | K8: 1 | L8: 1 | Y8: 1 | Z8: 1 | AA8: 1 | AB8: 1 | AC8: 1 | AD8: 1 | AE8: 1 | AF8: 1 | AG8: 1 | AH8: 1 | AI8: 1 | AJ8: 1 | AK8: 1 | AL8: 1 | AM8: 1 | AN8: 1 | AO8: 1
A9: 2 | B9: Clapetă de sens unic (supapă) D25 mm (1”) | C9: buc | D9: =184.6/1.2 -> 153.83333 | E9: https://term.md/ru/catalog/fitinguri-profactor/vane-de-mixare/PFCV242/ | G9: 115 | H9: 196.38 | I9: =D9 -> 153.83333 | AP9: 1 | AQ9: 1 | AR9: 1 | AS9: 1 | AT9: 1 | AU9: 1 | AV9: 1 | AW9: 1 | AX9: 1 | AY9: 1 | AZ9: 1 | BA9: 1 | BB9: 1 | BC9: 1 | BD9: 1 | BE9: 1 | BF9: 1 | BG9: 1 | BH9: 1 | BI9: 1 | BJ9: 1 | BK9: 1 | BL9: 1 | BM9: 1 | BN9: 1 | BO9: 1 | BP9: 1 | BQ9: 1 | BR9: 1 | BS9: 1 | BT9: 1 | BU9: 1 | BV9: 1
A10: 3 | B10: Clapetă de sens unic (supapă) D32 mm (1 1/4) | C10: buc | D10: 257.36 | E10: https://term.md/ru/catalog/fitinguri-profactor/vane-de-mixare/PFCV24932/ | G10: 174.17 | H10: 260 | I10: =D10 -> 257.36 | M10: 1 | BW10: 1 | BX10: 1 | BY10: 1 | BZ10: 1 | CA10: 1 | CB10: 1 | CC10: 1 | CD10: 1 | CE10: 1 | CF10: 1 | CG10: 1 | CH10: 1 | CI10: 1 | CJ10: 1 | CK10: 1
A11: 4 | B11: Clapetă de sens unic (supapă) D40 mm (1 1/2) | C11: buc | D11: 354.68 | E11: https://term.md/ru/catalog/fitinguri-profactor/vane-de-mixare/PFCV24940/ | G11: 251.67 | H11: 354.68 | I11: =D11 -> 354.68 | CL11: 1 | CM11: 1 | CN11: 1 | CO11: 1 | CP11: 1 | CQ11: 1 | CR11: 1 | CS11: 1 | CT11: 1 | CU11: 1 | CV11: 1 | CW11: 1 | CX11: 1 | CY11: 1
A12: 5 | B12: Clapetă de sens unic (supapă) D50 mm (2”) | C12: buc | D12: 438.21 | E12: https://term.md/ru/catalog/fitinguri-profactor/PFCV24950/?sphrase_id=8321 | F12: 99 | G12: 450 | H12: 438.21 | I12: =MIN(D12,F12) -> 99 | N12: 1 | O12: 1 | CZ12: 1 | DA12: 1 | DB12: 1 | DC12: 1 | DD12: 1 | DE12: 1 | DF12: 1 | DG12: 1 | DH12: 1 | DI12: 1 | DJ12: 1 | DK12: 1 | DL12: 1
A13: 6 | B13: Clapetă de sens unic (supapă) D65 mm (2 1/2) | C13: buc | D13: =811/1.2 -> 675.83333 | E13: https://uniplast.md/ro/product/supapa-fonta-de-sens-cu-arc-intre-flanse-d-65-pn1016-l45-mm-gjl-250-wato | G13: 651.67 | H13: 675.83333 | I13: =D13 -> 675.83333 | DM13: 1 | DN13: 1 | DO13: 1 | DP13: 1 | DQ13: 1 | DR13: 1 | DS13: 1 | DT13: 1 | DU13: 1 | DV13: 1 | DW13: 1 | DX13: 1
A14: 7 | B14: Clapetă de sens unic (supapă) D75 mm | C14: buc | D14: 791.67 | E14: https://hydrosystems.md/supape-de-sens-cu-flanse/supap%C4%83-de-sens-tip-wafer-hydro-s-80-mm | G14: 651.67 | H14: 791.67 | I14: =D14 -> 791.67 | DY14: 1 | DZ14: 1 | EA14: 1 | EB14: 1 | EC14: 1 | ED14: 1 | EE14: 1 | EF14: 1 | EG14: 1 | EH14: 1 | EI14: 1
A15: 8 | B15: Clapetă reversibilă (supapă de reținere) D90 mm | C15: buc | D15: 2590 | G15: 3500 | H15: 2590 | I15: =D15 -> 2590 | P15: 1 | Q15: 1 | EJ15: 1 | EK15: 1 | EL15: 1 | EM15: 1 | EN15: 1 | EO15: 1 | EP15: 1 | EQ15: 1 | ER15: 1 | ES15: 1
A16: 9 | B16: Clapetă reversibilă (supapă de reținere) D100 mm | C16: buc | D16: 2707.5 | G16: 4115.83 | H16: 2707.5 | I16: =D16 -> 2707.5 | R16: 1 | ET16: 1 | EU16: 1 | EV16: 1 | EW16: 1 | EX16: 1 | EY16: 1 | EZ16: 1 | FA16: 1 | FB16: 1
A17: 10 | B17: Clapetă reversibilă (supapă de reținere) D125 mm | C17: buc | D17: =4528.5/1.2 -> 3773.75 | E17: https://uniplast.md/ro/product/supapa-fonta-de-retinere-flanse-cu-bila-d125-pn16-l350-mm-8-gauri-wato | G17: 3958.33 | H17: 4528.5 | I17: =D17 -> 3773.75 | S17: 1 | FC17: 1 | FD17: 1 | FE17: 1 | FF17: 1 | FG17: 1 | FH17: 1 | FI17: 1 | FJ17: 1
A18: 11 | B18: Clapetă reversibilă (supapă de reținere) D150 mm | C18: buc | D18: 6016.25 | E18: https://uniplast.md/ro/6087033/ | G18: 6016.25 | H18: 6016.25 | I18: =D18 -> 6016.25 | T18: 1 | FK18: 1 | FL18: 1 | FM18: 1 | FN18: 1 | FO18: 1 | FP18: 1 | FQ18: 1 | FR18: 1 | FS18: 1 | FT18: 1 | FU18: 1 | FV18: 1 | FW18: 1 | FX18: 1 | FY18: 1 | FZ18: 1 | GA18: 1 | GB18: 1
A19: 12 | B19: Clapetă reversibilă (supapă de reținere) D200 mm | C19: buc | D19: =13000/1.2 -> 10833.333 | E19: https://tehnoconduct.md/product/supapa-fonta-cu-flanse-d200-tecofi-0000005917 | G19: 9049.1667 | H19: 10859 | I19: =D19 -> 10833.333 | U19: 1 | V19: 1 | GC19: 1 | GD19: 1 | GE19: 1 | GF19: 1
A20: 13 | B20: Clapetă reversibilă (supapă de reținere) D250 mm | C20: buc | D20: =24600/1.2 -> 20500 | E20: https://tehnoconduct.md/product/supapa-fonta-cu-flanse-d250-tecofi-0000005918 | G20: 15098.333 | H20: 15098.333 | I20: =D20 -> 20500 | W20: 1
A21: 14 | B21: Clapetă reversibilă (supapă de reținere) D300 mm | C21: buc | D21: =D20 -> 20500 | G21: 21404.583 | H21: 21404.583 | I21: =D21 -> 20500 | X21: 1
A22: 15 | B22: Filtru D = 20 mm (3/4) | C22: buc | D22: =171.5/1.2 -> 142.91667 | E22: https://www.metroterm.md/filtru-alama-34f-kalde-4-37822 | F22: 119 | G22: 82.5 | H22: 60 | I22: =MIN(D22,F22) -> 119 | J22: 1 | K22: 1 | L22: 1 | Y22: 1 | Z22: 1 | AA22: 1 | AB22: 1 | AC22: 1 | AD22: 1 | AE22: 1 | AF22: 1 | AG22: 1 | AH22: 1 | AI22: 1 | AJ22: 1 | AK22: 1 | AL22: 1 | AM22: 1 | AN22: 1 | AO22: 1
A23: 16 | B23: Filtru D = 25 mm (1) | C23: buc | D23: 185 | E23: https://www.metroterm.md/filtru-alama-1f-kalde-4-37821 | G23: 104.17 | H23: 185 | I23: =D23 -> 185 | AP23: 1 | AQ23: 1 | AR23: 1 | AS23: 1 | AT23: 1 | AU23: 1 | AV23: 1 | AW23: 1 | AX23: 1 | AY23: 1 | AZ23: 1 | BA23: 1 | BB23: 1 | BC23: 1 | BD23: 1 | BE23: 1 | BF23: 1 | BG23: 1 | BH23: 1 | BI23: 1 | BJ23: 1 | BK23: 1 | BL23: 1 | BM23: 1 | BN23: 1 | BO23: 1 | BP23: 1 | BQ23: 1 | BR23: 1 | BS23: 1 | BT23: 1 | BU23: 1 | BV23: 1
A24: 17 | B24: Filtru D = 32 mm (1 1/4”) | C24: buc | D24: 316.04 | E24: https://uniplast.md/ro/product/filtru-y-d-114-alama-pn20-192-itap https://www.metroterm.md/filtru-alama-114f-kalde-4-37820 | G24: 275 | H24: 316.04 | I24: =D24 -> 316.04 | M24: 1 | BW24: 1 | BX24: 1 | BY24: 1 | BZ24: 1 | CA24: 1 | CB24: 1 | CC24: 1 | CD24: 1 | CE24: 1 | CF24: 1 | CG24: 1 | CH24: 1 | CI24: 1 | CJ24: 1 | CK24: 1
A25: 18 | B25: Filtru D = 40 mm (1 1/2”) | C25: buc | D25: 367.5 | E25: https://www.metroterm.md/filtru-alama-112f-kalde-4-38413 | G25: 241.67 | H25: 367.5 | I25: =D25 -> 367.5 | CL25: 1 | CM25: 1 | CN25: 1 | CO25: 1 | CP25: 1 | CQ25: 1 | CR25: 1 | CS25: 1 | CT25: 1 | CU25: 1 | CV25: 1 | CW25: 1 | CX25: 1 | CY25: 1
A26: 19 | B26: Filtru D = 50 mm (2”) | C26: buc | D26: 786.558 | E26: https://www.metroterm.md/filtru-alama-2f-kalde-4-38414 | G26: 329.17 | H26: 786.558 | I26: =D26 -> 786.558 | N26: 1 | O26: 1 | P26: 1 | CZ26: 1 | DA26: 1 | DB26: 1 | DC26: 1 | DD26: 1 | DE26: 1 | DF26: 1 | DG26: 1 | DH26: 1 | DI26: 1 | DJ26: 1 | DK26: 1 | DL26: 1
A27: 20 | B27: Filtru D = 65 mm (2 1/2”) | C27: buc | D27: 1451.25 | E27: https://uniplast.md/ro/5693996/ | G27: 1325 | H27: 1451.25 | I27: =D27 -> 1451.25 | Q27: 1 | DM27: 1 | DN27: 1 | DO27: 1 | DP27: 1 | DQ27: 1 | DR27: 1 | DS27: 1 | DT27: 1 | DU27: 1 | DV27: 1 | DW27: 1 | DX27: 1
A28: 21 | B28: Filtru D = 80 mm (3”) | C28: buc | D28: =1200/1.2 -> 1000 | E28: https://uniplast.md/ro/product/filtru-d-80-fonta -cu-flanse-l310-mm-8-gauri | G28: 2125 | H28: 1200 | I28: =D28 -> 1000 | R28: 1 | DY28: 1 | DZ28: 1 | EA28: 1 | EB28: 1 | EC28: 1 | ED28: 1 | EE28: 1 | EF28: 1 | EG28: 1 | EH28: 1 | EI28: 1 | EJ28: 1 | EK28: 1 | EL28: 1 | EM28: 1 | EN28: 1 | EO28: 1 | EP28: 1 | EQ28: 1 | ER28: 1 | ES28: 1
A29: 22 | B29: Filtru D = 100 mm (4”) | C29: buc | D29: 2300 | G29: 3125 | H29: 2300 | I29: =D29 -> 2300 | S29: 1 | ET29: 1 | EU29: 1 | EV29: 1 | EW29: 1 | EX29: 1 | EY29: 1 | EZ29: 1 | FA29: 1 | FB29: 1
A30: 23 | B30: Filtru D = 125 mm (5”) | C30: buc | D30: 4206 | E30: https://uniplast.md/ro/5802082/ | G30: 3691.67 | H30: 3505 | I30: =D30 -> 4206 | T30: 1 | FC30: 1 | FD30: 1 | FE30: 1 | FF30: 1 | FG30: 1 | FH30: 1 | FI30: 1 | FJ30: 1
A31: 24 | B31: Filtru D = 150 mm (6”) | C31: buc | D31: 4616 | G31: 6562.5 | H31: 4616 | I31: =D31 -> 4616 | U31: 1 | FK31: 1 | FL31: 1 | FM31: 1 | FN31: 1 | FO31: 1 | FP31: 1 | FQ31: 1 | FR31: 1 | FS31: 1 | FT31: 1 | FU31: 1 | FV31: 1 | FW31: 1 | FX31: 1 | FY31: 1 | FZ31: 1 | GA31: 1 | GB31: 1
A32: 25 | B32: Filtru D = 200 mm (8”) | C32: buc | D32: 8104 | E32: https://uniplast.md/ro/5802079/ | G32: 9162.5 | H32: 7327.08 | I32: =D32 -> 8104 | V32: 1 | GC32: 1 | GD32: 1 | GE32: 1 | GF32: 1
A33: 26 | B33: Filtru D = 250 mm (10”) | C33: buc | D33: 14966.5 | E33: https://uniplast.md/ro/5802080/ | G33: 12166.67 | H33: 12472.08 | I33: =D33 -> 14966.5 | W33: 1
A34: 27 | B34: Filtru D = 300 mm (12”) | C34: buc | D34: 16825 | G34: 16825 | H34: 16825 | I34: =D34 -> 16825 | X34: 1
A35: 28 | B35: Niplu dn 20 (3/4) | C35: buc | D35: 26.67 | E35: https://uniplast.md/ro/product/niplu-d-34-alama-pl | F35: 105 | G35: 21.67 | H35: 13.6 | I35: =MIN(D35,F35) -> 26.67 | J35: 2 | Y35: 2 | Z35: 2 | AA35: 2 | AB35: 2 | AC35: 2 | AD35: 2 | AE35: 2 | AF35: 2 | AG35: 2 | AH35: 2 | AI35: 2 | AJ35: 2 | AK35: 2 | AL35: 2 | AM35: 2 | AN35: 2 | AO35: 2
A36: 29 | B36: Niplu dn 25 (1) | C36: buc | D36: =37/1.23 -> 30.081301 | E36: https://uniplast.md/ro/product/niplu-d-1-alama | G36: 39.83 | H36: 37.5 | I36: =D36 -> 30.081301 | K36: 2 | L36: 2 | AP36: 2 | AQ36: 2 | AR36: 2 | AS36: 2 | AT36: 2 | AU36: 2 | AV36: 2 | AW36: 2 | AX36: 2 | AY36: 2 | AZ36: 2 | BA36: 2 | BB36: 2 | BC36: 2 | BD36: 2 | BE36: 2 | BF36: 2 | BG36: 2 | BH36: 2 | BI36: 2 | BJ36: 2 | BK36: 2 | BL36: 2 | BM36: 2 | BN36: 2 | BO36: 2 | BP36: 2 | BQ36: 2 | BR36: 2 | BS36: 2 | BT36: 2 | BU36: 2 | BV36: 2
A37: 30 | B37: Niplu dn 32 (1 1/4) | C37: buc | D37: 70.42 | E37: https://uniplast.md/ro/429866/ | G37: 61.92 | H37: 70.42 | I37: =D37 -> 70.42 | M37: 2 | BW37: 2 | BX37: 2 | BY37: 2 | BZ37: 2 | CA37: 2 | CB37: 2 | CC37: 2 | CD37: 2 | CE37: 2 | CF37: 2 | CG37: 2 | CH37: 2 | CI37: 2 | CJ37: 2 | CK37: 2
A38: 31 | B38: Niplu dn 40 (1 1/2) | C38: buc | D38: 80 | E38: https://uniplast.md/ro/436082/ | G38: 76.67 | H38: 80 | I38: =D38 -> 80 | N38: 2 | CL38: 2 | CM38: 2 | CN38: 2 | CO38: 2 | CP38: 2 | CQ38: 2 | CR38: 2 | CS38: 2 | CT38: 2 | CU38: 2 | CV38: 2 | CW38: 2 | CX38: 2 | CY38: 2
A39: 32 | B39: Niplu dn 50 (2) | C39: buc | D39: =129.5/1.2 -> 107.91667 | E39: https://uniplast.md/ro/43 6068/ | G39: 122.83 | H39: 100.83 | I39: =D39 -> 107.91667 | O39: 2 | CZ39: 2 | DA39: 2 | DB39: 2 | DC39: 2 | DD39: 2 | DE39: 2 | DF39: 2 | DG39: 2 | DH39: 2 | DI39: 2 | DJ39: 2 | DK39: 2 | DL39: 2 | DY39: 2 | DZ39: 2 | EA39: 2 | EB39: 2 | EC39: 2 | ED39: 2 | EE39: 2 | EF39: 2 | EG39: 2 | EH39: 2 | EI39: 2 | EJ39: 2 | EK39: 2 | EL39: 2 | EM39: 2 | EN39: 2 | EO39: 2 | EP39: 2 | EQ39: 2 | ER39: 2 | ES39: 2 | ET39: 2 | EU39: 2 | EV39: 2 | EW39: 2 | EX39: 2 | EY39: 2 | EZ39: 2 | FA39: 2 | FB39: 2 | FC39: 2 | FD39: 2 | FE39: 2 | FF39: 2 | FG39: 2 | FH39: 2 | FI39: 2 | FJ39: 2 | FK39: 2 | FL39: 2 | FM39: 2 | FN39: 2 | FO39: 2 | FP39: 2 | FQ39: 2 | FR39: 2 | FS39: 2 | FT39: 2 | FU39: 2 | FV39: 2 | FW39: 2 | GC39: 2 | GD39: 2 | GE39: 2 | GF39: 2
A40: 33 | B40: Sigiliu | C40: buc | D40: 3.75 | E40: https://uniplast.md/ro/product/sigilii-pentru-contor-apa-super-snap | F40: 3.38 | G40: 2.75 | H40: 3.38 | I40: =MIN(D40,F40) -> 3.38 | J40: 1 | K40: 1 | L40: 1 | M40: 1 | N40: 1 | O40: 1 | P40: 1 | Q40: 1 | R40: 1 | S40: 1 | T40: 1 | U40: 1 | V40: 1 | W40: 1 | X40: 1 | Y40: 1 | Z40: 1 | AA40: 1 | AB40: 1 | AC40: 1 | AD40: 1 | AE40: 1 | AF40: 1 | AG40: 1 | AH40: 1 | AI40: 1 | AJ40: 1 | AK40: 1 | AL40: 1 | AM40: 1 | AN40: 1 | AO40: 1 | AP40: 1 | AQ40: 1 | AR40: 1 | AS40: 1 | AT40: 1 | AU40: 1 | AV40: 1 | AW40: 1 | AX40: 1 | AY40: 1 | AZ40: 1 | BA40: 1 | BB40: 1 | BC40: 1 | BD40: 1 | BE40: 1 | BF40: 1 | BG40: 1 | BH40: 1 | BI40: 1 | BJ40: 1 | BK40: 1 | BL40: 1 | BM40: 1 | BN40: 1 | BO40: 1 | BP40: 1 | BQ40: 1 | BR40: 1 | BS40: 1 | BT40: 1 | BU40: 1 | BV40: 1 | BW40: 1 | BX40: 1 | BY40: 1 | BZ40: 1 | CA40: 1 | CB40: 1 | CC40: 1 | CD40: 1 | CE40: 1 | CF40: 1 | CG40: 1 | CH40: 1 | CI40: 1 | CJ40: 1 | CK40: 1 | CL40: 1 | CM40: 1 | CN40: 1 | CO40: 1 | CP40: 1 | CQ40: 1 | CR40: 1 | CS40: 1 | CT40: 1 | CU40: 1 | CV40: 1 | CW40: 1 | CX40: 1 | CY40: 1 | CZ40: 1 | DA40: 1 | DB40: 1 | DC40: 1 | DD40: 1 | DE40: 1 | DF40: 1 | DG40: 1 | DH40: 1 | DI40: 1 | DJ40: 1 | DK40: 1 | DL40: 1 | DM40: 1 | DN40: 1 | DO40: 1 | DP40: 1 | DQ40: 1 | DR40: 1 | DS40: 1 | DT40: 1 | DU40: 1 | DV40: 1 | DW40: 1 | DX40: 1 | DY40: 1 | DZ40: 1 | EA40: 1 | EB40: 1 | EC40: 1 | ED40: 1 | EE40: 1 | EF40: 1 | EG40: 1 | EH40: 1 | EI40: 1 | EJ40: 1 | EK40: 1 | EL40: 1 | EM40: 1 | EN40: 1 | EO40: 1 | EP40: 1 | EQ40: 1 | ER40: 1 | ES40: 1 | ET40: 1 | EU40: 1 | EV40: 1 | EW40: 1 | EX40: 1 | EY40: 1 | EZ40: 1 | FA40: 1 | FB40: 1 | FC40: 1 | FD40: 1 | FE40: 1 | FF40: 1 | FG40: 1 | FH40: 1 | FI40: 1 | FJ40: 1 | FK40: 1 | FL40: 1 | FM40: 1 | FN40: 1 | FO40: 1 | FP40: 1 | FQ40: 1 | FR40: 1 | FS40: 1 | FT40: 1 | FU40: 1 | FV40: 1 | FW40: 1 | FX40: 1 | FY40: 1 | FZ40: 1 | GA40: 1 | GB40: 1 | GC40: 1 | GD40: 1 | GE40: 1 | GF40: 1 | GL40: 1 | GM40: 1 | GN40: 1 | GO40: 1 | GP40: 1 | GQ40: 1 | GR40: 1 | GS40: 1 | GT40: 1 | GU40: 1 | GV40: 1 | GW40: 1 | GX40: 1 | GY40: 1 | GZ40: 1 | HA40: 1 | HB40: 1 | HC40: 1 | HD40: 1 | HE40: 1 | HF40: 1 | HG40: 1 | HH40: 1 | HI40: 1 | HJ40: 1 | HK40: 1 | HL40: 1 | HM40: 1 | HN40: 1 | HO40: 1 | HP40: 1 | HQ40: 1 | HR40: 1 | HS40: 1 | HT40: 1 | HU40: 1 | HV40: 1 | HW40: 1 | HX40: 1 | HY40: 1 | HZ40: 1 | IA40: 1 | IB40: 1 | IC40: 1 | ID40: 1 | IE40: 1 | IF40: 1 | IG40: 1 | IH40: 1 | II40: 1 | IJ40: 1 | IK40: 1 | IL40: 1 | IM40: 1 | IN40: 1 | IO40: 1 | IP40: 1 | IQ40: 1 | IR40: 1 | IS40: 1 | IT40: 1 | IU40: 1 | IV40: 1 | IW40: 1 | IX40: 1 | IY40: 1 | IZ40: 1 | JA40: 1 | JB40: 1 | JC40: 1 | JD40: 1 | JE40: 1 | JF40: 1 | JG40: 1 | JH40: 1 | JI40: 1 | JJ40: 1 | JK40: 1 | JL40: 1 | JM40: 1 | JN40: 1 | JO40: 1 | JP40: 1 | JQ40: 1 | JR40: 1 | JS40: 1 | JT40: 1 | JU40: 1 | JV40: 1 | JW40: 1 | JX40: 1 | JY40: 1 | JZ40: 1 | KA40: 1 | KB40: 1 | KC40: 1 | KD40: 1 | KE40: 1 | KF40: 1 | KG40: 1 | KH40: 1 | KI40: 1 | KJ40: 1 | KK40: 1 | KL40: 1 | KM40: 1 | KN40: 1 | KO40: 1 | KP40: 1 | KQ40: 1 | KR40: 1 | KS40: 1 | KT40: 1 | KU40: 1 | KV40: 1 | KW40: 1 | KX40: 1 | KY40: 1 | KZ40: 1 | LA40: 1 | LB40: 1 | LC40: 1 | LD40: 1 | LE40: 1 | LF40: 1 | LG40: 1 | LH40: 1 | LI40: 1 | LJ40: 1 | LK40: 1 | LL40: 1 | LM40: 1 | LN40: 1 | LO40: 1 | LP40: 1 | LQ40: 1 | LR40: 1 | LS40: 1 | LT40: 1 | LU40: 1 | LV40: 1 | LW40: 1 | LX40: 1 | LY40: 1 | LZ40: 1 | MA40: 1 | MB40: 1 | MC40: 1 | MD40: 1 | ME40: 1 | MF40: 1 | MG40: 1 | MH40: 1 | MI40: 1 | MJ40: 1 | MK40: 1 | ML40: 1 | MM40: 1 | MN40: 1 | MO40: 1 | MP40: 1 | MQ40: 1 | MS40: 2 | MT40: 2 | MU40: 2 | MV40: 2 | MW40: 2 | MX40: 1 | MY40: 1 | MZ40: 1 | NA40: 1 | NB40: 1 | NC40: 1 | ND40: 1 | NE40: 1 | NF40: 1 | NG40: 1 | NH40: 1 | NI40: 1 | NK40: 1 | NL40: 1 | NM40: 1 | NN40: 1 | NO40: 1 | NP40: 1 | NQ40: 1 | NR40: 1 | NS40: 1 | NT40: 1 | NU40: 1 | NV40: 2 | NW40: 2 | NX40: 2 | NY40: 2 | NZ40: 2 | OA40: 2 | OB40: 2 | OC40: 2 | OD40: 2 | OE40: 2 | OF40: 2 | OG40: 2 | OH40: 2 | OI40: 1 | OJ40: 1 | OK40: 1 | OL40: 1 | OM40: 1 | ON40: 1 | OO40: 1 | OP40: 1 | OQ40: 1 | OR40: 1 | OS40: 1 | OT40: 1
A41: 34 | B41: Cordonul sigiliului (sîrmă zincată 0,5 mm) | C41: m | D41: =429/250/1.2 -> 1.43 | E41: https://uniplast.md/ro/product/sirma-zincata-pentru-sigilii-s05-mm-l250-m | F41: 0.83 | G41: 2.08 | H41: 0.83 | I41: =MIN(D41,F41) -> 0.83 | J41: 0.8 | K41: 0.8 | L41: 0.8 | M41: 1.02 | N41: 1.6 | O41: 1.6 | P41: 1.7 | Q41: 1.7 | R41: 1.7 | S41: 1.8 | T41: 1.8 | U41: 1.8 | V41: 1.85 | W41: 1.95 | X41: 2.35 | Y41: 0.8 | Z41: 0.8 | AA41: 0.8 | AB41: 0.8 | AC41: 0.8 | AD41: 0.8 | AE41: 0.8 | AF41: 0.8 | AG41: 0.8 | AH41: 0.8 | AI41: 0.8 | AJ41: 0.8 | AK41: 0.8 | AL41: 0.8 | AM41: 0.8 | AN41: 0.8 | AO41: 0.8 | AP41: 1 | AQ41: 1 | AR41: 1 | AS41: 1 | AT41: 1 | AU41: 1 | AV41: 1 | AW41: 1 | AX41: 1 | AY41: 1 | AZ41: 1 | BA41: 1 | BB41: 1 | BC41: 1 | BD41: 1 | BE41: 1 | BF41: 1 | BG41: 1 | BH41: 1 | BI41: 1 | BJ41: 1 | BK41: 1 | BL41: 1 | BM41: 1 | BN41: 1 | BO41: 1 | BP41: 1 | BQ41: 1 | BR41: 1 | BS41: 1 | BT41: 1 | BU41: 1 | BV41: 1 | BW41: 1.02 | BX41: 1.02 | BY41: 1.02 | BZ41: 1.02 | CA41: 1.02 | CB41: 1.02 | CC41: 1.02 | CD41: 1.02 | CE41: 1.02 | CF41: 1.02 | CG41: 1.02 | CH41: 1.02 | CI41: 1.02 | CJ41: 1.02 | CK41: 1.02 | CL41: 1.275 | CM41: 1.275 | CN41: 1.275 | CO41: 1.275 | CP41: 1.275 | CQ41: 1.275 | CR41: 1.275 | CS41: 1.275 | CT41: 1.275 | CU41: 1.275 | CV41: 1.275 | CW41: 1.275 | CX41: 1.275 | CY41: 1.275 | CZ41: 1.4 | DA41: 1.4 | DB41: 1.4 | DC41: 1.4 | DD41: 1.4 | DE41: 1.4 | DF41: 1.4 | DG41: 1.4 | DH41: 1.4 | DI41: 1.4 | DJ41: 1.4 | DK41: 1.4 | DL41: 1.4 | DM41: 1.7 | DN41: 1.7 | DO41: 1.7 | DP41: 1.7 | DQ41: 1.7 | DR41: 1.7 | DS41: 1.7 | DT41: 1.7 | DU41: 1.7 | DV41: 1.7 | DW41: 1.7 | DX41: 1.7 | DY41: 1.7 | DZ41: 1.7 | EA41: 1.7 | EB41: 1.7 | EC41: 1.7 | ED41: 1.7 | EE41: 1.7 | EF41: 1.7 | EG41: 1.7 | EH41: 1.7 | EI41: 1.7 | EJ41: 1.7 | EK41: 1.7 | EL41: 1.7 | EM41: 1.7 | EN41: 1.7 | EO41: 1.7 | EP41: 1.7 | EQ41: 1.7 | ER41: 1.7 | ES41: 1.7 | ET41: 1.8 | EU41: 1.8 | EV41: 1.8 | EW41: 1.8 | EX41: 1.8 | EY41: 1.8 | EZ41: 1.8 | FA41: 1.8 | FB41: 1.8 | FC41: 1.8 | FD41: 1.8 | FE41: 1.8 | FF41: 1.8 | FG41: 1.8 | FH41: 1.8 | FI41: 1.8 | FJ41: 1.8 | FK41: 1.8 | FL41: 1.8 | FM41: 1.8 | FN41: 1.8 | FO41: 1.8 | FP41: 1.8 | FQ41: 1.8 | FR41: 1.8 | FS41: 1.8 | FT41: 1.8 | FU41: 1.8 | FV41: 1.8 | FW41: 1.8 | FX41: 1.85 | FY41: 1.85 | FZ41: 1.85 | GA41: 1.85 | GB41: 1.85 | GC41: 1.85 | GD41: 1.85 | GE41: 1.85 | GF41: 1.85 | GL41: 0.8 | GM41: 0.8 | GN41: 1.02 | GO41: 1.6 | GP41: 1.6 | GQ41: 1.7 | GR41: 1.7 | GS41: 1.7 | GT41: 1.8 | GU41: 1.8 | GV41: 1.8 | GW41: 1.85 | GX41: 1.95 | GY41: 2.35 | GZ41: 0.8 | HA41: 0.8 | HB41: 0.8 | HC41: 0.8 | HD41: 0.8 | HE41: 0.8 | HF41: 0.8 | HG41: 0.8 | HH41: 0.8 | HI41: 0.8 | HJ41: 0.8 | HK41: 0.8 | HL41: 0.8 | HM41: 0.8 | HN41: 0.8 | HO41: 0.8 | HP41: 0.8 | HQ41: 1 | HR41: 1 | HS41: 1 | HT41: 1 | HU41: 1 | HV41: 1 | HW41: 1 | HX41: 1 | HY41: 1 | HZ41: 1 | IA41: 1 | IB41: 1 | IC41: 1 | ID41: 1 | IE41: 1 | IF41: 1 | IG41: 1 | IH41: 1.02 | II41: 1.02 | IJ41: 1.02 | IK41: 1.02 | IL41: 1.02 | IM41: 1.02 | IN41: 1.02 | IO41: 1.02 | IP41: 1.02 | IQ41: 1.02 | IR41: 1.02 | IS41: 1.02 | IT41: 1.02 | IU41: 1.02 | IV41: 1.02 | IW41: 1.275 | IX41: 1.275 | IY41: 1.275 | IZ41: 1.275 | JA41: 1.275 | JB41: 1.275 | JC41: 1.275 | JD41: 1.275 | JE41: 1.275 | JF41: 1.275 | JG41: 1.275 | JH41: 1.275 | JI41: 1.275 | JJ41: 1.275 | JK41: 1.4 | JL41: 1.4 | JM41: 1.4 | JN41: 1.4 | JO41: 1.4 | JP41: 1.4 | JQ41: 1.4 | JR41: 1.4 | JS41: 1.4 | JT41: 1.4 | JU41: 1.4 | JV41: 1.4 | JW41: 1.4 | JX41: 1.7 | JY41: 1.7 | JZ41: 1.7 | KA41: 1.7 | KB41: 1.7 | KC41: 1.7 | KD41: 1.7 | KE41: 1.7 | KF41: 1.7 | KG41: 1.7 | KH41: 1.7 | KI41: 1.7 | KJ41: 1.7 | KK41: 1.7 | KL41: 1.7 | KM41: 1.7 | KN41: 1.7 | KO41: 1.7 | KP41: 1.7 | KQ41: 1.7 | KR41: 1.7 | KS41: 1.7 | KT41: 1.7 | KU41: 1.7 | KV41: 1.7 | KW41: 1.7 | KX41: 1.7 | KY41: 1.7 | KZ41: 1.7 | LA41: 1.7 | LB41: 1.7 | LC41: 1.7 | LD41: 1.7 | LE41: 1.8 | LF41: 1.8 | LG41: 1.8 | LH41: 1.8 | LI41: 1.8 | LJ41: 1.8 | LK41: 1.8 | LL41: 1.8 | LM41: 1.8 | LN41: 1.8 | LO41: 1.8 | LP41: 1.8 | LQ41: 1.8 | LR41: 1.8 | LS41: 1.8 | LT41: 1.8 | LU41: 1.8 | LV41: 1.8 | LW41: 1.8 | LX41: 1.8 | LY41: 1.8 | LZ41: 1.8 | MA41: 1.8 | MB41: 1.8 | MC41: 1.8 | MD41: 1.8 | ME41: 1.8 | MF41: 1.8 | MG41: 1.8 | MH41: 1.8 | MI41: 1.85 | MJ41: 1.85 | MK41: 1.85 | ML41: 1.85 | MM41: 1.85 | MN41: 1.85 | MO41: 1.85 | MP41: 1.85 | MQ41: 1.85 | MS41: 1.6 | MT41: 2 | MU41: =1.7*2 -> 3.4 | MV41: =1.85*2 -> 3.7 | MW41: =2.35*2 -> 4.7 | MX41: 2.35 | MY41: 0.8 | MZ41: 1 | NA41: 1.7 | NB41: 2.35 | NC41: 0.8 | ND41: 2.35 | NE41: 0.8 | NF41: 1 | NG41: =1.7 -> 1.7 | NH41: =1.85 -> 1.85 | NI41: =2.35 -> 2.35 | NK41: 1 | NL41: 1 | NM41: 1 | NN41: 1 | NO41: 1 | NP41: 1 | NQ41: 1.7 | NR41: 1.7 | NS41: 1.7 | NT41: 1.8 | NU41: 1.85 | NV41: 1.5 | NW41: 1.5 | NX41: 1.5 | NY41: 1.5 | NZ41: 1.5 | OA41: 1.5 | OB41: =1.7*2 -> 3.4 | OC41: =1.7*2 -> 3.4 | OD41: =1.7*2 -> 3.4 | OE41: =1.8*2 -> 3.6 | OF41: =1.85*2 -> 3.7 | OG41: 1.6 | OH41: 1.6 | OI41: 1 | OJ41: 1 | OK41: 1 | OL41: 1 | OM41: 1 | ON41: 1 | OO41: 1 | OP41: 1.7 | OQ41: 1.7 | OR41: 1.7 | OS41: 1.8 | OT41: 1.85
...

Sheet Materiale operator
A3: Denumirea materialelor nemijlocit utilizate la furnizare serviciului auxiliar
A4: sursa prețurilor conform facturile fiscale 2026, liste de prețuri a furnizorilor.
A6: Nr. | B6: Denumirea materialelor | C6: Unitatea de măsură | D6: Cantitatea | E6: Preț, lei
A7: 1 | B7: Ciment | C7: kg | D7: 1 | E7: 2.9
A8: 2 | B8: Cînepă fuior (cîlț) | C8: kg | D8: 1 | E8: 340
A9: 3 | B9: Clapetă de sens unic (supapă) D15 mm | C9: buc | D9: 1 | E9: 99
A10: 4 | B10: Colier (piesă) de branşare cu filet interior D=50X25 | C10: buc | D10: 1 | E10: 37
A11: 5 | B11: Contor d = 15 mmm | C11: buc | D11: 1 | E11: 365
A12: 6 | B12: Cordonul sigiliului (ață capron 0,8 mm) | C12: m | D12: 1 | E12: 0.83
A13: 7 | B13: Dop pentru bușonare D = 15mm | C13: buc | D13: 1 | E13: 18
A14: 8 | B14: Dop pentru bușonare D = 25mm | C14: buc | D14: 1 | E14: 39
A15: 9 | B15: Dop pentru bușonare, PVC, D = 110mm | C15: buc | D15: 1 | E15: 13.6
A16: 10 | B16: Electrozi | C16: kg | D16: 1 | E16: 87
A17: 11 | B17: Filtru D = 15 mm | C17: buc | D17: 1 | E17: 119
A18: 12 | B18: Foi format A4 | C18: buc | D18: 1 | E18: 0.2
A19: 13 | B19: Gaz natural (5% din valoarea materialelor) | C19: % | D19: 1 | E19: x
A20: 14 | B20: Niplu 1/2M x 1/2M | C20: buc | D20: 1 | E20: 17
A21: 15 | B21: Nisip | C21: kg | D21: 1 | E21: 0.8
A22: 16 | B22: Oxgen(5% din valoarea materialelor) | C22: % | D22: 1 | E22: x
A23: 17 | B23: Racord cu filet exterior compresiune OL/PE 25mm x 15mm | C23: buc | D23: 1 | E23: 32
A24: 18 | B24: Racord cu filet exterior compresiune OL/PE 25mm x 25mm | C24: buc | D24: 1 | E24: 32
A25: 19 | B25: Racord cu filet exterior compresiune OL/PE 32mm x 25mm | C25: buc | D25: 1 | E25: 38
A26: 20 | B26: Ventil (robinet cu bilă) D = 15 mm | C26: buc | D26: 1 | E26: 110
A27: 21 | B27: Ventil (robinet cu bilă) D = 25 mm | C27: buc | D27: 1 | E27: 239
A28: 22 | B28: Set de legătură | C28: comp. | D28: 1 | E28: 65
A29: 23 | B29: Sigiliu | C29: buc | D29: 1 | E29: 3.38
A30: 24 | B30: Ștuț cu filet din oțel (filet) D = 25mm | C30: buc | D30: 1 | E30: 11
A31: 25 | B31: Țeavă PE100 SDR 17 PN10 D = 25mm | C31: m | D31: 1 | E31: 13
A32: 26 | B32: Țeavă PVC SN4 D = 160 x 4 mm | C32: m | D32: 1 | E32: 279
A33: 27 | B33: Pasta de etansare(1 kg -500 lei) | C33: g | D33: 1 | E33: 0.4
A34: 28 | B34: Fiting (adaptor) | C34: buc | D34: 1 | E34: 12
... A101: 95 | B101: Teu Comp. 50x40x50 | C101: buc | D101: 1 | E101: 219

Sheet Preț Combustibil
A1: Data | O1: Data
A3: Data publicării | B3: Cotațiile medii Platts (lei/tona) | C3: Evoluția zilnică a Cotaților medii Platts | E3: PL*CV (lei/litru) | F3: MC | G3: AC | H3: TVA | I3: PC | O3: Data publicării | P3: Cotațiile medii Platts (lei/tona) | Q3: Evoluția zilnică a Cotaților medii Platts | S3: PL*CV (lei/litru) | T3: MC | U3: AC | V3: TVA | W3: PC
C4: lei/tona | D4: % | Q4: lei/tona | R4: %
A5: 46282 | B5: 22520.45 | C5: 123.87 | D5: 0.55 | E5: 17.07 | F5: 3.82 | G5: 7.17 | H5: 5.61 | I5: 33.67 | O5: 46282 | P5: 26405.5 | Q5: 321.21 | R5: 1.23 | S5: 22.31 | T5: 4.21 | U5: 3.36 | V5: 5.98 | W5: 35.86
A6: 46281 | B6: 22396.58 | C6: 223.48 | D6: 1.01 | E6: 16.98 | F6: 3.82 | G6: 7.17 | H6: 5.59 | I6: 33.56 | O6: 46281 | P6: 26084.29 | Q6: 376.01 | R6: 1.46 | S6: 22.04 | T6: 4.21 | U6: 3.36 | V6: 5.92 | W6: 35.53
A7: 46280 | B7: 22173.1 | C7: 101.2 | D7: 0.46 | E7: 16.8 | F7: 3.82 | G7: 7.17 | H7: 5.56 | I7: 33.35 | O7: 46280 | P7: 25708.28 | Q7: 175.57 | R7: 0.69 | S7: 21.72 | T7: 4.21 | U7: 3.36 | V7: 5.86 | W7: 35.15
A8: 46279 | B8: 22071.9 | C8: 247.91 | D8: 1.14 | E8: 16.73 | F8: 3.82 | G8: 7.17 | H8: 5.54 | I8: 33.26 | O8: 46279 | P8: 25532.71 | Q8: 508.23 | R8: 2.03 | S8: 21.57 | T8: 4.21 | U8: 3.36 | V8: 5.83 | W8: 34.97
A9: 46276 | B9: 21823.99 | C9: 293.8 | D9: 1.36 | E9: 16.54 | F9: 3.82 | G9: 7.17 | H9: 5.51 | I9: 33.04 | O9: 46276 | P9: 25024.48 | Q9: 583.65 | R9: 2.39 | S9: 21.15 | T9: 4.21 | U9: 3.36 | V9: 5.74 | W9: 34.46
A10: 46275 | B10: 21530.19 | C10: 199.58 | D10: 0.94 | E10: 16.32 | F10: 3.82 | G10: 7.17 | H10: 5.46 | I10: 32.77 | O10: 46275 | P10: 24440.83 | Q10: 357.59 | R10: 1.48 | S10: 20.65 | T10: 4.21 | U10: 3.36 | V10: 5.64 | W10: 33.86
A11: 46274 | B11: 21330.61 | C11: 282.16 | D11: 1.34 | E11: 16.17 | F11: 3.82 | G11: 7.17 | H11: 5.43 | I11: 32.59 | O11: 46274 | P11: 24083.24 | Q11: 269.43 | R11: 1.13 | S11: 20.35 | T11: 4.21 | U11: 3.36 | V11: 5.58 | W11: 33.5
A12: 46273 | B12: 21048.45 | C12: 254.24 | D12: 1.22 | E12: 15.95 | F12: 3.82 | G12: 7.17 | H12: 5.39 | I12: 32.33 | O12: 46273 | P12: 23813.81 | Q12: 281.64 | R12: 1.2 | S12: 20.12 | T12: 4.21 | U12: 3.36 | V12: 5.54 | W12: 33.23
A13: 46272 | B13: 20794.21 | C13: 156.07 | D13: 0.76 | E13: 15.76 | F13: 3.82 | G13: 7.17 | H13: 5.35 | I13: 32.1 | O13: 46272 | P13: 23532.17 | Q13: 32.49 | R13: 0.14 | S13: 19.88 | T13: 4.21 | U13: 3.36 | V13: 5.49 | W13: 32.94
A14: 46269 | B14: 20638.14 | C14: 162.84 | D14: 0.8 | E14: 15.64 | F14: 3.82 | G14: 7.17 | H14: 5.33 | I14: 31.96 | O14: 46269 | P14: 23499.68 | Q14: 67.15 | R14: 0.29 | S14: 19.86 | T14: 4.21 | U14: 3.36 | V14: 5.48 | W14: 32.91
A15: 46268 | B15: 20475.3 | C15: 191.42 | D15: 0.94 | E15: 15.52 | F15: 3.82 | G15: 7.17 | H15: 5.3 | I15: 31.81 | O15: 46268 | P15: 23432.53 | Q15: 74.43 | R15: 0.32 | S15: 19.8 | T15: 4.21 | U15: 3.36 | V15: 5.47 | W15: 32.84
A16: 46267 | B16: 20283.88 | C16: 114.52 | D16: 0.57 | E16: 15.38 | F16: 3.82 | G16: 7.17 | H16: 5.27 | I16: 31.64 | O16: 46267 | P16: 23358.1 | Q16: 72.74 | R16: 0.31 | S16: 19.73 | T16: 4.21 | U16: 3.36 | V16: 5.46 | W16: 32.76
... A120: 46113 | B120: 18584.15 | C120: 103.76 | D120: 0.56 | E120: 14.09 | F120: 3.62 | G120: 7.17 | H120: 4.97 | I120: 29.85 | O120: 46113 | P120: 23681.61 | Q120: 219.93 | R120: 0.94 | S120: 20.02 | T120: 3.64 | U120: 3.36 | V120: 5.4 | W120: 32.42
I121: =AVERAGE(I5:I120) -> 29.947759 | W121: =AVERAGE(W5:W120) -> 29.982328
G122: Tarif mediu fara TVA | I122: =I121/1.2 -> 24.956466 | U122: Tarif mediu fara TVA | W122: =W121/1.2 -> 24.985273

Sheet CPSA
B2: Funcții necesare
B3: Funcția | D3: Salariu tarifar pe oră | S3: Coef. Tarifar (mediu) | T3: Categor. | U3: Vechime munca | V3: Coef. Sofer | W3: Salariu tarifar | X3: Salariu ora
B4: Lăcătuș | D4: =X4 -> 67.659763 | F4: Cuantumul salariului minim pe țară 2026 | Q4: 6300 | R4: lei | S4: 1.2 | T4: III | U4: 0.15 | W4: =(S4*$Q$4*$Q$5)+(S4*$Q$4*$Q$5*$Q$6)+(S4*$Q$4*$Q$5*U4) -> 11434.5 | X4: =W4/$Q$7 -> 67.659763
B5: Sofer | D5: =X5 -> 64.953373 | F5: Coeficientul de complexitate (chelt. de baza) | N5: CB conform HANRE 292 din 10.06.2025 | Q5: 1.21 | S5: 1.2 | T5: III | U5: 0.1 | W5: =(S5*$Q$4*$Q$5)+(S5*$Q$4*$Q$5*$Q$6)+(S5*$Q$4*$Q$5*U5)+(S5*$Q$4*$Q$5*V5) -> 10977.12 | X5: =W5/$Q$7 -> 64.953373
B6: Excavatorist V | D6: =X6 -> 67.659763 | F6: Prima la salariu | Q6: 0.1 | S6: 1.2 | T6: III | U6: 0.15 | W6: =(S6*$Q$4*$Q$5)+(S6*$Q$4*$Q$5*$Q$6)+(S6*$Q$4*$Q$5*U6)+(S6*$Q$4*$Q$5*V6) -> 11434.5 | X6: =W6/$Q$7 -> 67.659763
B7: Electrogazosudor V | D7: =X7 -> 59.540592 | F7: Nr mediu de ore pe lună pentru un program complet de lucru (HG 165 din 09.03.2010) | Q7: 169 | R7: ore/lun | S7: 1.2 | T7: III | W7: =(S7*$Q$4*$Q$5)+(S7*$Q$4*$Q$5*$Q$6)+(S7*$Q$4*$Q$5*U7) -> 10062.36 | X7: =W7/$Q$7 -> 59.540592
B8: Masinist la excavatoare | D8: 0 | F8: Prima de asigurare obligatorie medicală achitată de angajator | R8: % | S8: =(1.4+2.07)/2 -> 1.735 | T8: V | U8: 0.1 | W8: =(S8*$Q$4*$Q$5)+(S8*$Q$4*$Q$5*$Q$6)+(S8*$Q$4*$Q$5*U8) -> 15871.086 | X8: =W8/$Q$7 -> 93.911751
B9: Maistru | D9: =X9 -> 0 | F9: Contribuţii de asigurări sociale achitate de angajator | Q9: 24 | R9: % | U9: 0 | W9: =(S9*$Q$4*$Q$5)+(S9*$Q$4*$Q$5*$Q$6)+(S9*$Q$4*$Q$5*U9) -> 0 | X9: =W9/$Q$7 -> 0
B10: Inginer la linie | D10: =X10 -> 0 | W10: =(S10*$Q$4*$Q$5)+(S10*$Q$4*$Q$5*$Q$6)+(S10*$Q$4*$Q$5*U10) -> 0 | X10: =W10/$Q$7 -> 0
B11: Funcţionari administrativi | D11: =X11 -> 45.106509 | F11: Salariu tarifar/ de funcție conform Anexa4 la H.G.R.M nr.743/2002 | S11: =Q4 -> 6300 | T11: functionar | W11: =S11*Q5 -> 7623 | X11: =W11/$Q$7 -> 45.106509
B12: Controlor ( inginer, maistru) | D12: =X12 -> 99.628107 | F12: Salariu tarifar/ de funcție conform Anexa4 la H.G.R.M nr.743/2003 | S12: 12650 | T12: functionar | W12: =(S12*$Q$5)+(S12*$Q$5*$Q$6) -> 16837.15 | X12: =W12/$Q$7 -> 99.628107
E16: Branșare în țeavă de oțel | U16: Branșare în țeavă de polietilenă, fontă | GT16: Racordarea instalațiilor interne la rețeaua publică de canalizare | HA16: Branșare în țeavă de oțel, în cazul cînd consumatorii au asigurat executarea branșamentului | HO16: Branșare în țeavă de polietilenă, fontă, în cazul cînd consumatorii au asigurat executarea branșamentului | ON16: Racordarea instalațiilor interne la rețeaua publică de canalizare, în cazul în care consumatorul a executat racordul de canalizare | OS16: Reconectarea la rețeaua publică de alimentare cu apă a instalațiilor interne de apă ale consumatorului, care anterior au fost deconectate de operator din cauza încălcării de către consumator a normelor de utilizare și/sau a clauzelor contractuale. | OW16: Reconectarea la rețeaua publică de canalizare a instalațiilor interne de canalizare ale consumatorului, care anterior au fost deconectate de către operator din cauza încălcării de către consumator a normelor de utilizare și/sau a clauzelor contractuale | OX16: Deconectarea de la rețeaua publică de alimentare cu apă a instalațiilor interne de apă, la solicitarea consumatorului, cu excepția cazurilor de reziliere a contractului pentru furnizarea serviciului public de alimentare cu apă. | PB16: Deconectarea de la rețeaua publică de canalizare a instalațiilor interne de canalizare, la solicitarea consumatorului, cu excepția cazurilor de reziliere a contractului pentru furnizarea serviciului public de canalizare | PC16: Reconectarea la rețeaua publică de alimentare cu apă a instalațiilor interne de apă, care anterior au fost deconectate la solicitarea consumatorului. | PG16: Reconectarea la reţeaua publică de canalizare a instalaţiilor interne de canalizare, care anterior au fost deconectate la solicitarea consumatorului | PH16: Instalarea și sigilarea contorului, la solicitarea consumatorului | PS16: Demontarea, remontarea și sigilarea contorului la solicitarea consumatorului | QD16: Demontarea, verificarea metrologică de expertiză, remontarea și sigilarea contorului în cazul cînd consumatorul solicită efectuarea verificării metrologice de expertiză, iar în rezultatul verificării se constată că contorul corespunde normelor | QE16: Demontarea, verificarea metrologică, remontarea și sigilarea contorului în cazul cînd acesta a fost deteriorat din vina consumatorului | QF16: Demontarea contorului deteriorat din vina consumatorului și instalarea unui alt contor, în cazul cînd contorul deteriorat nu poate fi reparat | QG16: Sigilarea contorului, la solicitarea consumatorului, în cazul deteriorării de către consumator a sigiliului aplicat de operator. | QR16: Eliberarea, la solicitarea consumatorului, din arhiva operatorului a copiilor de pe acte și de pe proiect, prezentate de consumator operatorului.
