Workbook
Name ACC_Functii: [1]!Tb_Functie[functii_acc]
Name L_Echipa: [1]!Tb_Echipe[echipa]
Name ListaFunctii: [1]!Table4[functii_acc]
Name N_Functii: [1]!Tb_NCM_Functii[functii_ncm]
Name PrPrima: [2]Constante!$B$5
Name PrVM: [2]Constante!$B$4

Sheet CMSA - ANRE
M1: =0.8/25 -> 0.032
J3: Branșare în țeavă de oțel | Y3: Branșare în țeavă de polietilenă, fontă | GG3: Racordarea instalațiilor interne la rețeaua publică de canalizare | GL3: Branșare în țeavă de oțel, în cazul cînd consumatorii au asigurat executarea branșamentului | GZ3: Branșare în țeavă de polietilenă, fontă, în cazul cînd consumatorii au asigurat executarea branșamentului | MR3: racordarea instalațiilor interne la rețeaua publică de canalizare, în cazul în care consumatorul a executat racordul de canalizare | MS3: Reconectarea la rețeaua publică de alimentare cu apă a instalațiilor interne de apă ale consumatorului, care anterior au fost deconectate de operator din cauza încălcării de către consumator a normelor de utilizare și/sau a clauzelor contractuale. | MX3: Reconectarea la rețeaua publică de canalizare a instalației interne de canalizare a consumatorului, care anterior au fost deconectate de către operator din cauza încălcării de către consumator a normelor de utilizare și/sau a clauzelor contractuale. | MY3: Deconectarea de la rețeaua publică de alimentare cu apă a instalațiilor interne de apă, la solicitarea consumatorului, cu excepția cazurilor de reziliere a contractului pentru furnizarea serviciului public de alimentare cu apă. | ND3: Deconectarea de la rețeaua publică de canalizare a instalației interne de canalizare a consumatorului la solicitarea consumatorului. | NE3: Reconectarea la rețeaua publică de alimentare cu apă a instalațiilor interne de apă, care anterior au fost deconectate la solicitarea consumatorului. | NJ3: Reconectarea la reţeaua publică de canalizare a instalaţiilor interne de canalizare, care anterior au fost deconectate la solicitarea consumatorului | NK3: Instalarea și sigilarea contorului, la solicitarea consumatorului | NV3: Demontarea, remontarea și sigilarea contorului la solicitarea consumatorului | OG3: Demontarea, verificarea metrologică de expertiză, remontarea și sigilarea contorului în cazul cînd consumatorul solicită efectuarea verificării metrologice de expertiză, iar în rezultatul verificării se constată că contorul corespunde normelor | OH3: Demontarea, verificarea metrologică, remontarea și sigilarea contorului în cazul cînd acesta a fost deteriorat din vina consumatorului | OI3: Demontarea contorului deteriorat din vina consumatorului și instalarea unui alt contor, în cazul cînd contorul deteriorat nu poate fi reparat | OJ3: Sigilarea contorului, la solicitarea consumatorului, în cazul deteriorării de către consumator a sigiliului aplicat de operator. | OU3: Eliberarea, la solicitarea consumatorului, din arhiva operatorului a copiilor de pe acte și de pe proiect, prezentate de consumator operatorului.
I4: Tip consumator | J4: casnici/noncasnici | K4: casnici | L4: noncasnici | M4: noncasnici | N4: noncasnici | O4: noncasnici | P4: noncasnici | Q4: noncasnici | R4: noncasnici | S4: noncasnici | T4: noncasnici | U4: noncasnici | V4: noncasnici | W4: noncasnici | X4: noncasnici | Y4: casnici / noncasnici | Z4: casnici / noncasnici | AA4: casnici / noncasnici | AB4: casnici / noncasnici | AC4: casnici / noncasnici | AD4: casnici / noncasnici | AE4: casnici / noncasnici | AF4: casnici / noncasnici | AG4: casnici / noncasnici | AH4: casnici / noncasnici | AI4: casnici / noncasnici | AJ4: casnici / noncasnici | AK4: casnici / noncasnici | AL4: casnici / noncasnici | AM4: casnici / noncasnici | AN4: casnici / noncasnici | AO4: casnici / noncasnici | AP4: casnici / noncasnici | AQ4: casnici | AR4: noncasnici | AS4: casnici | AT4: noncasnici | AU4: casnici | AV4: noncasnici | AW4: casnici | AX4: noncasnici | AY4: casnici | AZ4: noncasnici | BA4: casnici | BB4: noncasnici | BC4: casnici | BD4: noncasnici | BE4: casnici | BF4: noncasnici | BG4: casnici | BH4: noncasnici | BI4: casnici | BJ4: noncasnici | BK4: casnici | BL4: noncasnici | BM4: casnici | BN4: noncasnici | BO4: casnici | BP4: noncasnici | BQ4: casnici | BR4: noncasnici | BS4: casnici | BT4: noncasnici | BU4: casnici | BV4: noncasnici | BW4: casnici / noncasnici | BX4: casnici / noncasnici | BY4: noncasnici | BZ4: noncasnici | CA4: noncasnici | CB4: noncasnici | CC4: casnici / noncasnici | CD4: casnici / noncasnici | CE4: noncasnici | CF4: casnici / noncasnici | CG4: casnici / noncasnici | CH4: casnici / noncasnici | CI4: casnici / noncasnici | CJ4: casnici / noncasnici | CK4: casnici / noncasnici | CL4: casnici / noncasnici | CM4: casnici / noncasnici | CN4: casnici / noncasnici | CO4: casnici / noncasnici | CP4: casnici / noncasnici | CQ4: casnici / noncasnici | CR4: casnici / noncasnici | CS4: casnici / noncasnici | CT4: casnici / noncasnici | CU4: casnici / noncasnici | CV4: casnici / noncasnici | CW4: casnici / noncasnici | CX4: casnici / noncasnici | CY4: casnici / noncasnici | CZ4: casnici / noncasnici | DA4: noncasnici | DB4: noncasnici | DC4: noncasnici | DD4: casnici / noncasnici | DE4: casnici / noncasnici | DF4: noncasnici | DG4: casnici / noncasnici | DH4: noncasnici | DI4: casnici / noncasnici | DJ4: casnici / noncasnici | DK4: noncasnici | DL4: casnici / noncasnici | DM4: casnici / noncasnici | DN4: casnici / noncasnici | DO4: casnici / noncasnici | DP4: casnici / noncasnici | DQ4: casnici / noncasnici | DR4: casnici / noncasnici | DS4: casnici / noncasnici | DT4: casnici / noncasnici | DU4: casnici / noncasnici | DV4: casnici / noncasnici | DW4: casnici / noncasnici | DX4: casnici / noncasnici | DY4: casnici / noncasnici | DZ4: casnici / noncasnici | EA4: casnici / noncasnici | EB4: casnici / noncasnici | EC4: noncasnici | ED4: casnici / noncasnici | EE4: noncasnici | EF4: casnici / noncasnici | EG4: casnici / noncasnici | EH4: casnici / noncasnici | EI4: casnici / noncasnici | EJ4: casnici / noncasnici | EK4: casnici / noncasnici | EL4: casnici / noncasnici | EM4: casnici / noncasnici | EN4: casnici / noncasnici | EO4: casnici / noncasnici | EP4: casnici / noncasnici | EQ4: casnici / noncasnici | ER4: casnici / noncasnici | ES4: casnici / noncasnici | ET4: noncasnici | EU4: casnici / noncasnici | EV4: noncasnici | EW4: noncasnici | EX4: noncasnici | EY4: noncasnici | EZ4: noncasnici | FA4: noncasnici | FB4: noncasnici | FC4: casnici / noncasnici | FD4: casnici / noncasnici | FE4: casnici / noncasnici | FF4: casnici / noncasnici | FG4: casnici / noncasnici | FH4: casnici / noncasnici | FI4: casnici / noncasnici | FJ4: casnici / noncasnici | FK4: casnici / noncasnici | FL4: casnici / noncasnici | FM4: casnici / noncasnici | FN4: casnici / noncasnici | FO4: casnici / noncasnici | FP4: casnici / noncasnici | FQ4: casnici / noncasnici | FR4: noncasnici | FS4: noncasnici | FT4: noncasnici | FU4: noncasnici | FV4: noncasnici | FW4: noncasnici | FX4: noncasnici | FY4: noncasnici | FZ4: noncasnici | GA4: noncasnici | GB4: noncasnici | GC4: noncasnici | GD4: noncasnici | GE4: noncasnici | GF4: noncasnici | GG4: casnici/ noncasnici | GH4: casnici/ noncasnici | GI4: casnici/ noncasnici | GJ4: casnici/ noncasnici | GK4: casnici/ noncasnici | GL4: casnici/noncasnici | GM4: casnici | GN4: noncasnici | GO4: noncasnici | GP4: noncasnici | GQ4: noncasnici | GR4: noncasnici | GS4: noncasnici | GT4: noncasnici | GU4: noncasnici | GV4: noncasnici | GW4: noncasnici | GX4: noncasnici | GY4: noncasnici | GZ4: casnici / noncasnici | HA4: casnici / noncasnici | HB4: casnici / noncasnici | HC4: casnici / noncasnici | HD4: casnici / noncasnici | HE4: casnici / noncasnici | HF4: casnici / noncasnici | HG4: casnici / noncasnici | HH4: casnici / noncasnici | HI4: casnici / noncasnici | HJ4: casnici / noncasnici | HK4: casnici / noncasnici | HL4: casnici / noncasnici | HM4: casnici / noncasnici | HN4: casnici / noncasnici | HO4: casnici / noncasnici | HP4: casnici / noncasnici | HQ4: casnici / noncasnici | HR4: casnici / noncasnici | HS4: casnici / noncasnici | HT4: casnici / noncasnici | HU4: casnici / noncasnici | HV4: casnici / noncasnici | HW4: casnici / noncasnici | HX4: casnici / noncasnici | HY4: casnici / noncasnici | HZ4: casnici / noncasnici | IA4: casnici / noncasnici | IB4: casnici / noncasnici | IC4: casnici / noncasnici | ID4: casnici / noncasnici | IE4: casnici / noncasnici | IF4: casnici / noncasnici | IG4: casnici / noncasnici | IH4: casnici / noncasnici | II4: casnici / noncasnici | IJ4: noncasnici | IK4: noncasnici | IL4: noncasnici | IM4: noncasnici | IN4: casnici / noncasnici | IO4: casnici / noncasnici | IP4: noncasnici | IQ4: casnici / noncasnici | IR4: casnici / noncasnici | IS4: casnici / noncasnici | IT4: casnici / noncasnici | IU4: casnici / noncasnici | IV4: casnici / noncasnici | IW4: casnici / noncasnici | IX4: casnici / noncasnici | IY4: casnici / noncasnici | IZ4: casnici / noncasnici | JA4: casnici / noncasnici | JB4: casnici / noncasnici | JC4: casnici / noncasnici | JD4: casnici / noncasnici | JE4: casnici / noncasnici | JF4: casnici / noncasnici | JG4: casnici / noncasnici | JH4: casnici / noncasnici | JI4: casnici / noncasnici | JJ4: casnici / noncasnici | JK4: casnici / noncasnici | JL4: noncasnici | JM4: noncasnici | JN4: noncasnici | JO4: casnici / noncasnici | JP4: casnici / noncasnici | JQ4: noncasnici | JR4: casnici / noncasnici | JS4: noncasnici | JT4: casnici / noncasnici | JU4: casnici / noncasnici | JV4: noncasnici | JW4: casnici / noncasnici | JX4: casnici / noncasnici | JY4: casnici / noncasnici | JZ4: casnici / noncasnici | KA4: casnici / noncasnici | KB4: casnici / noncasnici | KC4: casnici / noncasnici | KD4: casnici / noncasnici | KE4: casnici / noncasnici | KF4: casnici / noncasnici | KG4: casnici / noncasnici | KH4: casnici / noncasnici | KI4: casnici / noncasnici | KJ4: casnici / noncasnici | KK4: casnici / noncasnici | KL4: casnici / noncasnici | KM4: casnici / noncasnici | KN4: noncasnici | KO4: casnici / noncasnici | KP4: noncasnici | KQ4: casnici / noncasnici | KR4: casnici / noncasnici | KS4: casnici / noncasnici | KT4: casnici / noncasnici | KU4: casnici / noncasnici | KV4: casnici / noncasnici | KW4: casnici / noncasnici | KX4: casnici / noncasnici | KY4: casnici / noncasnici | KZ4: casnici / noncasnici | LA4: casnici / noncasnici | LB4: casnici / noncasnici | LC4: casnici / noncasnici | LD4: casnici / noncasnici | LE4: noncasnici | LF4: casnici / noncasnici | LG4: noncasnici | LH4: noncasnici | LI4: noncasnici | LJ4: noncasnici | LK4: noncasnici | LL4: noncasnici | LM4: noncasnici | LN4: casnici / noncasnici | LO4: casnici / noncasnici | LP4: casnici / noncasnici | LQ4: casnici / noncasnici | LR4: casnici / noncasnici | LS4: casnici / noncasnici | LT4: casnici / noncasnici | LU4: casnici / noncasnici | LV4: casnici / noncasnici | LW4: casnici / noncasnici | LX4: casnici / noncasnici | LY4: casnici / noncasnici | LZ4: casnici / noncasnici | MA4: casnici / noncasnici | MB4: casnici / noncasnici | MC4: noncasnici | MD4: noncasnici | ME4: noncasnici | MF4: noncasnici | MG4: noncasnici | MH4: noncasnici | MI4: noncasnici | MJ4: noncasnici | MK4: noncasnici | ML4: noncasnici | MM4: noncasnici | MN4: noncasnici | MO4: noncasnici | MP4: noncasnici | MQ4: noncasnici | MR4: casnici/ noncasnici | MS4: casnici | MT4: noncasnici | MU4: noncasnici | MV4: noncasnici | MW4: noncasnici | MY4: casnici | MZ4: noncasnici | NA4: noncasnici | NB4: noncasnici | NC4: noncasnici | NE4: casnici | NF4: noncasnici | NG4: noncasnici | NH4: noncasnici | NI4: noncasnici | NK4: casnici/noncasnici | NL4: noncasnici | NM4: noncasnici | NN4: noncasnici | NO4: noncasnici | NP4: noncasnici | NQ4: noncasnici | NR4: noncasnici | NS4: noncasnici | NT4: noncasnici | NU4: noncasnici | NV4: casnici/noncasnici | NW4: noncasnici | NX4: noncasnici | NY4: noncasnici | NZ4: noncasnici | OA4: noncasnici | OB4: noncasnici | OC4: noncasnici | OD4: noncasnici | OE4: noncasnici | OF4: noncasnici | OH4: casnici / noncasnici | OJ4: casnici/noncasnici | OK4: noncasnici | OL4: noncasnici | OM4: noncasnici | ON4: noncasnici | OO4: noncasnici | OP4: noncasnici | OQ4: noncasnici | OR4: noncasnici | OS4: noncasnici | OT4: noncasnici
I5: Branșament | J5: PE 20 mm | K5: PE 25 mm | L5: PE 25 mm | M5: PE 32mm | N5: PE 40mm | O5: PE 50mm | P5: PE 63mm | Q5: PE 75mm | R5: PE 90mm | S5: PE 110mm | T5: PE 140mm | U5: PE 160mm | V5: PE 200mm | W5: PE 250mm | X5: PE 300mm | Y5: PE 25*20 mm | Z5: PE 32*20 mm | AA5: PE 40*20 mm | AB5: PE 50*20mm | AC5: PE 63*20mm | AD5: PE 75*20mm | AE5: PE 90*20mm | AF5: PE 110*20mm | AG5: PE 125*20mm | AH5: PE 140*20mm | AI5: PE 160*20mm | AJ5: PE 180*20mm | AK5: PE 200*20mm | AL5: PE 225*20mm | AM5: PE 250*20mm | AN5: PE 315*20mm | AO5: PE 350*20mm | AP5: PE 25*25 mm | AQ5: PE 32*25 mm | AR5: PE 32*25 mm | AS5: PE 40*25 mm | AT5: PE 40*25 mm | AU5: PE 50*25mm | AV5: PE 50*25mm | AW5: PE 63*25mm | AX5: PE 63*25mm | AY5: PE 75*25mm | AZ5: PE 75*25mm | BA5: PE 90*25mm | BB5: PE 90*25mm | BC5: PE 110*25mm | BD5: PE 110*25mm | BE5: PE 125*25mm | BF5: PE 125*25mm | BG5: PE 140*25mm | BH5: PE 140*25mm | BI5: PE 160*25mm | BJ5: PE 160*25mm | BK5: PE 180*25mm | BL5: PE 180*25mm | BM5: PE 200*25mm | BN5: PE 200*25mm | BO5: PE 225*25mm | BP5: PE 225*25mm | BQ5: PE 250*25mm | BR5: PE 250*25mm | BS5: PE 315*25mm | BT5: PE 315*25mm | BU5: PE 350*25mm | BV5: PE 350*25mm | BW5: PE 40*32mm | BX5: PE 50*32mm | BY5: PE 63*32mm | BZ5: PE 75*32mm | CA5: PE 90*32mm | CB5: PE 110*32mm | CC5: PE 125*32mm | CD5: PE 140*32mm | CE5: PE 160*32mm | CF5: PE 180*32mm | CG5: PE 200*32mm | CH5: PE 225*32mm | CI5: PE 250*32mm | CJ5: PE 315*32mm | CK5: PE 350*32mm | CL5: PE 50*40mm | CM5: PE 63*40mm | CN5: PE 75*40mm | CO5: PE 90*40mm | CP5: PE 110*40mm | CQ5: PE 125*40mm | CR5: PE 140*40mm | CS5: PE 160*40mm | CT5: PE 180*40mm | CU5: PE 200*40mm | CV5: PE 225*40mm | CW5: PE 250*40mm | CX5: PE 315*40mm | CY5: PE 350*40mm | CZ5: PE 63*50mm | DA5: PE 75*50mm | DB5: PE 90*50mm | DC5: PE 110*50mm | DD5: PE 125*50mm | DE5: PE 140*50mm | DF5: PE 160*50mm | DG5: PE 180*50mm | DH5: PE 200*50mm | DI5: PE 225*50mm | DJ5: PE 250*50mm | DK5: PE 315*50mm | DL5: PE 350*50mm | DM5: PE 75*63mm | DN5: PE 90*63mm | DO5: PE 110*63mm | DP5: PE 125*63mm | DQ5: PE 140*63mm | DR5: PE 160*63mm | DS5: PE 180*63mm | DT5: PE 200*63mm | DU5: PE 225*63mm | DV5: PE 250*63mm | DW5: PE 315*63mm | DX5: PE 350*63mm | DY5: PE 90*75mm | DZ5: PE 110*75mm | EA5: PE 125*75mm | EB5: PE 140*75mm | EC5: PE 160*75mm | ED5: PE 180*75mm | EE5: PE 200*75mm | EF5: PE 225*75mm | EG5: PE 250*75mm | EH5: PE 315*75mm | EI5: PE 350*75mm | EJ5: PE 110*90mm | EK5: PE 125*90mm | EL5: PE 140*90mm | EM5: PE 160*90mm | EN5: PE 180*90mm | EO5: PE 200*90mm | EP5: PE 225*90mm | EQ5: PE 250*90mm | ER5: PE 315*90mm | ES5: PE 350*90mm | ET5: PE 125*110mm | EU5: PE 140*110mm | EV5: PE 160*110mm | EW5: PE 180*110mm | EX5: PE 200*110mm | EY5: PE 225*110mm | EZ5: PE 250*110mm | FA5: PE 315*110mm | FB5: PE 350*110mm | FC5: PE 140*125mm | FD5: PE 160*125mm | FE5: PE 180*125mm | FF5: PE 200*125mm | FG5: PE 225*125mm | FH5: PE 250*125mm | FI5: PE 315*125mm | FJ5: PE 350*125mm | FK5: PE 160*140mm | FL5: PE 180*140mm | FM5: PE 200*140mm | FN5: PE 225*140mm | FO5: PE 250*140mm | FP5: PE 315*140mm | FQ5: PE 350*140mm | FR5: PE 180*160mm | FS5: PE 200*160mm | FT5: PE 225*160mm | FU5: PE 250*160mm | FV5: PE 315*160mm | FW5: PE 350*160mm | FX5: PE 200*180mm | FY5: PE 225*180mm | FZ5: PE 250*180mm | GA5: PE 315*180mm | GB5: PE 350*180mm | GC5: PE 225*200mm | GD5: PE 250*200mm | GE5: PE 315*200mm | GF5: PE 350*200mm | GG5: PE 110*4 mm | GH5: PE 160*4 mm | GI5: PE 200 mm | GJ5: PE 250 mm | GK5: PE 300 mm | GL5: PE 20 mm | GM5: PE 25 mm | GN5: PE 32mm | GO5: PE 40mm | GP5: PE 50mm | GQ5: PE 63mm | GR5: PE 75mm | GS5: PE 90mm | GT5: PE 110mm | GU5: PE 140mm | GV5: PE 160mm | GW5: PE 200mm | GX5: PE 250mm | GY5: PE 300mm | GZ5: PE 25*20 mm | HA5: PE 32*20 mm | HB5: PE 40*20 mm | HC5: PE 50*20mm | HD5: PE 63*20mm | HE5: PE 75*20mm | HF5: PE 90*20mm | HG5: PE 110*20mm | HH5: PE 125*20mm | HI5: PE 140*20mm | HJ5: PE 160*20mm | HK5: PE 180*20mm | HL5: PE 200*20mm | HM5: PE 225*20mm | HN5: PE 250*20mm | HO5: PE 315*20mm | HP5: PE 350*20mm | HQ5: PE 25*25 mm | HR5: PE 32*25 mm | HS5: PE 40*25 mm | HT5: PE 50*25mm | HU5: PE 63*25mm | HV5: PE 75*25mm | HW5: PE 90*25mm | HX5: PE 110*25mm | HY5: PE 125*25mm | HZ5: PE 140*25mm | IA5: PE 160*25mm | IB5: PE 180*25mm | IC5: PE 200*25mm | ID5: PE 225*25mm | IE5: PE 250*25mm | IF5: PE 315*25mm | IG5: PE 350*25mm | IH5: PE 40*32mm | II5: PE 50*32mm | IJ5: PE 63*32mm | IK5: PE 75*32mm | IL5: PE 90*32mm | IM5: PE 110*32mm | IN5: PE 125*32mm | IO5: PE 140*32mm | IP5: PE 160*32mm | IQ5: PE 180*32mm | IR5: PE 200*32mm | IS5: PE 225*32mm | IT5: PE 250*32mm | IU5: PE 315*32mm | IV5: PE 350*32mm | IW5: PE 50*40mm | IX5: PE 63*40mm | IY5: PE 75*40mm | IZ5: PE 90*40mm | JA5: PE 110*40mm | JB5: PE 125*40mm | JC5: PE 140*40mm | JD5: PE 160*40mm | JE5: PE 180*40mm | JF5: PE 200*40mm | JG5: PE 225*40mm | JH5: PE 250*40mm | JI5: PE 315*40mm | JJ5: PE 350*40mm | JK5: PE 63*50mm | JL5: PE 75*50mm | JM5: PE 90*50mm | JN5: PE 110*50mm | JO5: PE 125*50mm | JP5: PE 140*50mm | JQ5: PE 160*50mm | JR5: PE 180*50mm | JS5: PE 200*50mm | JT5: PE 225*50mm | JU5: PE 250*50mm | JV5: PE 315*50mm | JW5: PE 350*50mm | JX5: PE 75*63mm | JY5: PE 90*63mm | JZ5: PE 110*63mm | KA5: PE 125*63mm | KB5: PE 140*63mm | KC5: PE 160*63mm | KD5: PE 180*63mm | KE5: PE 200*63mm | KF5: PE 225*63mm | KG5: PE 250*63mm | KH5: PE 315*63mm | KI5: PE 350*63mm | KJ5: PE 90*75mm | KK5: PE 110*75mm | KL5: PE 125*75mm | KM5: PE 140*75mm | KN5: PE 160*75mm | KO5: PE 180*75mm | KP5: PE 200*75mm | KQ5: PE 225*75mm | KR5: PE 250*75mm | KS5: PE 315*75mm | KT5: PE 350*75mm | KU5: PE 110*90mm | KV5: PE 125*90mm | KW5: PE 140*90mm | KX5: PE 160*90mm | KY5: PE 180*90mm | KZ5: PE 200*90mm | LA5: PE 225*90mm | LB5: PE 250*90mm | LC5: PE 315*90mm | LD5: PE 350*90mm | LE5: PE 125*110mm | LF5: PE 140*110mm | LG5: PE 160*110mm | LH5: PE 180*110mm | LI5: PE 200*110mm | LJ5: PE 225*110mm | LK5: PE 250*110mm | LL5: PE 315*110mm | LM5: PE 350*110mm | LN5: PE 140*125mm | LO5: PE 160*125mm | LP5: PE 180*125mm | LQ5: PE 200*125mm | LR5: PE 225*125mm | LS5: PE 250*125mm | LT5: PE 315*125mm | LU5: PE 350*125mm | LV5: PE 160*140mm | LW5: PE 180*140mm | LX5: PE 200*140mm | LY5: PE 225*140mm | LZ5: PE 250*140mm | MA5: PE 315*140mm | MB5: PE 350*140mm | MC5: PE 180*160mm | MD5: PE 200*160mm | ME5: PE 225*160mm | MF5: PE 250*160mm | MG5: PE 315*160mm | MH5: PE 350*160mm | MI5: PE 200*180mm | MJ5: PE 225*180mm | MK5: PE 250*180mm | ML5: PE 315*180mm | MM5: PE 350*180mm | MN5: PE 225*200mm | MO5: PE 250*200mm | MP5: PE 315*200mm | MQ5: PE 350*200mm | MS5: 25mm | MT5: 25mm-50mm | MU5: 63mm-90mm | MV5: 110mm-200mm | MW5: 250mm-300mm | MY5: 25mm | MZ5: 25mm-50mm | NA5: 63mm-90mm | NB5: 110mm-300mm | NC5: conductă metal | NE5: 25mm | NF5: 25mm-50mm | NG5: 63mm-90mm | NH5: 110mm-200mm | NI5: 250mm-300mm | NK5: 15mm | NL5: 20mm | NM5: 25mm | NN5: 32mm | NO5: 40mm | NP5: 50mm | NQ5: 65mm | NR5: 80mm | NS5: 100mm | NT5: 150mm | NU5: 200mm | NV5: 15mm | NW5: 20mm | NX5: 25mm | NY5: 32mm | NZ5: 40mm | OA5: 50mm | OB5: 65mm | OC5: 80mm | OD5: 100mm | OE5: 150mm | OF5: 200mm | OH5: PE 25 mm | OJ5: 15mm | OK5: 20mm | OL5: 25mm | OM5: 32mm | ON5: 40mm | OO5: 50mm | OP5: 65mm | OQ5: 80mm | OR5: 100mm | OS5: 150mm | OT5: 200mm
B6: Denumirea | C6: Unitatea de măsură | D6: preț pe piață 2026 | E6: Sursa | F6: Preț SA „Apă - Canal Strășeni” 2025 | I6: Preț acceptat ANRE in tarife 2026 | J6: Norma
G7: Ultimele preturi Ungheni 30.06.2026 | H7: Tarife auxiliare 2025 | J7: 2.1 | K7: 2.2 | L7: 2.2 | M7: 2.3 | N7: 2.4 | O7: 2.5 | P7: 2.6 | Q7: 2.7 | R7: 2.8 | S7: 2.9 | T7: 2.10 | U7: 2.11 | V7: 2.12 | W7: 2.13 | X7: 2.14 | Y7: 2.15 | Z7: 2.16 | AA7: 2.17 | AB7: 2.18 | AC7: 2.19 | AD7: 2.20 | AE7: 2.21 | AF7: 2.22 | AG7: 2.23 | AH7: 2.24 | AI7: 2.25 | AJ7: 2.26 | AK7: 2.27 | AL7: 2.28 | AM7: 2.29 | AN7: 2.30 | AO7: 2.31 | AQ7: 2.32 | AR7: 2.32 | AS7: 2.33 | AT7: 2.33 | AU7: 2.34 | AV7: 2.34 | AW7: 2.35 | AX7: 2.35 | AY7: 2.36 | AZ7: 2.36 | BA7: 2.37 | BB7: 2.37 | BC7: 2.38 | BD7: 2.38 | BE7: 2.39 | BF7: 2.39 | BG7: 2.40 | BH7: 2.40 | BI7: 2.41 | BJ7: 2.41 | BK7: 2.42 | BL7: 2.42 | BM7: 2.43 | BN7: 2.43 | BO7: 2.44 | BP7: 2.44 | BQ7: 2.45 | BR7: 2.45 | BS7: 2.46 | BT7: 2.46 | BU7: 2.47 | BV7: 2.47 | BW7: 2.48 | BX7: 2.49 | BY7: 2.50 | BZ7: 2.51 | CA7: 2.52 | CB7: 2.53 | CC7: 2.54 | CD7: 2.55 | CE7: 2.56 | CF7: 2.57 | CG7: 2.58 | CH7: 2.59 | CI7: 2.60 | CJ7: 2.61 | CK7: 2.62 | CL7: 2.63 | CM7: 2.64 | CN7: 2.65 | CO7: 2.66 | CP7: 2.67 | CQ7: 2.68 | CR7: 2.69 | CS7: 2.70 | CT7: 2.71 | CU7: 2.72 | CV7: 2.73 | CW7: 2.74 | CX7: 2.75 | CY7: 2.76 | CZ7: 2.77 | DA7: 2.78 | DB7: 2.79 | DC7: 2.80 | DD7: 2.81 | DE7: 2.82 | DF7: 2.83 | DG7: 2.84 | DH7: 2.85 | DI7: 2.86 | DJ7: 2.87 | DK7: 2.88 | DL7: 2.89 | DM7: 2.90 | DN7: 2.91 | DO7: 2.92 | DP7: 2.93 | DQ7: 2.94 | DR7: 2.95 | DS7: 2.96 | DT7: 2.97 | DU7: 2.98 | DV7: 2.99 | DW7: 2.100 | DX7: 2.101 | DY7: 2.102 | DZ7: 2.103 | EA7: 2.104 | EB7: 2.105 | EC7: 2.106 | ED7: 2.107 | EE7: 2.108 | EF7: 2.109 | EG7: 2.110 | EH7: 2.111 | EI7: 2.112 | EJ7: 2.113 | EK7: 2.114 | EL7: 2.115 | EM7: 2.116 | EN7: 2.117 | EO7: 2.118 | EP7: 2.119 | EQ7: 2.120 | ER7: 2.121 | ES7: 2.122 | ET7: 2.123 | EU7: 2.124 | EV7: 2.125 | EW7: 2.126 | EX7: 2.127 | EY7: 2.128 | EZ7: 2.129 | FA7: 2.130 | FB7: 2.131 | FC7: 2.132 | FD7: 2.133 | FE7: 2.134 | FF7: 2.135 | FG7: 2.136 | FH7: 2.137 | FI7: 2.138 | FJ7: 2.139 | FK7: 2.140 | FL7: 2.141 | FM7: 2.142 | FN7: 2.143 | FO7: 2.144 | FP7: 2.145 | FQ7: 2.146 | FR7: 2.147 | FS7: 2.148 | FT7: 2.149 | FU7: 2.150 | FV7: 2.151 | FW7: 2.152 | FX7: 2.153 | FY7: 2.154 | FZ7: 2.155 | GA7: 2.156 | GB7: 2.157 | GC7: 2.158 | GD7: 2.159 | GE7: 2.160 | GF7: 2.161 | GG7: 3.1 | GH7: 3.2 | GI7: 3.3 | GJ7: 3.4 | GK7: 3.5 | GL7: 4.1 | GM7: 4.2 | GN7: 4.3 | GO7: 4.4 | GP7: 4.5 | GQ7: 4.6 | GR7: 4.7 | GS7: 4.8 | GT7: 4.9 | GU7: 4.10 | GV7: 4.11 | GW7: 4.12 | GX7: 4.13 | GY7: 4.14 | GZ7: 4.15 | HA7: 4.16 | HB7: 4.17 | HC7: 4.18 | HD7: 4.19 | HE7: 4.20 | HF7: 4.21 | HG7: 4.22 | HH7: 4.23 | HI7: 4.24 | HJ7: 4.25 | HK7: 4.26 | HL7: 4.27 | HM7: 4.28 | HN7: 4.29 | HO7: 4.30 | HP7: 4.31 | HR7: 4.32 | HS7: 4.33 | HT7: 4.34 | HU7: 4.35 | HV7: 4.36 | HW7: 4.37 | HX7: 4.38 | HY7: 4.39 | HZ7: 4.40 | IA7: 4.41 | IB7: 4.42 | IC7: 4.43 | ID7: 4.44 | IE7: 4.45 | IF7: 4.46 | IG7: 4.47 | IH7: 4.48 | II7: 4.49 | IJ7: 4.50 | IK7: 4.51 | IL7: 4.52 | IM7: 4.53 | IN7: 4.54 | IO7: 4.55 | IP7: 4.56 | IQ7: 4.57 | IR7: 4.58 | IS7: 4.59 | IT7: 4.60 | IU7: 4.61 | IV7: 4.62 | IW7: 4.63 | IX7: 4.64 | IY7: 4.65 | IZ7: 4.66 | JA7: 4.67 | JB7: 4.68 | JC7: 4.69 | JD7: 4.70 | JE7: 4.71 | JF7: 4.72 | JG7: 4.73 | JH7: 4.74 | JI7: 4.75 | JJ7: 4.76 | JK7: 4.77 | JL7: 4.78 | JM7: 4.79 | JN7: 4.80 | JO7: 4.81 | JP7: 4.82 | JQ7: 4.83 | JR7: 4.84 | JS7: 4.85 | JT7: 4.86 | JU7: 4.87 | JV7: 4.88 | JW7: 4.89 | JX7: 4.90 | JY7: 4.91 | JZ7: 4.92 | KA7: 4.93 | KB7: 4.94 | KC7: 4.95 | KD7: 4.96 | KE7: 4.97 | KF7: 4.98 | KG7: 4.99 | KH7: 4.100 | KI7: 4.101 | KJ7: 4.102 | KK7: 4.103 | KL7: 4.104 | KM7: 4.105 | KN7: 4.106 | KO7: 4.107 | KP7: 4.108 | KQ7: 4.109 | KR7: 4.110 | KS7: 4.111 | KT7: 4.112 | KU7: 4.113 | KV7: 4.114 | KW7: 4.115 | KX7: 4.116 | KY7: 4.117 | KZ7: 4.118 | LA7: 4.119 | LB7: 4.120 | LC7: 4.121 | LD7: 4.122 | LE7: 4.123 | LF7: 4.124 | LG7: 4.125 | LH7: 4.126 | LI7: 4.127 | LJ7: 4.128 | LK7: 4.129 | LL7: 4.130 | LM7: 4.131 | LN7: 4.132 | LO7: 4.133 | LP7: 4.134 | LQ7: 4.135 | LR7: 4.136 | LS7: 4.137 | LT7: 4.138 | LU7: 4.139 | LV7: 4.140 | LW7: 4.141 | LX7: 4.142 | LY7: 4.143 | LZ7: 4.144 | MA7: 4.145 | MB7: 4.146 | MC7: 4.147 | MD7: 4.148 | ME7: 4.149 | MF7: 4.150 | MG7: 4.151 | MH7: 4.152 | MI7: 4.153 | MJ7: 4.154 | MK7: 4.155 | ML7: 4.156 | MM7: 4.157 | MN7: 4.158 | MO7: 4.159 | MP7: 4.160 | MQ7: 4.161 | MR7: 5.1 | MS7: 6.1 | MT7: 6.2 | MU7: 6.3 | MV7: 6.4 | MW7: 6.5 | MX7: 7.1 | MY7: 8.1 | MZ7: 8.2 | NA7: 8.3 | NB7: 8.4 | NC7: 8.5 | ND7: 9.1 | NE7: 10.1 | NF7: 10.2 | NG7: 10.3 | NH7: 10.4 | NI7: 10.5 | NJ7: 11.1 | NK7: 12.1 | NL7: 12.2 | NM7: 12.3 | NN7: 12.4 | NO7: 12.5 | NP7: 12.6 | NQ7: 12.7 | NR7: 12.8 | NS7: 12.9 | NT7: 12.10 | NU7: 12.11 | NV7: 13.1 | NW7: 13.2 | NX7: 13.3 | NY7: 13.4 | NZ7: 13.5 | OA7: 13.6 | OB7: 13.7 | OC7: 13.8 | OD7: 13.9 | OE7: 13.10 | OF7: 13.11 | OG7: 14.1 | OH7: 15.1 | OI7: 16.1 | OJ7: 17.1 | OK7: 17.2 | OL7: 17.3 | OM7: 17.4 | ON7: 17.5 | OO7: 17.6 | OP7: 17.7 | OQ7: 17.8 | OR7: 17.9 | OS7: 17.10 | OT7: 17.11 | OU7: 18.1
A8: 1 | B8: Clapetă de sens unic (supapă) D20 mm (3/4) | C8: buc | D8: 110.41 | E8: https://term.md/ru/catalog/fitinguri-profactor/vane-de-mixare/PFCV241P/ | F8: 99 | G8: 90 | H8: 76 | I8: =MIN(D8,F8) -> 99 | J8: 1 | K8: 1 | L8: 1 | Y8: 1 | Z8: 1 | AA8: 1 | AB8: 1 | AC8: 1 | AD8: 1 | AE8: 1 | AF8: 1 | AG8: 1 | AH8: 1 | AI8: 1 | AJ8: 1 | AK8: 1 | AL8: 1 | AM8: 1 | AN8: 1 | AO8: 1
A9: 2 | B9: Clapetă de sens unic (supapă) D25 mm (1”) | C9: buc | D9: =184.6/1.2 -> 153.83333 | E9: https://term.md/ru/catalog/fitinguri-profactor/vane-de-mixare/PFCV242/ | G9: 115 | H9: 196.38 | I9: =D9 -> 153.83333 | AP9: 1 | AQ9: 1 | AR9: 1 | AS9: 1 | AT9: 1 | AU9: 1 | AV9: 1 | AW9: 1 | AX9: 1 | AY9: 1 | AZ9: 1 | BA9: 1 | BB9: 1 | BC9: 1 | BD9: 1 | BE9: 1 | BF9: 1 | BG9: 1 | BH9: 1 | BI9: 1 | BJ9: 1 | BK9: 1 | BL9: 1 | BM9: 1 | BN9: 1 | BO9: 1 | BP9: 1 | BQ9: 1 | BR9: 1 | BS9: 1 | BT9: 1 | BU9: 1 | BV9: 1
A10: 3 | B10: Clapetă de sens unic (supapă) D32 mm (1 1/4) | C10: buc | D10: 257.36 | E10: https://term.md/ru/catalog/fitinguri-profactor/vane-de-mixare/PFCV24932/ | G10: 174.17 | H10: 260 | I10: =D10 -> 257.36 | M10: 1 | BW10: 1 | BX10: 1 | BY10: 1 | BZ10: 1 | CA10: 1 | CB10: 1 | CC10: 1 | CD10: 1 | CE10: 1 | CF10: 1 | CG10: 1 | CH10: 1 | CI10: 1 | CJ10: 1 | CK10: 1
A11: 4 | B11: Clapetă de sens unic (supapă) D40 mm (1 1/2) | C11: buc | D11: 354.68 | E11: https://term.md/ru/catalog/fitinguri-profactor/vane-de-mixare/PFCV24940/ | G11: 251.67 | H11: 354.68 | I11: =D11 -> 354.68 | CL11: 1 | CM11: 1 | CN11: 1 | CO11: 1 | CP11: 1 | CQ11: 1 | CR11: 1 | CS11: 1 | CT11: 1 | CU11: 1 | CV11: 1 | CW11: 1 | CX11: 1 | CY11: 1
A12: 5 | B12: Clapetă de sens unic (supapă) D50 mm (2”) | C12: buc | D12: 438.21 | E12: https://term.md/ru/catalog/fitinguri-profactor/PFCV24950/?sphrase_id=8321 | F12: 99 | G12: 450 | H12: 438.21 | I12: =MIN(D12,F12) -> 99 | N12: 1 | O12: 1 | CZ12: 1 | DA12: 1 | DB12: 1 | DC12: 1 | DD12: 1 | DE12: 1 | DF12: 1 | DG12: 1 | DH12: 1 | DI12: 1 | DJ12: 1 | DK12: 1 | DL12: 1
A13: 6 | B13: Clapetă de sens unic (supapă) D65 mm (2 1/2) | C13: buc | D13: =811/1.2 -> 675.83333 | E13: https://uniplast.md/ro/product/supapa-fonta-de-sens-cu-arc-intre-flanse-d-65-pn1016-l45-mm-gjl-250-wato | G13: 651.67 | H13: 675.83333 | I13: =D13 -> 675.83333 | DM13: 1 | DN13: 1 | DO13: 1 | DP13: 1 | DQ13: 1 | DR13: 1 | DS13: 1 | DT13: 1 | DU13: 1 | DV13: 1 | DW13: 1 | DX13: 1
A14: 7 | B14: Clapetă de sens unic (supapă) D75 mm | C14: buc | D14: 791.67 | E14: https://hydrosystems.md/supape-de-sens-cu-flanse/supap%C4%83-de-sens-tip-wafer-hydro-s-80-mm | G14: 651.67 | H14: 791.67 | I14: =D14 -> 791.67 | DY14: 1 | DZ14: 1 | EA14: 1 | EB14: 1 | EC14: 1 | ED14: 1 | EE14: 1 | EF14: 1 | EG14: 1 | EH14: 1 | EI14: 1
A15: 8 | B15: Clapetă reversibilă (supapă de reținere) D90 mm | C15: buc | D15: 2590 | G15: 3500 | H15: 2590 | I15: =D15 -> 2590 | P15: 1 | Q15: 1 | EJ15: 1 | EK15: 1 | EL15: 1 | EM15: 1 | EN15: 1 | EO15: 1 | EP15: 1 | EQ15: 1 | ER15: 1 | ES15: 1
A16: 9 | B16: Clapetă reversibilă (supapă de reținere) D100 mm | C16: buc | D16: 2707.5 | G16: 4115.83 | H16: 2707.5 | I16: =D16 -> 2707.5 | R16: 1 | ET16: 1 | EU16: 1 | EV16: 1 | EW16: 1 | EX16: 1 | EY16: 1 | EZ16: 1 | FA16: 1 | FB16: 1
A17: 10 | B17: Clapetă reversibilă (supapă de reținere) D125 mm | C17: buc | D17: =4528.5/1.2 -> 3773.75 | E17: https://uniplast.md/ro/product/supapa-fonta-de-retinere-flanse-cu-bila-d125-pn16-l350-mm-8-gauri-wato | G17: 3958.33 | H17: 4528.5 | I17: =D17 -> 3773.75 | S17: 1 | FC17: 1 | FD17: 1 | FE17: 1 | FF17: 1 | FG17: 1 | FH17: 1 | FI17: 1 | FJ17: 1
A18: 11 | B18: Clapetă reversibilă (supapă de reținere) D150 mm | C18: buc | D18: 6016.25 | E18: https://uniplast.md/ro/6087033/ | G18: 6016.25 | H18: 6016.25 | I18: =D18 -> 6016.25 | T18: 1 | FK18: 1 | FL18: 1 | FM18: 1 | FN18: 1 | FO18: 1 | FP18: 1 | FQ18: 1 | FR18: 1 | FS18: 1 | FT18: 1 | FU18: 1 | FV18: 1 | FW18: 1 | FX18: 1 | FY18: 1 | FZ18: 1 | GA18: 1 | GB18: 1
A19: 12 | B19: Clapetă reversibilă (supapă de reținere) D200 mm | C19: buc | D19: =13000/1.2 -> 10833.333 | E19: https://tehnoconduct.md/product/supapa-fonta-cu-flanse-d200-tecofi-0000005917 | G19: 9049.1667 | H19: 10859 | I19: =D19 -> 10833.333 | U19: 1 | V19: 1 | GC19: 1 | GD19: 1 | GE19: 1 | GF19: 1
A20: 13 | B20: Clapetă reversibilă (supapă de reținere) D250 mm | C20: buc | D20: =24600/1.2 -> 20500 | E20: https://tehnoconduct.md/product/supapa-fonta-cu-flanse-d250-tecofi-0000005918 | G20: 15098.333 | H20: 15098.333 | I20: =D20 -> 20500 | W20: 1
A21: 14 | B21: Clapetă reversibilă (supapă de reținere) D300 mm | C21: buc | D21: =D20 -> 20500 | G21: 21404.583 | H21: 21404.583 | I21: =D21 -> 20500 | X21: 1
A22: 15 | B22: Filtru D = 20 mm (3/4) | C22: buc | D22: =171.5/1.2 -> 142.91667 | E22: https://www.metroterm.md/filtru-alama-34f-kalde-4-37822 | F22: 119 | G22: 82.5 | H22: 60 | I22: =MIN(D22,F22) -> 119 | J22: 1 | K22: 1 | L22: 1 | Y22: 1 | Z22: 1 | AA22: 1 | AB22: 1 | AC22: 1 | AD22: 1 | AE22: 1 | AF22: 1 | AG22: 1 | AH22: 1 | AI22: 1 | AJ22: 1 | AK22: 1 | AL22: 1 | AM22: 1 | AN22: 1 | AO22: 1
A23: 16 | B23: Filtru D = 25 mm (1) | C23: buc | D23: 185 | E23: https://www.metroterm.md/filtru-alama-1f-kalde-4-37821 | G23: 104.17 | H23: 185 | I23: =D23 -> 185 | AP23: 1 | AQ23: 1 | AR23: 1 | AS23: 1 | AT23: 1 | AU23: 1 | AV23: 1 | AW23: 1 | AX23: 1 | AY23: 1 | AZ23: 1 | BA23: 1 | BB23: 1 | BC23: 1 | BD23: 1 | BE23: 1 | BF23: 1 | BG23: 1 | BH23: 1 | BI23: 1 | BJ23: 1 | BK23: 1 | BL23: 1 | BM23: 1 | BN23: 1 | BO23: 1 | BP23: 1 | BQ23: 1 | BR23: 1 | BS23: 1 | BT23: 1 | BU23: 1 | BV23: 1
A24: 17 | B24: Filtru D = 32 mm (1 1/4”) | C24: buc | D24: 316.04 | E24: https://uniplast.md/ro/product/filtru-y-d-114-alama-pn20-192-itap https://www.metroterm.md/filtru-alama-114f-kalde-4-37820 | G24: 275 | H24: 316.04 | I24: =D24 -> 316.04 | M24: 1 | BW24: 1 | BX24: 1 | BY24: 1 | BZ24: 1 | CA24: 1 | CB24: 1 | CC24: 1 | CD24: 1 | CE24: 1 | CF24: 1 | CG24: 1 | CH24: 1 | CI24: 1 | CJ24: 1 | CK24: 1
A25: 18 | B25: Filtru D = 40 mm (1 1/2”) | C25: buc | D25: 367.5 | E25: https://www.metroterm.md/filtru-alama-112f-kalde-4-38413 | G25: 241.67 | H25: 367.5 | I25: =D25 -> 367.5 | CL25: 1 | CM25: 1 | CN25: 1 | CO25: 1 | CP25: 1 | CQ25: 1 | CR25: 1 | CS25: 1 | CT25: 1 | CU25: 1 | CV25: 1 | CW25: 1 | CX25: 1 | CY25: 1
A26: 19 | B26: Filtru D = 50 mm (2”) | C26: buc | D26: 786.558 | E26: https://www.metroterm.md/filtru-alama-2f-kalde-4-38414 | G26: 329.17 | H26: 786.558 | I26: =D26 -> 786.558 | N26: 1 | O26: 1 | P26: 1 | CZ26: 1 | DA26: 1 | DB26: 1 | DC26: 1 | DD26: 1 | DE26: 1 | DF26: 1 | DG26: 1 | DH26: 1 | DI26: 1 | DJ26: 1 | DK26: 1 | DL26: 1
A27: 20 | B27: Filtru D = 65 mm (2 1/2”) | C27: buc | D27: 1451.25 | E27: https://uniplast.md/ro/5693996/ | G27: 1325 | H27: 1451.25 | I27: =D27 -> 1451.25 | Q27: 1 | DM27: 1 | DN27: 1 | DO27: 1 | DP27: 1 | DQ27: 1 | DR27: 1 | DS27: 1 | DT27: 1 | DU27: 1 | DV27: 1 | DW27: 1 | DX27: 1
A28: 21 | B28: Filtru D = 80 mm (3”) | C28: buc | D28: =1200/1.2 -> 1000 | E28: https://uniplast.md/ro/product/filtru-d-80-fonta -cu-flanse-l310-mm-8-gauri | G28: 2125 | H28: 1200 | I28: =D28 -> 1000 | R28: 1 | DY28: 1 | DZ28: 1 | EA28: 1 | EB28: 1 | EC28: 1 | ED28: 1 | EE28: 1 | EF28: 1 | EG28: 1 | EH28: 1 | EI28: 1 | EJ28: 1 | EK28: 1 | EL28: 1 | EM28: 1 | EN28: 1 | EO28: 1 | EP28: 1 | EQ28: 1 | ER28: 1 | ES28: 1
A29: 22 | B29: Filtru D = 100 mm (4”) | C29: buc | D29: 2300 | G29: 3125 | H29: 2300 | I29: =D29 -> 2300 | S29: 1 | ET29: 1 | EU29: 1 | EV29: 1 | EW29: 1 | EX29: 1 | EY29: 1 | EZ29: 1 | FA29: 1 | FB29: 1
A30: 23 | B30: Filtru D = 125 mm (5”) | C30: buc | D30: 4206 | E30: https://uniplast.md/ro/5802082/ | G30: 3691.67 | H30: 3505 | I30: =D30 -> 4206 | T30: 1 | FC30: 1 | FD30: 1 | FE30: 1 | FF30: 1 | FG30: 1 | FH30: 1 | FI30: 1 | FJ30: 1
A31: 24 | B31: Filtru D = 150 mm (6”) | C31: buc | D31: 4616 | G31: 6562.5 | H31: 4616 | I31: =D31 -> 4616 | U31: 1 | FK31: 1 | FL31: 1 | FM31: 1 | FN31: 1 | FO31: 1 | FP31: 1 | FQ31: 1 | FR31: 1 | FS31: 1 | FT31: 1 | FU31: 1 | FV31: 1 | FW31: 1 | FX31: 1 | FY31: 1 | FZ31: 1 | GA31: 1 | GB31: 1
A32: 25 | B32: Filtru D = 200 mm (8”) | C32: buc | D32: 8104 | E32: https://uniplast.md/ro/5802079/ | G32: 9162.5 | H32: 7327.08 | I32: =D32 -> 8104 | V32: 1 | GC32: 1 | GD32: 1 | GE32: 1 | GF32: 1
A33: 26 | B33: Filtru D = 250 mm (10”) | C33: buc | D33: 14966.5 | E33: https://uniplast.md/ro/5802080/ | G33: 12166.67 | H33: 12472.08 | I33: =D33 -> 14966.5 | W33: 1
A34: 27 | B34: Filtru D = 300 mm (12”) | C34: buc | D34: 16825 | G34: 16825 | H34: 16825 | I34: =D34 -> 16825 | X34: 1
A35: 28 | B35: Niplu dn 20 (3/4) | C35: buc | D35: 26.67 | E35: https://uniplast.md/ro/product/niplu-d-34-alama-pl | F35: 105 | G35: 21.67 | H35: 13.6 | I35: =MIN(D35,F35) -> 26.67 | J35: 2 | Y35: 2 | Z35: 2 | AA35: 2 | AB35: 2 | AC35: 2 | AD35: 2 | AE35: 2 | AF35: 2 | AG35: 2 | AH35: 2 | AI35: 2 | AJ35: 2 | AK35: 2 | AL35: 2 | AM35: 2 | AN35: 2 | AO35: 2
A36: 29 | B36: Niplu dn 25 (1) | C36: buc | D36: =37/1.23 -> 30.081301 | E36: https://uniplast.md/ro/product/niplu-d-1-alama | G36: 39.83 | H36: 37.5 | I36: =D36 -> 30.081301 | K36: 2 | L36: 2 | AP36: 2 | AQ36: 2 | AR36: 2 | AS36: 2 | AT36: 2 | AU36: 2 | AV36: 2 | AW36: 2 | AX36: 2 | AY36: 2 | AZ36: 2 | BA36: 2 | BB36: 2 | BC36: 2 | BD36: 2 | BE36: 2 | BF36: 2 | BG36: 2 | BH36: 2 | BI36: 2 | BJ36: 2 | BK36: 2 | BL36: 2 | BM36: 2 | BN36: 2 | BO36: 2 | BP36: 2 | BQ36: 2 | BR36: 2 | BS36: 2 | BT36: 2 | BU36: 2 | BV36: 2
A37: 30 | B37: Niplu dn 32 (1 1/4) | C37: buc | D37: 70.42 | E37: https://uniplast.md/ro/429866/ | G37: 61.92 | H37: 70.42 | I37: =D37 -> 70.42 | M37: 2 | BW37: 2 | BX37: 2 | BY37: 2 | BZ37: 2 | CA37: 2 | CB37: 2 | CC37: 2 | CD37: 2 | CE37: 2 | CF37: 2 | CG37: 2 | CH37: 2 | CI37: 2 | CJ37: 2 | CK37: 2
A38: 31 | B38: Niplu dn 40 (1 1/2) | C38: buc | D38: 80 | E38: https://uniplast.md/ro/436082/ | G38: 76.67 | H38: 80 | I38: =D38 -> 80 | N38: 2 | CL38: 2 | CM38: 2 | CN38: 2 | CO38: 2 | CP38: 2 | CQ38: 2 | CR38: 2 | CS38: 2 | CT38: 2 | CU38: 2 | CV38: 2 | CW38: 2 | CX38: 2 | CY38: 2
A39: 32 | B39: Niplu dn 50 (2) | C39: buc | D39: =129.5/1.2 -> 107.91667 | E39: https://uniplast.md/ro/43 6068/ | G39: 122.83 | H39: 100.83 | I39: =D39 -> 107.91667 | O39: 2 | CZ39: 2 | DA39: 2 | DB39: 2 | DC39: 2 | DD39: 2 | DE39: 2 | DF39: 2 | DG39: 2 | DH39: 2 | DI39: 2 | DJ39: 2 | DK39: 2 | DL39: 2 | DY39: 2 | DZ39: 2 | EA39: 2 | EB39: 2 | EC39: 2 | ED39: 2 | EE39: 2 | EF39: 2 | EG39: 2 | EH39: 2 | EI39: 2 | EJ39: 2 | EK39: 2 | EL39: 2 | EM39: 2 | EN39: 2 | EO39: 2 | EP39: 2 | EQ39: 2 | ER39: 2 | ES39: 2 | ET39: 2 | EU39: 2 | EV39: 2 | EW39: 2 | EX39: 2 | EY39: 2 | EZ39: 2 | FA39: 2 | FB39: 2 | FC39: 2 | FD39: 2 | FE39: 2 | FF39: 2 | FG39: 2 | FH39: 2 | FI39: 2 | FJ39: 2 | FK39: 2 | FL39: 2 | FM39: 2 | FN39: 2 | FO39: 2 | FP39: 2 | FQ39: 2 | FR39: 2 | FS39: 2 | FT39: 2 | FU39: 2 | FV39: 2 | FW39: 2 | GC39: 2 | GD39: 2 | GE39: 2 | GF39: 2
A40: 33 | B40: Sigiliu | C40: buc | D40: 3.75 | E40: https://uniplast.md/ro/product/sigilii-pentru-contor-apa-super-snap | F40: 3.38 | G40: 2.75 | H40: 3.38 | I40: =MIN(D40,F40) -> 3.38 | J40: 1 | K40: 1 | L40: 1 | M40: 1 | N40: 1 | O40: 1 | P40: 1 | Q40: 1 | R40: 1 | S40: 1 | T40: 1 | U40: 1 | V40: 1 | W40: 1 | X40: 1 | Y40: 1 | Z40: 1 | AA40: 1 | AB40: 1 | AC40: 1 | AD40: 1 | AE40: 1 | AF40: 1 | AG40: 1 | AH40: 1 | AI40: 1 | AJ40: 1 | AK40: 1 | AL40: 1 | AM40: 1 | AN40: 1 | AO40: 1 | AP40: 1 | AQ40: 1 | AR40: 1 | AS40: 1 | AT40: 1 | AU40: 1 | AV40: 1 | AW40: 1 | AX40: 1 | AY40: 1 | AZ40: 1 | BA40: 1 | BB40: 1 | BC40: 1 | BD40: 1 | BE40: 1 | BF40: 1 | BG40: 1 | BH40: 1 | BI40: 1 | BJ40: 1 | BK40: 1 | BL40: 1 | BM40: 1 | BN40: 1 | BO40: 1 | BP40: 1 | BQ40: 1 | BR40: 1 | BS40: 1 | BT40: 1 | BU40: 1 | BV40: 1 | BW40: 1 | BX40: 1 | BY40: 1 | BZ40: 1 | CA40: 1 | CB40: 1 | CC40: 1 | CD40: 1 | CE40: 1 | CF40: 1 | CG40: 1 | CH40: 1 | CI40: 1 | CJ40: 1 | CK40: 1 | CL40: 1 | CM40: 1 | CN40: 1 | CO40: 1 | CP40: 1 | CQ40: 1 | CR40: 1 | CS40: 1 | CT40: 1 | CU40: 1 | CV40: 1 | CW40: 1 | CX40: 1 | CY40: 1 | CZ40: 1 | DA40: 1 | DB40: 1 | DC40: 1 | DD40: 1 | DE40: 1 | DF40: 1 | DG40: 1 | DH40: 1 | DI40: 1 | DJ40: 1 | DK40: 1 | DL40: 1 | DM40: 1 | DN40: 1 | DO40: 1 | DP40: 1 | DQ40: 1 | DR40: 1 | DS40: 1 | DT40: 1 | DU40: 1 | DV40: 1 | DW40: 1 | DX40: 1 | DY40: 1 | DZ40: 1 | EA40: 1 | EB40: 1 | EC40: 1 | ED40: 1 | EE40: 1 | EF40: 1 | EG40: 1 | EH40: 1 | EI40: 1 | EJ40: 1 | EK40: 1 | EL40: 1 | EM40: 1 | EN40: 1 | EO40: 1 | EP40: 1 | EQ40: 1 | ER40: 1 | ES40: 1 | ET40: 1 | EU40: 1 | EV40: 1 | EW40: 1 | EX40: 1 | EY40: 1 | EZ40: 1 | FA40: 1 | FB40: 1 | FC40: 1 | FD40: 1 | FE40: 1 | FF40: 1 | FG40: 1 | FH40: 1 | FI40: 1 | FJ40: 1 | FK40: 1 | FL40: 1 | FM40: 1 | FN40: 1 | FO40: 1 | FP40: 1 | FQ40: 1 | FR40: 1 | FS40: 1 | FT40: 1 | FU40: 1 | FV40: 1 | FW40: 1 | FX40: 1 | FY40: 1 | FZ40: 1 | GA40: 1 | GB40: 1 | GC40: 1 | GD40: 1 | GE40: 1 | GF40: 1 | GL40: 1 | GM40: 1 | GN40: 1 | GO40: 1 | GP40: 1 | GQ40: 1 | GR40: 1 | GS40: 1 | GT40: 1 | GU40: 1 | GV40: 1 | GW40: 1 | GX40: 1 | GY40: 1 | GZ40: 1 | HA40: 1 | HB40: 1 | HC40: 1 | HD40: 1 | HE40: 1 | HF40: 1 | HG40: 1 | HH40: 1 | HI40: 1 | HJ40: 1 | HK40: 1 | HL40: 1 | HM40: 1 | HN40: 1 | HO40: 1 | HP40: 1 | HQ40: 1 | HR40: 1 | HS40: 1 | HT40: 1 | HU40: 1 | HV40: 1 | HW40: 1 | HX40: 1 | HY40: 1 | HZ40: 1 | IA40: 1 | IB40: 1 | IC40: 1 | ID40: 1 | IE40: 1 | IF40: 1 | IG40: 1 | IH40: 1 | II40: 1 | IJ40: 1 | IK40: 1 | IL40: 1 | IM40: 1 | IN40: 1 | IO40: 1 | IP40: 1 | IQ40: 1 | IR40: 1 | IS40: 1 | IT40: 1 | IU40: 1 | IV40: 1 | IW40: 1 | IX40: 1 | IY40: 1 | IZ40: 1 | JA40: 1 | JB40: 1 | JC40: 1 | JD40: 1 | JE40: 1 | JF40: 1 | JG40: 1 | JH40: 1 | JI40: 1 | JJ40: 1 | JK40: 1 | JL40: 1 | JM40: 1 | JN40: 1 | JO40: 1 | JP40: 1 | JQ40: 1 | JR40: 1 | JS40: 1 | JT40: 1 | JU40: 1 | JV40: 1 | JW40: 1 | JX40: 1 | JY40: 1 | JZ40: 1 | KA40: 1 | KB40: 1 | KC40: 1 | KD40: 1 | KE40: 1 | KF40: 1 | KG40: 1 | KH40: 1 | KI40: 1 | KJ40: 1 | KK40: 1 | KL40: 1 | KM40: 1 | KN40: 1 | KO40: 1 | KP40: 1 | KQ40: 1 | KR40: 1 | KS40: 1 | KT40: 1 | KU40: 1 | KV40: 1 | KW40: 1 | KX40: 1 | KY40: 1 | KZ40: 1 | LA40: 1 | LB40: 1 | LC40: 1 | LD40: 1 | LE40: 1 | LF40: 1 | LG40: 1 | LH40: 1 | LI40: 1 | LJ40: 1 | LK40: 1 | LL40: 1 | LM40: 1 | LN40: 1 | LO40: 1 | LP40: 1 | LQ40: 1 | LR40: 1 | LS40: 1 | LT40: 1 | LU40: 1 | LV40: 1 | LW40: 1 | LX40: 1 | LY40: 1 | LZ40: 1 | MA40: 1 | MB40: 1 | MC40: 1 | MD40: 1 | ME40: 1 | MF40: 1 | MG40: 1 | MH40: 1 | MI40: 1 | MJ40: 1 | MK40: 1 | ML40: 1 | MM40: 1 | MN40: 1 | MO40: 1 | MP40: 1 | MQ40: 1 | MS40: 2 | MT40: 2 | MU40: 2 | MV40: 2 | MW40: 2 | MX40: 1 | MY40: 1 | MZ40: 1 | NA40: 1 | NB40: 1 | NC40: 1 | ND40: 1 | NE40: 1 | NF40: 1 | NG40: 1 | NH40: 1 | NI40: 1 | NK40: 1 | NL40: 1 | NM40: 1 | NN40: 1 | NO40: 1 | NP40: 1 | NQ40: 1 | NR40: 1 | NS40: 1 | NT40: 1 | NU40: 1 | NV40: 2 | NW40: 2 | NX40: 2 | NY40: 2 | NZ40: 2 | OA40: 2 | OB40: 2 | OC40: 2 | OD40: 2 | OE40: 2 | OF40: 2 | OG40: 2 | OH40: 2 | OI40: 1 | OJ40: 1 | OK40: 1 | OL40: 1 | OM40: 1 | ON40: 1 | OO40: 1 | OP40: 1 | OQ40: 1 | OR40: 1 | OS40: 1 | OT40: 1
A41: 34 | B41: Cordonul sigiliului (sîrmă zincată 0,5 mm) | C41: m | D41: =429/250/1.2 -> 1.43 | E41: https://uniplast.md/ro/product/sirma-zincata-pentru-sigilii-s05-mm-l250-m | F41: 0.83 | G41: 2.08 | H41: 0.83 | I41: =MIN(D41,F41) -> 0.83 | J41: 0.8 | K41: 0.8 | L41: 0.8 | M41: 1.02 | N41: 1.6 | O41: 1.6 | P41: 1.7 | Q41: 1.7 | R41: 1.7 | S41: 1.8 | T41: 1.8 | U41: 1.8 | V41: 1.85 | W41: 1.95 | X41: 2.35 | Y41: 0.8 | Z41: 0.8 | AA41: 0.8 | AB41: 0.8 | AC41: 0.8 | AD41: 0.8 | AE41: 0.8 | AF41: 0.8 | AG41: 0.8 | AH41: 0.8 | AI41: 0.8 | AJ41: 0.8 | AK41: 0.8 | AL41: 0.8 | AM41: 0.8 | AN41: 0.8 | AO41: 0.8 | AP41: 1 | AQ41: 1 | AR41: 1 | AS41: 1 | AT41: 1 | AU41: 1 | AV41: 1 | AW41: 1 | AX41: 1 | AY41: 1 | AZ41: 1 | BA41: 1 | BB41: 1 | BC41: 1 | BD41: 1 | BE41: 1 | BF41: 1 | BG41: 1 | BH41: 1 | BI41: 1 | BJ41: 1 | BK41: 1 | BL41: 1 | BM41: 1 | BN41: 1 | BO41: 1 | BP41: 1 | BQ41: 1 | BR41: 1 | BS41: 1 | BT41: 1 | BU41: 1 | BV41: 1 | BW41: 1.02 | BX41: 1.02 | BY41: 1.02 | BZ41: 1.02 | CA41: 1.02 | CB41: 1.02 | CC41: 1.02 | CD41: 1.02 | CE41: 1.02 | CF41: 1.02 | CG41: 1.02 | CH41: 1.02 | CI41: 1.02 | CJ41: 1.02 | CK41: 1.02 | CL41: 1.275 | CM41: 1.275 | CN41: 1.275 | CO41: 1.275 | CP41: 1.275 | CQ41: 1.275 | CR41: 1.275 | CS41: 1.275 | CT41: 1.275 | CU41: 1.275 | CV41: 1.275 | CW41: 1.275 | CX41: 1.275 | CY41: 1.275 | CZ41: 1.4 | DA41: 1.4 | DB41: 1.4 | DC41: 1.4 | DD41: 1.4 | DE41: 1.4 | DF41: 1.4 | DG41: 1.4 | DH41: 1.4 | DI41: 1.4 | DJ41: 1.4 | DK41: 1.4 | DL41: 1.4 | DM41: 1.7 | DN41: 1.7 | DO41: 1.7 | DP41: 1.7 | DQ41: 1.7 | DR41: 1.7 | DS41: 1.7 | DT41: 1.7 | DU41: 1.7 | DV41: 1.7 | DW41: 1.7 | DX41: 1.7 | DY41: 1.7 | DZ41: 1.7 | EA41: 1.7 | EB41: 1.7 | EC41: 1.7 | ED41: 1.7 | EE41: 1.7 | EF41: 1.7 | EG41: 1.7 | EH41: 1.7 | EI41: 1.7 | EJ41: 1.7 | EK41: 1.7 | EL41: 1.7 | EM41: 1.7 | EN41: 1.7 | EO41: 1.7 | EP41: 1.7 | EQ41: 1.7 | ER41: 1.7 | ES41: 1.7 | ET41: 1.8 | EU41: 1.8 | EV41: 1.8 | EW41: 1.8 | EX41: 1.8 | EY41: 1.8 | EZ41: 1.8 | FA41: 1.8 | FB41: 1.8 | FC41: 1.8 | FD41: 1.8 | FE41: 1.8 | FF41: 1.8 | FG41: 1.8 | FH41: 1.8 | FI41: 1.8 | FJ41: 1.8 | FK41: 1.8 | FL41: 1.8 | FM41: 1.8 | FN41: 1.8 | FO41: 1.8 | FP41: 1.8 | FQ41: 1.8 | FR41: 1.8 | FS41: 1.8 | FT41: 1.8 | FU41: 1.8 | FV41: 1.8 | FW41: 1.8 | FX41: 1.85 | FY41: 1.85 | FZ41: 1.85 | GA41: 1.85 | GB41: 1.85 | GC41: 1.85 | GD41: 1.85 | GE41: 1.85 | GF41: 1.85 | GL41: 0.8 | GM41: 0.8 | GN41: 1.02 | GO41: 1.6 | GP41: 1.6 | GQ41: 1.7 | GR41: 1.7 | GS41: 1.7 | GT41: 1.8 | GU41: 1.8 | GV41: 1.8 | GW41: 1.85 | GX41: 1.95 | GY41: 2.35 | GZ41: 0.8 | HA41: 0.8 | HB41: 0.8 | HC41: 0.8 | HD41: 0.8 | HE41: 0.8 | HF41: 0.8 | HG41: 0.8 | HH41: 0.8 | HI41: 0.8 | HJ41: 0.8 | HK41: 0.8 | HL41: 0.8 | HM41: 0.8 | HN41: 0.8 | HO41: 0.8 | HP41: 0.8 | HQ41: 1 | HR41: 1 | HS41: 1 | HT41: 1 | HU41: 1 | HV41: 1 | HW41: 1 | HX41: 1 | HY41: 1 | HZ41: 1 | IA41: 1 | IB41: 1 | IC41: 1 | ID41: 1 | IE41: 1 | IF41: 1 | IG41: 1 | IH41: 1.02 | II41: 1.02 | IJ41: 1.02 | IK41: 1.02 | IL41: 1.02 | IM41: 1.02 | IN41: 1.02 | IO41: 1.02 | IP41: 1.02 | IQ41: 1.02 | IR41: 1.02 | IS41: 1.02 | IT41: 1.02 | IU41: 1.02 | IV41: 1.02 | IW41: 1.275 | IX41: 1.275 | IY41: 1.275 | IZ41: 1.275 | JA41: 1.275 | JB41: 1.275 | JC41: 1.275 | JD41: 1.275 | JE41: 1.275 | JF41: 1.275 | JG41: 1.275 | JH41: 1.275 | JI41: 1.275 | JJ41: 1.275 | JK41: 1.4 | JL41: 1.4 | JM41: 1.4 | JN41: 1.4 | JO41: 1.4 | JP41: 1.4 | JQ41: 1.4 | JR41: 1.4 | JS41: 1.4 | JT41: 1.4 | JU41: 1.4 | JV41: 1.4 | JW41: 1.4 | JX41: 1.7 | JY41: 1.7 | JZ41: 1.7 | KA41: 1.7 | KB41: 1.7 | KC41: 1.7 | KD41: 1.7 | KE41: 1.7 | KF41: 1.7 | KG41: 1.7 | KH41: 1.7 | KI41: 1.7 | KJ41: 1.7 | KK41: 1.7 | KL41: 1.7 | KM41: 1.7 | KN41: 1.7 | KO41: 1.7 | KP41: 1.7 | KQ41: 1.7 | KR41: 1.7 | KS41: 1.7 | KT41: 1.7 | KU41: 1.7 | KV41: 1.7 | KW41: 1.7 | KX41: 1.7 | KY41: 1.7 | KZ41: 1.7 | LA41: 1.7 | LB41: 1.7 | LC41: 1.7 | LD41: 1.7 | LE41: 1.8 | LF41: 1.8 | LG41: 1.8 | LH41: 1.8 | LI41: 1.8 | LJ41: 1.8 | LK41: 1.8 | LL41: 1.8 | LM41: 1.8 | LN41: 1.8 | LO41: 1.8 | LP41: 1.8 | LQ41: 1.8 | LR41: 1.8 | LS41: 1.8 | LT41: 1.8 | LU41: 1.8 | LV41: 1.8 | LW41: 1.8 | LX41: 1.8 | LY41: 1.8 | LZ41: 1.8 | MA41: 1.8 | MB41: 1.8 | MC41: 1.8 | MD41: 1.8 | ME41: 1.8 | MF41: 1.8 | MG41: 1.8 | MH41: 1.8 | MI41: 1.85 | MJ41: 1.85 | MK41: 1.85 | ML41: 1.85 | MM41: 1.85 | MN41: 1.85 | MO41: 1.85 | MP41: 1.85 | MQ41: 1.85 | MS41: 1.6 | MT41: 2 | MU41: =1.7*2 -> 3.4 | MV41: =1.85*2 -> 3.7 | MW41: =2.35*2 -> 4.7 | MX41: 2.35 | MY41: 0.8 | MZ41: 1 | NA41: 1.7 | NB41: 2.35 | NC41: 0.8 | ND41: 2.35 | NE41: 0.8 | NF41: 1 | NG41: =1.7 -> 1.7 | NH41: =1.85 -> 1.85 | NI41: =2.35 -> 2.35 | NK41: 1 | NL41: 1 | NM41: 1 | NN41: 1 | NO41: 1 | NP41: 1 | NQ41: 1.7 | NR41: 1.7 | NS41: 1.7 | NT41: 1.8 | NU41: 1.85 | NV41: 1.5 | NW41: 1.5 | NX41: 1.5 | NY41: 1.5 | NZ41: 1.5 | OA41: 1.5 | OB41: =1.7*2 -> 3.4 | OC41: =1.7*2 -> 3.4 | OD41: =1.7*2 -> 3.4 | OE41: =1.8*2 -> 3.6 | OF41: =1.85*2 -> 3.7 | OG41: 1.6 | OH41: 1.6 | OI41: 1 | OJ41: 1 | OK41: 1 | OL41: 1 | OM41: 1 | ON41: 1 | OO41: 1 | OP41: 1.7 | OQ41: 1.7 | OR41: 1.7 | OS41: 1.8 | OT41: 1.85
A42: 35 | B42: Cînepă fuior (cîlț) | C42: kg | D42: =505/1.2 -> 420.83333 | E42: https://uniplast.md/ro/product/cinepa-etansare-100-g-unigarn100-unipak | F42: 340 | G42: 441.67 | H42: 305 | I42: =MIN(D42,F42) -> 340 | J42: 0.004 | K42: 0.004 | L42: 0.004 | M42: 0.004 | N42: 0.004 | O42: 0.004 | P42: 0.004 | Q42: 0.004 | R42: 0.004 | S42: 0.004 | T42: 0.004 | U42: 0.004 | V42: 0.004 | W42: 0.004 | X42: 0.004 | Y42: 0.004 | Z42: 0.004 | AA42: 0.004 | AB42: 0.004 | AC42: 0.004 | AD42: 0.004 | AE42: 0.004 | AF42: 0.004 | AG42: 0.004 | AH42: 0.004 | AI42: 0.004 | AJ42: 0.004 | AK42: 0.004 | AL42: 0.004 | AM42: 0.004 | AN42: 0.004 | AO42: 0.004 | AP42: 0.004 | AQ42: 0.004 | AR42: 0.004 | AS42: 0.004 | AT42: 0.004 | AU42: 0.004 | AV42: 0.004 | AW42: 0.004 | AX42: 0.004 | AY42: 0.004 | AZ42: 0.004 | BA42: 0.004 | BB42: 0.004 | BC42: 0.004 | BD42: 0.004 | BE42: 0.004 | BF42: 0.004 | BG42: 0.004 | BH42: 0.004 | BI42: 0.004 | BJ42: 0.004 | BK42: 0.004 | BL42: 0.004 | BM42: 0.004 | BN42: 0.004 | BO42: 0.004 | BP42: 0.004 | BQ42: 0.004 | BR42: 0.004 | BS42: 0.004 | BT42: 0.004 | BU42: 0.004 | BV42: 0.004 | BW42: 0.004 | BX42: 0.004 | BY42: 0.004 | BZ42: 0.004 | CA42: 0.004 | CB42: 0.004 | CC42: 0.004 | CD42: 0.004 | CE42: 0.004 | CF42: 0.004 | CG42: 0.004 | CH42: 0.004 | CI42: 0.004 | CJ42: 0.004 | CK42: 0.004 | CL42: 0.004 | CM42: 0.004 | CN42: 0.004 | CO42: 0.004 | CP42: 0.004 | CQ42: 0.004 | CR42: 0.004 | CS42: 0.004 | CT42: 0.004 | CU42: 0.004 | CV42: 0.004 | CW42: 0.004 | CX42: 0.004 | CY42: 0.004 | CZ42: 0.004 | DA42: 0.004 | DB42: 0.004 | DC42: 0.004 | DD42: 0.004 | DE42: 0.004 | DF42: 0.004 | DG42: 0.004 | DH42: 0.004 | DI42: 0.004 | DJ42: 0.004 | DK42: 0.004 | DL42: 0.004 | GL42: 0.004 | GM42: 0.004 | GN42: 0.004 | GO42: 0.004 | GP42: 0.004 | GQ42: 0.004 | GR42: 0.004 | GS42: 0.004 | GT42: 0.004 | GU42: 0.004 | GV42: 0.004 | GW42: 0.004 | GX42: 0.004 | GY42: 0.004 | GZ42: 0.004 | HA42: 0.004 | HB42: 0.004 | HC42: 0.004 | HD42: 0.004 | HE42: 0.004 | HF42: 0.004 | HG42: 0.004 | HH42: 0.004 | HI42: 0.004 | HJ42: 0.004 | HK42: 0.004 | HL42: 0.004 | HM42: 0.004 | HN42: 0.004 | HO42: 0.004 | HP42: 0.004 | HQ42: 0.004 | HR42: 0.004 | HS42: 0.004 | HT42: 0.004 | HU42: 0.004 | HV42: 0.004 | HW42: 0.004 | HX42: 0.004 | HY42: 0.004 | HZ42: 0.004 | IA42: 0.004 | IB42: 0.004 | IC42: 0.004 | ID42: 0.004 | IE42: 0.004 | IF42: 0.004 | IG42: 0.004 | IH42: 0.004 | II42: 0.004 | IJ42: 0.004 | IK42: 0.004 | IL42: 0.004 | IM42: 0.004 | IN42: 0.004 | IO42: 0.004 | IP42: 0.004 | IQ42: 0.004 | IR42: 0.004 | IS42: 0.004 | IT42: 0.004 | IU42: 0.004 | IV42: 0.004 | IW42: 0.004 | IX42: 0.004 | IY42: 0.004 | IZ42: 0.004 | JA42: 0.004 | JB42: 0.004 | JC42: 0.004 | JD42: 0.004 | JE42: 0.004 | JF42: 0.004 | JG42: 0.004 | JH42: 0.004 | JI42: 0.004 | JJ42: 0.004 | JK42: 0.004 | JL42: 0.004 | JM42: 0.004 | JN42: 0.004 | JO42: 0.004 | JP42: 0.004 | JQ42: 0.004 | JR42: 0.004 | JS42: 0.004 | JT42: 0.004 | JU42: 0.004 | JV42: 0.004 | JW42: 0.004 | MS42: 0.008 | MT42: 0.008 | MX42: 0.004 | MY42: 0.004 | MZ42: 0.004 | NA42: 0.004 | NB42: 0.004 | NC42: 0.004 | ND42: 0.004 | NE42: 0.004 | NF42: 0.004 | NK42: 0.004 | NL42: 0.005 | NM42: 0.006 | NN42: 0.008 | NO42: 0.009 | NP42: 0.01 | NV42: 0.004 | NW42: 0.005 | NX42: 0.006 | NY42: 0.008 | NZ42: 0.009 | OA42: 0.01 | OG42: 0.004 | OH42: 0.004 | OI42: 0.004
A43: 36 | B43: Pasta de etanșare 1Kg-500 lei | C43: 400 gr - 83 lei | D43: 1.3 | F43: 0.4 | G43: 1.3 | H43: 0.4 | I43: =MIN(D43,F43) -> 0.4 | J43: 1 | K43: 1 | L43: 1 | M43: 1 | N43: 1 | O43: 1 | P43: 1 | Q43: 1 | R43: 1 | S43: 1 | T43: 1 | U43: 1 | V43: 1 | W43: 1 | X43: 1 | Y43: 1 | Z43: 1 | AA43: 1 | AB43: 1 | AC43: 1 | AD43: 1 | AE43: 1 | AF43: 1 | AG43: 1 | AH43: 1 | AI43: 1 | AJ43: 1 | AK43: 1 | AL43: 1 | AM43: 1 | AN43: 1 | AO43: 1 | AP43: 1 | AQ43: 1 | AR43: 1 | AS43: 1 | AT43: 1 | AU43: 1 | AV43: 1 | AW43: 1 | AX43: 1 | AY43: 1 | AZ43: 1 | BA43: 1 | BB43: 1 | BC43: 1 | BD43: 1 | BE43: 1 | BF43: 1 | BG43: 1 | BH43: 1 | BI43: 1 | BJ43: 1 | BK43: 1 | BL43: 1 | BM43: 1 | BN43: 1 | BO43: 1 | BP43: 1 | BQ43: 1 | BR43: 1 | BS43: 1 | BT43: 1 | BU43: 1 | BV43: 1 | BW43: 1 | BX43: 1 | BY43: 1 | BZ43: 1 | CA43: 1 | CB43: 1 | CC43: 1 | CD43: 1 | CE43: 1 | CF43: 1 | CG43: 1 | CH43: 1 | CI43: 1 | CJ43: 1 | CK43: 1 | CL43: 1 | CM43: 1 | CN43: 1 | CO43: 1 | CP43: 1 | CQ43: 1 | CR43: 1 | CS43: 1 | CT43: 1 | CU43: 1 | CV43: 1 | CW43: 1 | CX43: 1 | CY43: 1 | CZ43: 1 | DA43: 1 | DB43: 1 | DC43: 1 | DD43: 1 | DE43: 1 | DF43: 1 | DG43: 1 | DH43: 1 | DI43: 1 | DJ43: 1 | DK43: 1 | DL43: 1 | GL43: 1 | GM43: 1 | GN43: 1 | GO43: 1 | GP43: 1 | GQ43: 1 | GR43: 1 | GS43: 1 | GT43: 1 | GU43: 1 | GV43: 1 | GW43: 1 | GX43: 1 | GY43: 1 | GZ43: 1 | HA43: 1 | HB43: 1 | HC43: 1 | HD43: 1 | HE43: 1 | HF43: 1 | HG43: 1 | HH43: 1 | HI43: 1 | HJ43: 1 | HK43: 1 | HL43: 1 | HM43: 1 | HN43: 1 | HO43: 1 | HP43: 1 | HQ43: 1 | HR43: 1 | HS43: 1 | HT43: 1 | HU43: 1 | HV43: 1 | HW43: 1 | HX43: 1 | HY43: 1 | HZ43: 1 | IA43: 1 | IB43: 1 | IC43: 1 | ID43: 1 | IE43: 1 | IF43: 1 | IG43: 1 | IH43: 1 | II43: 1 | IJ43: 1 | IK43: 1 | IL43: 1 | IM43: 1 | IN43: 1 | IO43: 1 | IP43: 1 | IQ43: 1 | IR43: 1 | IS43: 1 | IT43: 1 | IU43: 1 | IV43: 1 | IW43: 1 | IX43: 1 | IY43: 1 | IZ43: 1 | JA43: 1 | JB43: 1 | JC43: 1 | JD43: 1 | JE43: 1 | JF43: 1 | JG43: 1 | JH43: 1 | JI43: 1 | JJ43: 1 | JK43: 1 | JL43: 1 | JM43: 1 | JN43: 1 | JO43: 1 | JP43: 1 | JQ43: 1 | JR43: 1 | JS43: 1 | JT43: 1 | JU43: 1 | JV43: 1 | JW43: 1 | MS43: 1 | MT43: 1 | MY43: 1 | MZ43: 1 | NA43: 1 | NB43: 1 | NC43: 1 | NE43: 1 | NF43: 1 | NK43: 1 | NL43: 1 | NM43: 1 | NN43: 1 | NO43: 1 | NP43: 1 | NV43: 1 | NW43: 1 | NX43: 1 | NY43: 1 | NZ43: 1 | OA43: 1 | OG43: 1 | OH43: 1 | OI43: 1
A44: 37 | B44: Electrozi | C44: kg | D44: 83 | E44: https://volta.md/produs/electrozi-asr-143-2 | F44: 87 | G44: 74.17 | H44: 70.4 | I44: =MIN(D44,F44) -> 83 | J44: 0.021 | K44: 0.021 | L44: 0.021 | M44: 0.021 | N44: 0.1 | O44: 0.1 | P44: 0.1 | Q44: 0.132 | R44: 0.157 | S44: 0.19 | T44: 0.235 | U44: 0.29 | V44: 0.4 | W44: 0.5 | X44: 0.59 | GL44: 0.021 | GM44: 0.021 | GN44: 0.021 | GO44: 0.1 | GP44: 0.1 | GQ44: 0.1 | GR44: 0.132 | GS44: 0.157 | GT44: 0.19 | GU44: 0.235 | GV44: 0.29 | GW44: 0.4 | GX44: 0.5 | GY44: 0.59 | NC44: 0.1
A45: 38 | B45: Gaz natural | C45: % | D45: 13.1 | G45: 28 | H45: 28 | I45: =D45 -> 13.1 | J45: 2.302 | K45: 2.302 | L45: 2.302 | M45: 2.302 | N45: 2.302 | O45: 2.302 | P45: 3.07 | Q45: 3.07 | R45: 3.6 | S45: 4.34 | T45: 24.56 | U45: 25.36 | V45: 34.76 | W45: 43.64 | X45: 51.72 | GL45: 2.3 | GM45: 2.3 | GN45: 2.3 | GO45: 2.3 | GP45: 2.3 | GQ45: 3.07 | GR45: 3.07 | GS45: 3.6 | GT45: 4.34 | GU45: 6.14 | GV45: 6.34 | GW45: 8.69 | GX45: 10.91 | GY45: 12.93
A46: 39 | B46: Oxigen | C46: % | D46: 150 | G46: 150 | H46: 150 | I46: =D46 -> 150 | J46: 6.02 | K46: 6.02 | L46: 6.02 | M46: 6.02 | N46: 6.02 | O46: 6.02 | P46: 8.02 | Q46: 8.02 | R46: 9.39 | S46: 11.35 | T46: 16.05 | U46: 16.57 | V46: 22.7 | W46: 28.5 | X46: 33.78 | GL46: 6.02 | GM46: 6.02 | GN46: 6.02 | GO46: 6.02 | GP46: 6.02 | GQ46: 8.02 | GR46: 8.02 | GS46: 9.39 | GT46: 11.35 | GU46: 16.05 | GV46: 16.57 | GW46: 22.7 | GX46: 28.5 | GY46: 33.78
A47: 40 | B47: Fiting (adaptor) dn 20 (3/4) | C47: buc | D47: 10 | E47: https://uniplast.md/ro/435565/ | F47: 12 | G47: 7.08 | H47: 10 | I47: =MIN(D47,F47) -> 10 | J47: 2 | Y47: 2 | Z47: 2 | AA47: 2 | AB47: 2 | AC47: 2 | AD47: 2 | AE47: 2 | AF47: 2 | AG47: 2 | AH47: 2 | AI47: 2 | AJ47: 2 | AK47: 2 | AL47: 2 | AM47: 2 | AN47: 2 | AO47: 2
A48: 41 | B48: Fiting (adaptor) dn 25 (1) | C48: buc | D48: 20.83 | E48: https://uniplast.md/ro/435555/ | G48: 12.5 | H48: 16.35 | I48: =D48 -> 20.83 | K48: 2 | L48: 2 | AP48: 2 | AQ48: 2 | AR48: 2 | AS48: 2 | AT48: 2 | AU48: 2 | AV48: 2 | AW48: 2 | AX48: 2 | AY48: 2 | AZ48: 2 | BA48: 2 | BB48: 2 | BC48: 2 | BD48: 2 | BE48: 2 | BF48: 2 | BG48: 2 | BH48: 2 | BI48: 2 | BJ48: 2 | BK48: 2 | BL48: 2 | BM48: 2 | BN48: 2 | BO48: 2 | BP48: 2 | BQ48: 2 | BR48: 2 | BS48: 2 | BT48: 2 | BU48: 2 | BV48: 2 | BW48: 2 | BX48: 2
A49: 42 | B49: Fiting (adaptor) dn 32 (1 1/4) | C49: buc | D49: 24.17 | E49: https://uniplast.md/ro/435519/ | G49: 17.5 | H49: 24.17 | I49: =D49 -> 24.17 | M49: 2 | BY49: 2 | BZ49: 2 | CA49: 2 | CB49: 2 | CC49: 2 | CD49: 2 | CE49: 2 | CF49: 2 | CG49: 2 | CH49: 2 | CI49: 2 | CJ49: 2 | CK49: 2
A50: 43 | B50: Fiting (adaptor) dn 40 (1 1/2) | C50: buc | D50: 48.58 | E50: https://uniplast.md/ro/435483/ | G50: 25 | H50: 48.58 | I50: =D50 -> 48.58 | N50: 2 | CL50: 2 | CM50: 2 | CN50: 2 | CO50: 2 | CP50: 2 | CQ50: 2 | CR50: 2 | CS50: 2 | CT50: 2 | CU50: 2 | CV50: 2 | CW50: 2 | CX50: 2 | CY50: 2
A51: 44 | B51: Fiting (adaptor) dn 50 (2) | C51: buc | D51: 65.42 | E51: https://uniplast.md/ro/435433/ | G51: 33.33 | H51: 65.42 | I51: =D51 -> 65.42 | O51: 2 | CZ51: 2 | DA51: 2 | DB51: 2 | DC51: 2 | DD51: 2 | DE51: 2 | DF51: 2 | DG51: 2 | DH51: 2 | DI51: 2 | DJ51: 2 | DK51: 2 | DL51: 2
A52: 45 | B52: Ventil (robinet cu bilă/sferă) D = 20 mm (3/4) | C52: buc | D52: 151.88 | E52: https://www.metroterm.md/robinet-cu-bila-ff-34-tdm-4-32363 | F52: 110 | G52: 129.17 | H52: 88 | I52: =MIN(D52,F52) -> 110 | J52: 2 | Y52: 2 | Z52: 2 | AA52: 2 | AB52: 2 | AC52: 2 | AD52: 2 | AE52: 2 | AF52: 2 | AG52: 2 | AH52: 2 | AI52: 2 | AJ52: 2 | AK52: 2 | AL52: 2 | AM52: 2 | AN52: 2 | AO52: 2
A53: 46 | B53: Ventil (robinet cu bilă) D = 25 mm (1) | C53: buc | D53: =287/1.2 -> 239.16667 | E53: https://www.metroterm.md/robinet-cu-bila-ff-1-tdm-4-32361 | F53: 239 | G53: 226.67 | H53: 137.96 | I53: =MIN(D53,F53) -> 239 | K53: 2 | L53: 2 | AP53: 2 | AQ53: 2 | AR53: 2 | AS53: 2 | AT53: 2 | AU53: 2 | AV53: 2 | AW53: 2 | AX53: 2 | AY53: 2 | AZ53: 2 | BA53: 2 | BB53: 2 | BC53: 2 | BD53: 2 | BE53: 2 | BF53: 2 | BG53: 2 | BH53: 2 | BI53: 2 | BJ53: 2 | BK53: 2 | BL53: 2 | BM53: 2 | BN53: 2 | BO53: 2 | BP53: 2 | BQ53: 2 | BR53: 2 | BS53: 2 | BT53: 2 | BU53: 2 | BV53: 2
A54: 47 | B54: Ventil (robinet cu bilă) D = 32 mm (1 1/4) | C54: buc | D54: 430.32 | E54: https://www.metroterm.md/robinet-cu-bila-ff-114-tdm-4-39557 | G54: 353.33 | H54: 430.32 | I54: =D54 -> 430.32 | M54: 2 | BW54: 2 | BX54: 2 | BY54: 2 | BZ54: 2 | CA54: 2 | CB54: 2 | CC54: 2 | CD54: 2 | CE54: 2 | CF54: 2 | CG54: 2 | CH54: 2 | CI54: 2 | CJ54: 2 | CK54: 2
A55: 48 | B55: Ventil (robinet cu bilă) D = 40 mm (1 1/2) | C55: buc | D55: =583.02/1.2 -> 485.85 | E55: https://www.metroterm.md/robinet-cu-bila-ff-112-tdm-4-39556 | G55: 546.67 | H55: 455.63 | I55: =D55 -> 485.85 | N55: 2 | CL55: 2 | CM55: 2 | CN55: 2 | CO55: 2 | CP55: 2 | CQ55: 2 | CR55: 2 | CS55: 2 | CT55: 2 | CU55: 2 | CV55: 2 | CW55: 2 | CX55: 2 | CY55: 2
A56: 49 | B56: Ștuț cu filet din oțel (filet) D = 20mm | C56: buc | D56: 44 | E56: https://supraten.md/stut-negru-mm-filet-3-4-150mm-125743-ru | G56: 5.83 | H56: 44 | I56: =D56 -> 44 | J56: 1 | GL56: 1
A57: 50 | B57: Ștuț cu filet din oțel (filet) D = 25mm | C57: buc | D57: 41.67 | E57: https://romstal.md/stut-negru-filetat-la-un-capat-1quotx150-mm-fe | F57: 11 | G57: 8.33 | H57: 8.8 | I57: =MIN(D57,F57) -> 11 | K57: 1 | L57: 1 | GM57: 1
A58: 51 | B58: Ștuț cu filet din oțel (filet) D = 32mm | C58: buc | D58: 101.67 | E58: https://romstal.md/stut-negru-filetat-la-un-capat-1-14quotx150-mm-fe | G58: 12.5 | H58: 101.67 | I58: =D58 -> 101.67 | M58: 1 | GN58: 1
A59: 52 | B59: Ștuț cu filet din oțel (filet) D = 40mm | C59: buc | D59: =79.99 -> 79.99 | E59: https://romstal.md/stut-negru-filetat-la-un-capat-1-12quotx150-mm-fe | G59: 13.33 | H59: 79.99 | I59: =D59 -> 79.99 | N59: 1 | GO59: 1
A60: 53 | B60: Ștuț cu filet din oțel (filet) D = 50mm | C60: buc | D60: 165.83 | E60: https://romstal.md/stut-negru-filetat-la-un-capat-2quotx150-mm-fe | G60: 20.83 | H60: 165.83 | I60: =D60 -> 165.83 | O60: 1 | GP60: 1
A61: 54 | B61: Ștuț cu filet din oțel (filet) D = 65mm | C61: buc | D61: 168.83 | E61: https://romstal.md/stut-negru-filetat-la-un-capat-2-12quotx150-mm-fe | G61: 45.83 | H61: 168.83 | I61: =D61 -> 168.83 | P61: 1 | GQ61: 1
A62: 55 | B62: Robinet de concesie de fontă FI DN 50 | C62: buc | D62: =1200/1.2 -> 1000 | E62: https://tehnoconduct.md/product/robinet-fonta-concesie-fi-fi-dn50-0000013673?srsltid=AU7gw4WlPeSwAFv4kO4UprS91jGUmLmylLSC8VwhDSo7S5vwIBNt1RbP | F62: 749 | G62: 840 | H62: 1408 | I62: =MIN(D62,F62) -> 749 | O62: 2 | CZ62: 2 | DA62: 2 | DB62: 2 | DC62: 2 | DD62: 2 | DE62: 2 | DF62: 2 | DG62: 2 | DH62: 2 | DI62: 2 | DJ62: 2 | DK62: 2 | DL62: 2
A63: 56 | B63: Vană D=65mm | C63: buc | D63: =1300/1.2 -> 1083.3333 | E63: https://uniplast.md/ro/product/vana-fonta-d-65-pn16-pana-cauciucata-din3352-f5-l262-mm-4-gauri | G63: 1400 | H63: 1550 | I63: =D63 -> 1083.3333 | P63: 2 | DM63: 2 | DN63: 2 | DO63: 2 | DP63: 2 | DQ63: 2 | DR63: 2 | DS63: 2 | DT63: 2 | DU63: 2 | DV63: 2 | DW63: 2 | DX63: 2
A64: 57 | B64: Vană D=75mm | C64: buc | D64: 2600 | G64: 1083.33 | H64: 2600 | I64: =D64 -> 2600 | Q64: 2 | DY64: 2 | DZ64: 2 | EA64: 2 | EB64: 2 | EC64: 2 | ED64: 2 | EE64: 2 | EF64: 2 | EG64: 2 | EH64: 2 | EI64: 2
A65: 58 | B65: Vană D=90mm | C65: buc | D65: 2953.75 | E65: https://uniplast.md/ro/437644/ | G65: 2275 | H65: 2953.75 | I65: =D65 -> 2953.75 | R65: 2 | EJ65: 2 | EK65: 2 | EL65: 2 | EM65: 2 | EN65: 2 | EO65: 2 | EP65: 2 | EQ65: 2 | ER65: 2 | ES65: 2
A66: 59 | B66: Vană D=110mm | C66: buc | D66: 3300 | E66: https://uniplast.md/ro/437644/ | G66: 2135 | H66: 3300 | I66: =D66 -> 3300 | S66: 2 | ET66: 2 | EU66: 2 | EV66: 2 | EW66: 2 | EX66: 2 | EY66: 2 | EZ66: 2 | FA66: 2 | FB66: 2
A67: 60 | B67: Vană D=125mm | C67: buc | D67: 3200 | E67: https://hydrosystems.md/vane-fonta/van%C4%83-font%C4%83-model-spaniol-125-mm | G67: 1882.5 | H67: 3200 | I67: =D67 -> 3200 | T67: 2 | FC67: 2 | FD67: 2 | FE67: 2 | FF67: 2 | FG67: 2 | FH67: 2 | FI67: 2 | FJ67: 2
A68: 61 | B68: Vană D=140mm | C68: buc | D68: 3600 | E68: https://hydrosystems.md/vane-fonta/van%C4%83-font%C4%83-model-spaniol-150-mm | G68: 3082.5 | H68: 3600 | I68: =D68 -> 3600 | U68: 2 | FK68: 2 | FL68: 2 | FM68: 2 | FN68: 2 | FO68: 2 | FP68: 2 | FQ68: 2
A69: 62 | B69: Vană D=160mm | C69: buc | D69: 3600 | G69: 3082.5 | H69: 3600 | I69: =D69 -> 3600 | FR69: 2 | FS69: 2 | FT69: 2 | FU69: 2 | FV69: 2 | FW69: 2
A70: 63 | B70: Vană D=180mm | C70: buc | D70: 6250 | G70: 4889.58 | H70: 6250 | I70: =D70 -> 6250 | FX70: 2 | FY70: 2 | FZ70: 2 | GA70: 2 | GB70: 2
A71: 64 | B71: Vană D=200mm | C71: buc | D71: =8678/1.2 -> 7231.6667 | E71: https://uniplast.md/ro/product/vana-fonta-d200-pn16-pana-alama-din3352-f4-l230-mm-12-gauri | G71: 7750 | H71: 6250 | I71: =D71 -> 7231.6667 | V71: 2 | GC71: 2 | GD71: 2 | GE71: 2 | GF71: 2
A72: 65 | B72: Vană D=250mm | C72: buc | D72: 12300 | E72: https://uniplast.md/ro/product/vana-fonta-d250-pn16-pana-cauciucata-din3352-f5-l445-mm-12-gauri | G72: 9021.25 | H72: 12300 | I72: =D72 -> 12300 | W72: 2
A73: 66 | B73: Vană D=300mm | C73: buc | D73: 14000 | E73: https://hydrosystems.md/vane-fonta/vana-fonta-model-spaniol-300-mm-pn16 | G73: 12303.75 | H73: 14000 | I73: =D73 -> 14000 | X73: 2
A74: 67 | B74: Flanșă liberă D65/75mm | C74: buc | D74: 228.75 | E74: https://uniplast.md/ro/6438827/ | G74: 166.67 | H74: 228.75 | I74: =D74 -> 228.75 | Q74: 2 | DM74: 2 | DN74: 2 | DO74: 2 | DP74: 2 | DQ74: 2 | DR74: 2 | DS74: 2 | DT74: 2 | DU74: 2 | DV74: 2 | DW74: 2 | DX74: 2 | DY74: 2 | DZ74: 2 | EA74: 2 | EB74: 2 | EC74: 2 | ED74: 2 | EE74: 2 | EF74: 2 | EG74: 2 | EH74: 2 | EI74: 2
A75: 68 | B75: Flanșă liberă D80/90mm | C75: buc | D75: =240/1.2 -> 200 | E75: https://hydrosystems.md/flan%C8%99%C4%83-liber%C4%83-din-o%C8%9Bel-8090 | G75: 300 | H75: 258.33 | I75: =D75 -> 200 | R75: 2 | EJ75: 2 | EK75: 2 | EL75: 2 | EM75: 2 | EN75: 2 | EO75: 2 | EP75: 2 | EQ75: 2 | ER75: 2 | ES75: 2
A76: 69 | B76: Flanșă liberă D100/110mm | C76: buc | D76: 271.67 | E76: https://uniplast.md/ro/6422044/ | G76: 250 | H76: 271.67 | I76: =D76 -> 271.67 | S76: 2 | ET76: 2 | EU76: 2 | EV76: 2 | EW76: 2 | EX76: 2 | EY76: 2 | EZ76: 2 | FA76: 2 | FB76: 2
A77: 70 | B77: Flanșă liberă D125/140mm | C77: buc | D77: =455.5/1.2 -> 379.58333 | E77: https://uniplast.md/ro/product/flansa-libera-otel-d125140-158-8-gauri-mos | G77: 541.67 | H77: 444.58 | I77: =D77 -> 379.58333 | T77: 2 | FC77: 2 | FD77: 2 | FE77: 2 | FF77: 2 | FG77: 2 | FH77: 2 | FI77: 2 | FJ77: 2 | FK77: 2 | FL77: 2 | FM77: 2 | FN77: 2 | FO77: 2 | FP77: 2 | FQ77: 2
A78: 71 | B78: Flanșă liberă D150/160mm | C78: buc | D78: 426 | E78: https://uniplast.md/ro/product/flansa-libera-otel-d125140-158-8-gauri-mos | G78: 522.5 | H78: 426 | I78: =D78 -> 426 | U78: 2 | FR78: 2 | FS78: 2 | FT78: 2 | FU78: 2 | FV78: 2 | FW78: 2
A79: 72 | B79: Flanșă liberă D150/180mm | C79: buc | D79: 426 | G79: 522.5 | H79: 426 | I79: =D79 -> 426 | FX79: 2 | FY79: 2 | FZ79: 2 | GA79: 2 | GB79: 2
A80: 73 | B80: Flanșă liberă D200mm | C80: buc | D80: 690 | G80: 625 | H80: 690 | I80: =D80 -> 690 | V80: 2 | GC80: 2 | GD80: 2 | GE80: 2 | GF80: 2
A81: 74 | B81: Flanșă liberă D250mm | C81: buc | D81: 1268.33 | E81: https://uniplast.md/ro/6422041/ | G81: 595.83 | H81: 1268.33 | I81: =D81 -> 1268.33 | W81: 2
A82: 75 | B82: Flanșă liberă D300/315mm | C82: buc | D82: 1771.25 | E82: https://uniplast.md/ro/6422040/ | G82: 612.5 | H82: 1771.25 | I82: =D82 -> 1771.25 | X82: 2
A83: 76 | B83: Adaptor cu flanșă D65 mm | C83: buc | D83: 89.9 | E83: https://uniplast.md/ro/product/adaptor-flansa-d-63-pe100-sdr17-pehdpn10-gf | G83: 89.9 | H83: 89.9 | I83: =D83 -> 89.9 | Q83: 1 | DM83: 1 | DN83: 1 | DO83: 1 | DP83: 1 | DQ83: 1 | DR83: 1 | DS83: 1 | DT83: 1 | DU83: 1 | DV83: 1 | DW83: 1 | DX83: 1 | GR83: 1
A84: 77 | B84: Adaptor cu flanșă D80mm | C84: buc | D84: 127.17 | E84: https://uniplast.md/ro/product/adaptor-flansa-d-75-pe100-sdr11-pehdpn16-gf | G84: 127.17 | H84: 127.17 | I84: =D84 -> 127.17 | R84: 1 | DY84: 1 | DZ84: 1 | EA84: 1 | EB84: 1 | EC84: 1 | ED84: 1 | EE84: 1 | EF84: 1 | EG84: 1 | EH84: 1 | EI84: 1 | EJ84: 1 | EK84: 1 | EL84: 1 | EM84: 1 | EN84: 1 | EO84: 1 | EP84: 1 | EQ84: 1 | ER84: 1 | ES84: 1 | GS84: 1
A85: 78 | B85: Adaptor cu flanșă D100mm | C85: buc | D85: 143 | E85: https://uniplast.md/ro/product/adaptor-flansa-d110-pe100-sdr11-pehdpn16-gf | G85: 138.16 | H85: 143 | I85: =D85 -> 143 | S85: 1 | ET85: 1 | EU85: 1 | EV85: 1 | EW85: 1 | EX85: 1 | EY85: 1 | EZ85: 1 | FA85: 1 | FB85: 1 | GT85: 1
A86: 79 | B86: Adaptor cu flanșă D125mm | C86: buc | D86: 207 | E86: https://uniplast.md/ro/product/adaptor-flansa-d125-pe100-sdr11-pehdpn16-gf | G86: 197.91667 | H86: 207 | I86: =D86 -> 207 | T86: 1 | FC86: 1 | FD86: 1 | FE86: 1 | FF86: 1 | FG86: 1 | FH86: 1 | FI86: 1 | FJ86: 1 | GU86: 1
A87: 80 | B87: Adaptor cu flanșă D150mm | C87: buc | D87: 291.67 | E87: https://uniplast.md/ro/product/adaptor-flansa-d160-pe100-sdr11-pehdpn16-gf | G87: 291.67 | H87: 291.67 | I87: =D87 -> 291.67 | U87: 1 | FK87: 1 | FL87: 1 | FM87: 1 | FN87: 1 | FO87: 1 | FP87: 1 | FQ87: 1 | FR87: 1 | FS87: 1 | FT87: 1 | FU87: 1 | FV87: 1 | FW87: 1 | GV87: 1
A88: 81 | B88: Adaptor cu flanșă D180mm | C88: buc | D88: 455.5 | G88: 497.52 | H88: 455.5 | I88: =D88 -> 455.5
A89: 82 | B89: Adaptor cu flanșă D200mm | C89: buc | D89: 720 | E89: https://uniplast.md/ro/product/adaptor-flansa-d200-pe100-sdr11-pehdpn16-1 | G89: 500 | H89: 720 | I89: =D89 -> 720 | V89: 1 | FX89: 1 | FY89: 1 | FZ89: 1 | GA89: 1 | GB89: 1 | GC89: 1 | GD89: 1 | GE89: 1 | GF89: 1 | GW89: 1
A90: 83 | B90: Adaptor cu flanșă D250mm | C90: buc | D90: =980/1.2 -> 816.66667 | E90: https://hydrosystems.md/adaptor-flan%C8%99%C4%83-pentru-%C8%9Bevi-pe-250-mm | G90: 2916.67 | H90: 1251 | I90: =D90 -> 816.66667 | W90: 1 | GX90: 1
A91: 84 | B91: Adaptor cu flanșă D300mm | C91: buc | D91: 1802.92 | E91: https://uniplast.md/ro/product/adaptor-flansa-d315-pe100-sdr11-pehdpn16-gf | G91: 4833.33 | H91: 1802.92 | I91: =D91 -> 1802.92 | X91: 1 | GY91: 1
A92: 85 | B92: Capăt flanșă D75mm | C92: buc | D92: 105.83 | E92: https://uniplast.md/ro/430761/ | G92: 105.83 | H92: 105.83 | I92: =D92 -> 105.83 | Q92: 2 | DM92: 2 | DN92: 2 | DO92: 2 | DP92: 2 | DQ92: 2 | DR92: 2 | DS92: 2 | DT92: 2 | DU92: 2 | DV92: 2 | DW92: 2 | DX92: 2 | DY92: 2 | DZ92: 2 | EA92: 2 | EB92: 2 | EC92: 2 | ED92: 2 | EE92: 2 | EF92: 2 | EG92: 2 | EH92: 2 | EI92: 2
A93: 86 | B93: Capăt flanșă D90mm | C93: buc | D93: 117.5 | E93: https://uniplast.md/ro/product/adaptor-flansa-d-90-pe100-sdr11-pehdpn16-gf | G93: 117.5 | H93: 117.5 | I93: =D93 -> 117.5 | R93: 2 | EJ93: 2 | EK93: 2 | EL93: 2 | EM93: 2 | EN93: 2 | EO93: 2 | EP93: 2 | EQ93: 2 | ER93: 2 | ES93: 2
A94: 87 | B94: Capăt flanșă D110mm | C94: buc | D94: =240/1.2 -> 200 | E94: https://instalco.md/product/capat-flansa-apagaz-pe100-d110-sdr17 | G94: 121.25 | H94: 113.33 | I94: =D94 -> 200 | S94: 2 | ET94: 2 | EU94: 2 | EV94: 2 | EW94: 2 | EX94: 2 | EY94: 2 | EZ94: 2 | FA94: 2 | FB94: 2 | FC94: 2 | FD94: 2 | FE94: 2 | FF94: 2 | FG94: 2 | FH94: 2 | FI94: 2 | FJ94: 2
A95: 88 | B95: Capăt flanșă D140mm | C95: buc | D95: 280.33 | E95: https://uniplast.md/ro/431028/ | G95: 223.33 | H95: 280.33 | I95: =D95 -> 280.33 | T95: 2 | FK95: 2 | FL95: 2 | FM95: 2 | FN95: 2 | FO95: 2 | FP95: 2 | FQ95: 2
A96: 89 | B96: Capăt flanșă D160mm | C96: buc | D96: 287.5 | E96: https://uniplast.md/ro/product/adaptor-flansa-d160-pe100-sdr11-pehdpn16-gf | G96: 232.5 | H96: 287.5 | I96: =D96 -> 287.5 | U96: 2 | FR96: 2 | FS96: 2 | FT96: 2 | FU96: 2 | FV96: 2 | FW96: 2
A97: 90 | B97: Capăt flanșă D180mm | C97: buc | D97: =669/1.2 -> 557.5 | E97: https://tehnoconduct.md/product/capat-flansa-pe100-sdr11-apa-gaz-d180-0000003339?srsltid=AU7gw4XRbB0WTpICvYhFVt8Gu44IfiiycWfx8rTNrmbjBJF2g887Rz1s | G97: 384.17 | H97: 372.92 | I97: =D97 -> 557.5 | FX97: 2 | FY97: 2 | FZ97: 2 | GA97: 2 | GB97: 2
A98: 91 | B98: Capăt flanșă D200mm | C98: buc | D98: 679.5 | E98: https://uniplast.md/ro/product/adaptor-flansa-d200-pe100-sdr11-pehdpn16-1 | G98: 378.33 | H98: 679.5 | I98: =D98 -> 679.5 | V98: 2 | GC98: 2 | GD98: 2 | GE98: 2 | GF98: 2
A99: 92 | B99: Capăt flanșă D250mm | C99: buc | D99: 1089.58 | E99: https://uniplast.md/ro/431019/ | G99: 1089.58 | H99: 1089.58 | I99: =D99 -> 1089.58 | W99: 2
A100: 93 | B100: Capăt flanșă D300mm | C100: buc | D100: 1791.67 | E100: https://uniplast.md/ro/product/adaptor-flansa-d315-pe100-sdr11-pehdpn16-gf | G100: 1625 | H100: 1791.67 | I100: =D100 -> 1791.67 | X100: 2
A101: 94 | B101: Țeavă din polietilenă D = 20mm | C101: m | D101: 8.84 | E101: https://www.metroterm.md/pe-100-teava-sdr17-pn10-d20-4-32594 | G101: 8.84 | H101: 8.84 | I101: =D101 -> 8.84 | J101: 5 | Y101: 5 | Z101: 5 | AA101: 5 | AB101: 5 | AC101: 5 | AD101: 5 | AE101: 5 | AF101: 5 | AG101: 5 | AH101: 5 | AI101: 5 | AJ101: 5 | AK101: 5 | AL101: 5 | AM101: 5 | AN101: 5 | AO101: 5
...

Sheet Materiale operator
A3: Denumirea materialelor nemijlocit utilizate la furnizare serviciului auxiliar
A4: sursa prețurilor conform facturile fiscale 2026, liste de prețuri a furnizorilor.
A6: Nr. | B6: Denumirea materialelor | C6: Unitatea de măsură | D6: Cantitatea | E6: Preț, lei
A7: 1 | B7: Ciment | C7: kg | D7: 1 | E7: 2.9
A8: 2 | B8: Cînepă fuior (cîlț) | C8: kg | D8: 1 | E8: 340
A9: 3 | B9: Clapetă de sens unic (supapă) D15 mm | C9: buc | D9: 1 | E9: 99
A10: 4 | B10: Colier (piesă) de branşare cu filet interior D=50X25 | C10: buc | D10: 1 | E10: 37
A11: 5 | B11: Contor d = 15 mmm | C11: buc | D11: 1 | E11: 365
A12: 6 | B12: Cordonul sigiliului (ață capron 0,8 mm) | C12: m | D12: 1 | E12: 0.83
A13: 7 | B13: Dop pentru bușonare D = 15mm | C13: buc | D13: 1 | E13: 18
A14: 8 | B14: Dop pentru bușonare D = 25mm | C14: buc | D14: 1 | E14: 39
A15: 9 | B15: Dop pentru bușonare, PVC, D = 110mm | C15: buc | D15: 1 | E15: 13.6
A16: 10 | B16: Electrozi | C16: kg | D16: 1 | E16: 87
A17: 11 | B17: Filtru D = 15 mm | C17: buc | D17: 1 | E17: 119
A18: 12 | B18: Foi format A4 | C18: buc | D18: 1 | E18: 0.2
A19: 13 | B19: Gaz natural (5% din valoarea materialelor) | C19: % | D19: 1 | E19: x
A20: 14 | B20: Niplu 1/2M x 1/2M | C20: buc | D20: 1 | E20: 17
A21: 15 | B21: Nisip | C21: kg | D21: 1 | E21: 0.8
A22: 16 | B22: Oxgen(5% din valoarea materialelor) | C22: % | D22: 1 | E22: x
A23: 17 | B23: Racord cu filet exterior compresiune OL/PE 25mm x 15mm | C23: buc | D23: 1 | E23: 32
A24: 18 | B24: Racord cu filet exterior compresiune OL/PE 25mm x 25mm | C24: buc | D24: 1 | E24: 32
A25: 19 | B25: Racord cu filet exterior compresiune OL/PE 32mm x 25mm | C25: buc | D25: 1 | E25: 38
A26: 20 | B26: Ventil (robinet cu bilă) D = 15 mm | C26: buc | D26: 1 | E26: 110
A27: 21 | B27: Ventil (robinet cu bilă) D = 25 mm | C27: buc | D27: 1 | E27: 239
A28: 22 | B28: Set de legătură | C28: comp. | D28: 1 | E28: 65
A29: 23 | B29: Sigiliu | C29: buc | D29: 1 | E29: 3.38
A30: 24 | B30: Ștuț cu filet din oțel (filet) D = 25mm | C30: buc | D30: 1 | E30: 11
A31: 25 | B31: Țeavă PE100 SDR 17 PN10 D = 25mm | C31: m | D31: 1 | E31: 13
A32: 26 | B32: Țeavă PVC SN4 D = 160 x 4 mm | C32: m | D32: 1 | E32: 279
A33: 27 | B33: Pasta de etansare(1 kg -500 lei) | C33: g | D33: 1 | E33: 0.4
A34: 28 | B34: Fiting (adaptor) | C34: buc | D34: 1 | E34: 12
... A101: 95 | B101: Teu Comp. 50x40x50 | C101: buc | D101: 1 | E101: 219

Sheet Preț Combustibil
A1: Data | O1: Data
A3: Data publicării | B3: Cotațiile medii Platts (lei/tona) | C3: Evoluția zilnică a Cotaților medii Platts | E3: PL*CV (lei/litru) | F3: MC | G3: AC | H3: TVA | I3: PC | O3: Data publicării | P3: Cotațiile medii Platts (lei/tona) | Q3: Evoluția zilnică a Cotaților medii Platts | S3: PL*CV (lei/litru) | T3: MC | U3: AC | V3: TVA | W3: PC
C4: lei/tona | D4: % | Q4: lei/tona | R4: %
A5: 46282 | B5: 22520.45 | C5: 123.87 | D5: 0.55 | E5: 17.07 | F5: 3.82 | G5: 7.17 | H5: 5.61 | I5: 33.67 | O5: 46282 | P5: 26405.5 | Q5: 321.21 | R5: 1.23 | S5: 22.31 | T5: 4.21 | U5: 3.36 | V5: 5.98 | W5: 35.86
A6: 46281 | B6: 22396.58 | C6: 223.48 | D6: 1.01 | E6: 16.98 | F6: 3.82 | G6: 7.17 | H6: 5.59 | I6: 33.56 | O6: 46281 | P6: 26084.29 | Q6: 376.01 | R6: 1.46 | S6: 22.04 | T6: 4.21 | U6: 3.36 | V6: 5.92 | W6: 35.53
A7: 46280 | B7: 22173.1 | C7: 101.2 | D7: 0.46 | E7: 16.8 | F7: 3.82 | G7: 7.17 | H7: 5.56 | I7: 33.35 | O7: 46280 | P7: 25708.28 | Q7: 175.57 | R7: 0.69 | S7: 21.72 | T7: 4.21 | U7: 3.36 | V7: 5.86 | W7: 35.15
A8: 46279 | B8: 22071.9 | C8: 247.91 | D8: 1.14 | E8: 16.73 | F8: 3.82 | G8: 7.17 | H8: 5.54 | I8: 33.26 | O8: 46279 | P8: 25532.71 | Q8: 508.23 | R8: 2.03 | S8: 21.57 | T8: 4.21 | U8: 3.36 | V8: 5.83 | W8: 34.97
A9: 46276 | B9: 21823.99 | C9: 293.8 | D9: 1.36 | E9: 16.54 | F9: 3.82 | G9: 7.17 | H9: 5.51 | I9: 33.04 | O9: 46276 | P9: 25024.48 | Q9: 583.65 | R9: 2.39 | S9: 21.15 | T9: 4.21 | U9: 3.36 | V9: 5.74 | W9: 34.46
A10: 46275 | B10: 21530.19 | C10: 199.58 | D10: 0.94 | E10: 16.32 | F10: 3.82 | G10: 7.17 | H10: 5.46 | I10: 32.77 | O10: 46275 | P10: 24440.83 | Q10: 357.59 | R10: 1.48 | S10: 20.65 | T10: 4.21 | U10: 3.36 | V10: 5.64 | W10: 33.86
A11: 46274 | B11: 21330.61 | C11: 282.16 | D11: 1.34 | E11: 16.17 | F11: 3.82 | G11: 7.17 | H11: 5.43 | I11: 32.59 | O11: 46274 | P11: 24083.24 | Q11: 269.43 | R11: 1.13 | S11: 20.35 | T11: 4.21 | U11: 3.36 | V11: 5.58 | W11: 33.5
A12: 46273 | B12: 21048.45 | C12: 254.24 | D12: 1.22 | E12: 15.95 | F12: 3.82 | G12: 7.17 | H12: 5.39 | I12: 32.33 | O12: 46273 | P12: 23813.81 | Q12: 281.64 | R12: 1.2 | S12: 20.12 | T12: 4.21 | U12: 3.36 | V12: 5.54 | W12: 33.23
A13: 46272 | B13: 20794.21 | C13: 156.07 | D13: 0.76 | E13: 15.76 | F13: 3.82 | G13: 7.17 | H13: 5.35 | I13: 32.1 | O13: 46272 | P13: 23532.17 | Q13: 32.49 | R13: 0.14 | S13: 19.88 | T13: 4.21 | U13: 3.36 | V13: 5.49 | W13: 32.94
A14: 46269 | B14: 20638.14 | C14: 162.84 | D14: 0.8 | E14: 15.64 | F14: 3.82 | G14: 7.17 | H14: 5.33 | I14: 31.96 | O14: 46269 | P14: 23499.68 | Q14: 67.15 | R14: 0.29 | S14: 19.86 | T14: 4.21 | U14: 3.36 | V14: 5.48 | W14: 32.91
A15: 46268 | B15: 20475.3 | C15: 191.42 | D15: 0.94 | E15: 15.52 | F15: 3.82 | G15: 7.17 | H15: 5.3 | I15: 31.81 | O15: 46268 | P15: 23432.53 | Q15: 74.43 | R15: 0.32 | S15: 19.8 | T15: 4.21 | U15: 3.36 | V15: 5.47 | W15: 32.84
A16: 46267 | B16: 20283.88 | C16: 114.52 | D16: 0.57 | E16: 15.38 | F16: 3.82 | G16: 7.17 | H16: 5.27 | I16: 31.64 | O16: 46267 | P16: 23358.1 | Q16: 72.74 | R16: 0.31 | S16: 19.73 | T16: 4.21 | U16: 3.36 | V16: 5.46 | W16: 32.76
... A120: 46113 | B120: 18584.15 | C120: 103.76 | D120: 0.56 | E120: 14.09 | F120: 3.62 | G120: 7.17 | H120: 4.97 | I120: 29.85 | O120: 46113 | P120: 23681.61 | Q120: 219.93 | R120: 0.94 | S120: 20.02 | T120: 3.64 | U120: 3.36 | V120: 5.4 | W120: 32.42
I121: =AVERAGE(I5:I120) -> 29.947759 | W121: =AVERAGE(W5:W120) -> 29.982328
G122: Tarif mediu fara TVA | I122: =I121/1.2 -> 24.956466 | U122: Tarif mediu fara TVA | W122: =W121/1.2 -> 24.985273

Sheet CPSA
B2: Funcții necesare
B3: Funcția | D3: Salariu tarifar pe oră | S3: Coef. Tarifar (mediu) | T3: Categor. | U3: Vechime munca | V3: Coef. Sofer | W3: Salariu tarifar | X3: Salariu ora
B4: Lăcătuș | D4: =X4 -> 67.659763 | F4: Cuantumul salariului minim pe țară 2026 | Q4: 6300 | R4: lei | S4: 1.2 | T4: III | U4: 0.15 | W4: =(S4*$Q$4*$Q$5)+(S4*$Q$4*$Q$5*$Q$6)+(S4*$Q$4*$Q$5*U4) -> 11434.5 | X4: =W4/$Q$7 -> 67.659763
B5: Sofer | D5: =X5 -> 64.953373 | F5: Coeficientul de complexitate (chelt. de baza) | N5: CB conform HANRE 292 din 10.06.2025 | Q5: 1.21 | S5: 1.2 | T5: III | U5: 0.1 | W5: =(S5*$Q$4*$Q$5)+(S5*$Q$4*$Q$5*$Q$6)+(S5*$Q$4*$Q$5*U5)+(S5*$Q$4*$Q$5*V5) -> 10977.12 | X5: =W5/$Q$7 -> 64.953373
B6: Excavatorist V | D6: =X6 -> 67.659763 | F6: Prima la salariu | Q6: 0.1 | S6: 1.2 | T6: III | U6: 0.15 | W6: =(S6*$Q$4*$Q$5)+(S6*$Q$4*$Q$5*$Q$6)+(S6*$Q$4*$Q$5*U6)+(S6*$Q$4*$Q$5*V6) -> 11434.5 | X6: =W6/$Q$7 -> 67.659763
B7: Electrogazosudor V | D7: =X7 -> 59.540592 | F7: Nr mediu de ore pe lună pentru un program complet de lucru (HG 165 din 09.03.2010) | Q7: 169 | R7: ore/lun | S7: 1.2 | T7: III | W7: =(S7*$Q$4*$Q$5)+(S7*$Q$4*$Q$5*$Q$6)+(S7*$Q$4*$Q$5*U7) -> 10062.36 | X7: =W7/$Q$7 -> 59.540592
B8: Masinist la excavatoare | D8: 0 | F8: Prima de asigurare obligatorie medicală achitată de angajator | R8: % | S8: =(1.4+2.07)/2 -> 1.735 | T8: V | U8: 0.1 | W8: =(S8*$Q$4*$Q$5)+(S8*$Q$4*$Q$5*$Q$6)+(S8*$Q$4*$Q$5*U8) -> 15871.086 | X8: =W8/$Q$7 -> 93.911751
B9: Maistru | D9: =X9 -> 0 | F9: Contribuţii de asigurări sociale achitate de angajator | Q9: 24 | R9: % | U9: 0 | W9: =(S9*$Q$4*$Q$5)+(S9*$Q$4*$Q$5*$Q$6)+(S9*$Q$4*$Q$5*U9) -> 0 | X9: =W9/$Q$7 -> 0
B10: Inginer la linie | D10: =X10 -> 0 | W10: =(S10*$Q$4*$Q$5)+(S10*$Q$4*$Q$5*$Q$6)+(S10*$Q$4*$Q$5*U10) -> 0 | X10: =W10/$Q$7 -> 0
B11: Funcţionari administrativi | D11: =X11 -> 45.106509 | F11: Salariu tarifar/ de funcție conform Anexa4 la H.G.R.M nr.743/2002 | S11: =Q4 -> 6300 | T11: functionar | W11: =S11*Q5 -> 7623 | X11: =W11/$Q$7 -> 45.106509
B12: Controlor ( inginer, maistru) | D12: =X12 -> 99.628107 | F12: Salariu tarifar/ de funcție conform Anexa4 la H.G.R.M nr.743/2003 | S12: 12650 | T12: functionar | W12: =(S12*$Q$5)+(S12*$Q$5*$Q$6) -> 16837.15 | X12: =W12/$Q$7 -> 99.628107
E16: Branșare în țeavă de oțel | U16: Branșare în țeavă de polietilenă, fontă | GT16: Racordarea instalațiilor interne la rețeaua publică de canalizare | HA16: Branșare în țeavă de oțel, în cazul cînd consumatorii au asigurat executarea branșamentului | HO16: Branșare în țeavă de polietilenă, fontă, în cazul cînd consumatorii au asigurat executarea branșamentului | ON16: Racordarea instalațiilor interne la rețeaua publică de canalizare, în cazul în care consumatorul a executat racordul de canalizare | OS16: Reconectarea la rețeaua publică de alimentare cu apă a instalațiilor interne de apă ale consumatorului, care anterior au fost deconectate de operator din cauza încălcării de către consumator a normelor de utilizare și/sau a clauzelor contractuale. | OW16: Reconectarea la rețeaua publică de canalizare a instalațiilor interne de canalizare ale consumatorului, care anterior au fost deconectate de către operator din cauza încălcării de către consumator a normelor de utilizare și/sau a clauzelor contractuale | OX16: Deconectarea de la rețeaua publică de alimentare cu apă a instalațiilor interne de apă, la solicitarea consumatorului, cu excepția cazurilor de reziliere a contractului pentru furnizarea serviciului public de alimentare cu apă. | PB16: Deconectarea de la rețeaua publică de canalizare a instalațiilor interne de canalizare, la solicitarea consumatorului, cu excepția cazurilor de reziliere a contractului pentru furnizarea serviciului public de canalizare | PC16: Reconectarea la rețeaua publică de alimentare cu apă a instalațiilor interne de apă, care anterior au fost deconectate la solicitarea consumatorului. | PG16: Reconectarea la reţeaua publică de canalizare a instalaţiilor interne de canalizare, care anterior au fost deconectate la solicitarea consumatorului | PH16: Instalarea și sigilarea contorului, la solicitarea consumatorului | PS16: Demontarea, remontarea și sigilarea contorului la solicitarea consumatorului | QD16: Demontarea, verificarea metrologică de expertiză, remontarea și sigilarea contorului în cazul cînd consumatorul solicită efectuarea verificării metrologice de expertiză, iar în rezultatul verificării se constată că contorul corespunde normelor | QE16: Demontarea, verificarea metrologică, remontarea și sigilarea contorului în cazul cînd acesta a fost deteriorat din vina consumatorului | QF16: Demontarea contorului deteriorat din vina consumatorului și instalarea unui alt contor, în cazul cînd contorul deteriorat nu poate fi reparat | QG16: Sigilarea contorului, la solicitarea consumatorului, în cazul deteriorării de către consumator a sigiliului aplicat de operator. | QR16: Eliberarea, la solicitarea consumatorului, din arhiva operatorului a copiilor de pe acte și de pe proiect, prezentate de consumator operatorului.
B17: Operațiunile desfășurate | C17: Funcția | D17: Categoria de calificare | E17: casnici | F17: noncasnici | G17: casnici | H17: noncasnici | I17: noncasnici | J17: noncasnici | K17: noncasnici | L17: noncasnici | M17: noncasnici | N17: noncasnici | O17: noncasnici | P17: noncasnici | Q17: noncasnici | R17: noncasnici | S17: noncasnici | T17: noncasnici | U17: casnici | V17: noncasnici | W17: casnici | X17: noncasnici | Y17: casnici | Z17: noncasnici | AA17: casnici | AB17: noncasnici | AC17: casnici | AD17: noncasnici | AE17: casnici | AF17: noncasnici | AG17: casnici | AH17: noncasnici | AI17: casnici | AJ17: noncasnici | AK17: casnici | AL17: noncasnici | AM17: casnici | AN17: noncasnici | AO17: casnici | AP17: noncasnici | AQ17: casnici | AR17: noncasnici | AS17: casnici | AT17: noncasnici | AU17: casnici | AV17: noncasnici | AW17: casnici | AX17: noncasnici | AY17: casnici | AZ17: noncasnici | BA17: casnici | BB17: noncasnici | BC17: casnici | BD17: casnici | BE17: noncasnici | BF17: casnici | BG17: noncasnici | BH17: casnici | BI17: noncasnici | BJ17: casnici | BK17: noncasnici | BL17: casnici | BM17: noncasnici | BN17: casnici | BO17: noncasnici | BP17: casnici | BQ17: noncasnici | BR17: casnici | BS17: noncasnici | BT17: casnici | BU17: noncasnici | BV17: casnici | BW17: noncasnici | BX17: casnici | BY17: noncasnici | BZ17: casnici | CA17: noncasnici | CB17: casnici | CC17: noncasnici | CD17: casnici | CE17: noncasnici | CF17: casnici | CG17: noncasnici | CH17: casnici | CI17: noncasnici | CJ17: noncasnici | CK17: noncasnici | CL17: noncasnici | CM17: noncasnici | CN17: noncasnici | CO17: noncasnici | CP17: noncasnici | CQ17: noncasnici | CR17: noncasnici | CS17: noncasnici | CT17: noncasnici | CU17: noncasnici | CV17: noncasnici | CW17: noncasnici | CX17: noncasnici | CY17: noncasnici | CZ17: noncasnici | DA17: noncasnici | DB17: noncasnici | DC17: noncasnici | DD17: noncasnici | DE17: noncasnici | DF17: noncasnici | DG17: noncasnici | DH17: noncasnici | DI17: noncasnici | DJ17: noncasnici | DK17: noncasnici | DL17: noncasnici | DM17: noncasnici | DN17: noncasnici | DO17: noncasnici | DP17: noncasnici | DQ17: noncasnici | DR17: noncasnici | DS17: noncasnici | DT17: noncasnici | DU17: noncasnici | DV17: noncasnici | DW17: noncasnici | DX17: noncasnici | DY17: noncasnici | DZ17: noncasnici | EA17: noncasnici | EB17: noncasnici | EC17: noncasnici | ED17: noncasnici | EE17: noncasnici | EF17: noncasnici | EG17: noncasnici | EH17: noncasnici | EI17: noncasnici | EJ17: noncasnici | EK17: noncasnici | EL17: noncasnici | EM17: noncasnici | EN17: noncasnici | EO17: noncasnici | EP17: noncasnici | EQ17: noncasnici | ER17: noncasnici | ES17: noncasnici | ET17: noncasnici | EU17: noncasnici | EV17: noncasnici | EW17: noncasnici | EX17: noncasnici | EY17: noncasnici | EZ17: noncasnici | FA17: noncasnici | FB17: noncasnici | FC17: noncasnici | FD17: noncasnici | FE17: noncasnici | FF17: noncasnici | FG17: noncasnici | FH17: noncasnici | FI17: noncasnici | FJ17: noncasnici | FK17: noncasnici | FL17: noncasnici | FM17: noncasnici | FN17: noncasnici | FO17: noncasnici | FP17: noncasnici | FQ17: noncasnici | FR17: noncasnici | FS17: noncasnici | FT17: noncasnici | FU17: noncasnici | FV17: noncasnici | FW17: noncasnici | FX17: noncasnici | FY17: noncasnici | FZ17: noncasnici | GA17: noncasnici | GB17: noncasnici | GC17: noncasnici | GD17: noncasnici | GE17: noncasnici | GF17: noncasnici | GG17: noncasnici | GH17: noncasnici | GI17: noncasnici | GJ17: noncasnici | GK17: noncasnici | GL17: noncasnici | GM17: noncasnici | GN17: noncasnici | GO17: noncasnici | GP17: noncasnici | GQ17: noncasnici | GR17: noncasnici | GS17: noncasnici | GT17: casnici/ noncasnici | GU17: casnici/ noncasnici | GV17: noncasnici | GW17: noncasnici | GX17: noncasnici | GY17: casnici | GZ17: noncasnici | HA17: casnici | HB17: noncasnici | HC17: noncasnici | HD17: noncasnici | HE17: noncasnici | HF17: noncasnici | HG17: noncasnici | HH17: noncasnici | HI17: noncasnici | HJ17: noncasnici | HK17: noncasnici | HL17: noncasnici | HM17: noncasnici | HN17: noncasnici | HO17: casnici | HP17: noncasnici | HQ17: casnici | HR17: noncasnici | HS17: casnici | HT17: noncasnici | HU17: casnici | HV17: noncasnici | HW17: casnici | HX17: noncasnici | HY17: casnici | HZ17: noncasnici | IA17: casnici | IB17: noncasnici | IC17: casnici | ID17: noncasnici | IE17: casnici | IF17: noncasnici | IG17: casnici | IH17: noncasnici | II17: casnici | IJ17: noncasnici | IK17: casnici | IL17: noncasnici | IM17: casnici | IN17: noncasnici | IO17: casnici | IP17: noncasnici | IQ17: casnici | IR17: noncasnici | IS17: casnici | IT17: noncasnici | IU17: casnici | IV17: noncasnici | IW17: casnici | IX17: casnici | IY17: noncasnici | IZ17: casnici | JA17: noncasnici | JB17: casnici | JC17: noncasnici | JD17: casnici | JE17: noncasnici | JF17: casnici | JG17: noncasnici | JH17: casnici | JI17: noncasnici | JJ17: casnici | JK17: noncasnici | JL17: casnici | JM17: noncasnici | JN17: casnici | JO17: noncasnici | JP17: casnici | JQ17: noncasnici | JR17: casnici | JS17: noncasnici | JT17: casnici | JU17: noncasnici | JV17: casnici | JW17: noncasnici | JX17: casnici | JY17: noncasnici | JZ17: casnici | KA17: noncasnici | KB17: casnici | KC17: noncasnici | KD17: noncasnici | KE17: noncasnici | KF17: noncasnici | KG17: noncasnici | KH17: noncasnici | KI17: noncasnici | KJ17: noncasnici | KK17: noncasnici | KL17: noncasnici | KM17: noncasnici | KN17: noncasnici | KO17: noncasnici | KP17: noncasnici | KQ17: noncasnici | KR17: noncasnici | KS17: noncasnici | KT17: noncasnici | KU17: noncasnici | KV17: noncasnici | KW17: noncasnici | KX17: noncasnici | KY17: noncasnici | KZ17: noncasnici | LA17: noncasnici | LB17: noncasnici | LC17: noncasnici | LD17: noncasnici | LE17: noncasnici | LF17: noncasnici | LG17: noncasnici | LH17: noncasnici | LI17: noncasnici | LJ17: noncasnici | LK17: noncasnici | LL17: noncasnici | LM17: noncasnici | LN17: noncasnici | LO17: noncasnici | LP17: noncasnici | LQ17: noncasnici | LR17: noncasnici | LS17: noncasnici | LT17: noncasnici | LU17: noncasnici | LV17: noncasnici | LW17: noncasnici | LX17: noncasnici | LY17: noncasnici | LZ17: noncasnici | MA17: noncasnici | MB17: noncasnici | MC17: noncasnici | MD17: noncasnici | ME17: noncasnici | MF17: noncasnici | MG17: noncasnici | MH17: noncasnici | MI17: noncasnici | MJ17: noncasnici | MK17: noncasnici | ML17: noncasnici | MM17: noncasnici | MN17: noncasnici | MO17: noncasnici | MP17: noncasnici | MQ17: noncasnici | MR17: noncasnici | MS17: noncasnici | MT17: noncasnici | MU17: noncasnici | MV17: noncasnici | MW17: noncasnici | MX17: noncasnici | MY17: noncasnici | MZ17: noncasnici | NA17: noncasnici | NB17: noncasnici | NC17: noncasnici | ND17: noncasnici | NE17: noncasnici | NF17: noncasnici | NG17: noncasnici | NH17: noncasnici | NI17: noncasnici | NJ17: noncasnici | NK17: noncasnici | NL17: noncasnici | NM17: noncasnici | NN17: noncasnici | NO17: noncasnici | NP17: noncasnici | NQ17: noncasnici | NR17: noncasnici | NS17: noncasnici | NT17: noncasnici | NU17: noncasnici | NV17: noncasnici | NW17: noncasnici | NX17: noncasnici | NY17: noncasnici | NZ17: noncasnici | OA17: noncasnici | OB17: noncasnici | OC17: noncasnici | OD17: noncasnici | OE17: noncasnici | OF17: noncasnici | OG17: noncasnici | OH17: noncasnici | OI17: noncasnici | OJ17: noncasnici | OK17: noncasnici | OL17: noncasnici | OM17: noncasnici | ON17: casnici/ noncasnici | OO17: casnici/ noncasnici | OP17: noncasnici | OQ17: noncasnici | OR17: noncasnici | OS17: casnici/noncasnici | OT17: noncasnici | OU17: noncasnici | OV17: noncasnici | OW17: casnici/noncasnici | OX17: casnici/noncasnici | OY17: noncasnici | OZ17: noncasnici | PA17: noncasnici | PB17: casnici/noncasnici | PC17: casnici/noncasnici | PD17: noncasnici | PE17: noncasnici | PF17: noncasnici | PG17: casnici/ noncasnici | PH17: casnici/noncasnici | PI17: noncasnici | PJ17: noncasnici | PK17: noncasnici | PL17: noncasnici | PM17: noncasnici | PN17: noncasnici | PO17: noncasnici | PP17: noncasnici | PQ17: noncasnici | PR17: noncasnici | PS17: casnici/noncasnici | PT17: noncasnici | PU17: noncasnici | PV17: noncasnici | PW17: noncasnici | PX17: noncasnici | PY17: noncasnici | PZ17: noncasnici | QA17: noncasnici | QB17: noncasnici | QC17: noncasnici | QD17: casnic | QE17: casnic | QF17: casnic | QG17: casnici/noncasnici | QH17: noncasnici | QI17: noncasnici | QJ17: noncasnici | QK17: noncasnici | QL17: noncasnici | QM17: noncasnici | QN17: noncasnici | QO17: noncasnici | QP17: noncasnici | QQ17: noncasnici | QR17: casnici/noncasnici
E18: PE 20 mm | F18: PE 20 mm | G18: PE 25 mm | H18: PE 25mm | I18: PE 32mm | J18: PE 40mm | K18: PE 50mm | L18: PE 63mm | M18: PE 75mm | N18: PE 90mm | O18: PE 110mm | P18: PE 140mm | Q18: PE 160mm | R18: PE 200mm | S18: PE 250mm | T18: PE 300mm | U18: PE 25*20 mm | V18: PE 25*20 mm | W18: PE 32*20 mm | X18: PE 32*20 mm | Y18: PE 40*20 mm | Z18: PE 40*20 mm | AA18: PE 50*20mm | AB18: PE 50*20mm | AC18: PE 63*20mm | AD18: PE 63*20mm | AE18: PE 75*20mm | AF18: PE 75*20mm | AG18: PE 90*20mm | AH18: PE 90*20mm | AI18: PE 110*20mm | AJ18: PE 110*20mm | AK18: PE 125*20mm | AL18: PE 125*20mm | AM18: PE 140*20mm | AN18: PE 140*20mm | AO18: PE 160*20mm | AP18: PE 160*20mm | AQ18: PE 180*20mm | AR18: PE 180*20mm | AS18: PE 200*20mm | AT18: PE 200*20mm | AU18: PE 225*20mm | AV18: PE 225*20mm | AW18: PE 250*20mm | AX18: PE 250*20mm | AY18: PE 315*20mm | AZ18: PE 315*20mm | BA18: PE 350*20mm | BB18: PE 350*20mm | BC18: PE 25*25 mm | BD18: PE 32*25 mm | BE18: PE 32*25 mm | BF18: PE 40*25 mm | BG18: PE 40*25 mm | BH18: PE 50*25mm | BI18: PE 50*25mm | BJ18: PE 63*25mm | BK18: PE 63*25mm | BL18: PE 75*25mm | BM18: PE 75*25mm | BN18: PE 90*25mm | BO18: PE 90*25mm | BP18: PE 110*25mm | BQ18: PE 110*25mm | BR18: PE 125*25mm | BS18: PE 125*25mm | BT18: PE 140*25mm | BU18: PE 140*25mm | BV18: PE 160*25mm | BW18: PE 160*25mm | BX18: PE 180*25mm | BY18: PE 180*25mm | BZ18: PE 200*25mm | CA18: PE 200*25mm | CB18: PE 225*25mm | CC18: PE 225*25mm | CD18: PE 250*25mm | CE18: PE 250*25mm | CF18: PE 315*25mm | CG18: PE 315*25mm | CH18: PE 350*25mm | CI18: PE 350*25mm | CJ18: PE 40*32mm | CK18: PE 50*32mm | CL18: PE 63*32mm | CM18: PE 75*32mm | CN18: PE 90*32mm | CO18: PE 110*32mm | CP18: PE 125*32mm | CQ18: PE 140*32mm | CR18: PE 160*32mm | CS18: PE 180*32mm | CT18: PE 200*32mm | CU18: PE 225*32mm | CV18: PE 250*32mm | CW18: PE 315*32mm | CX18: PE 350*32mm | CY18: PE 50*40mm | CZ18: PE 63*40mm | DA18: PE 75*40mm | DB18: PE 90*40mm | DC18: PE 110*40mm | DD18: PE 125*40mm | DE18: PE 140*40mm | DF18: PE 160*40mm | DG18: PE 180*40mm | DH18: PE 200*40mm | DI18: PE 225*40mm | DJ18: PE 250*40mm | DK18: PE 315*40mm | DL18: PE 350*40mm | DM18: PE 63*50mm | DN18: PE 75*50mm | DO18: PE 90*50mm | DP18: PE 110*50mm | DQ18: PE 125*50mm | DR18: PE 140*50mm | DS18: PE 160*50mm | DT18: PE 180*50mm | DU18: PE 200*50mm | DV18: PE 225*50mm | DW18: PE 250*50mm | DX18: PE 315*50mm | DY18: PE 350*50mm | DZ18: PE 75*63mm | EA18: PE 90*63mm | EB18: PE 110*63mm | EC18: PE 125*63mm | ED18: PE 140*63mm | EE18: PE 160*63mm | EF18: PE 180*63mm | EG18: PE 200*63mm | EH18: PE 225*63mm | EI18: PE 250*63mm | EJ18: PE 315*63mm | EK18: PE 350*63mm | EL18: PE 90*75mm | EM18: PE 110*75mm | EN18: PE 125*75mm | EO18: PE 140*75mm | EP18: PE 160*75mm | EQ18: PE 180*75mm | ER18: PE 200*75mm | ES18: PE 225*75mm | ET18: PE 250*75mm | EU18: PE 315*75mm | EV18: PE 350*75mm | EW18: PE 110*90mm | EX18: PE 125*90mm | EY18: PE 140*90mm | EZ18: PE 160*90mm | FA18: PE 180*90mm | FB18: PE 200*90mm | FC18: PE 225*90mm | FD18: PE 250*90mm | FE18: PE 315*90mm | FF18: PE 350*90mm | FG18: PE 125*110mm | FH18: PE 140*110mm | FI18: PE 160*110mm | FJ18: PE 180*110mm | FK18: PE 200*110mm | FL18: PE 225*110mm | FM18: PE 250*110mm | FN18: PE 315*110mm | FO18: PE 350*110mm | FP18: PE 140*125mm | FQ18: PE 160*125mm | FR18: PE 180*125mm | FS18: PE 200*125mm | FT18: PE 225*125mm | FU18: PE 250*125mm | FV18: PE 315*125mm | FW18: PE 350*125mm | FX18: PE 160*140mm | FY18: PE 180*140mm | FZ18: PE 200*140mm | GA18: PE 225*140mm | GB18: PE 250*140mm | GC18: PE 315*140mm | GD18: PE 350*140mm | GE18: PE 180*160mm | GF18: PE 200*160mm | GG18: PE 225*160mm | GH18: PE 250*160mm | GI18: PE 315*160mm | GJ18: PE 350*160mm | GK18: PE 200*180mm | GL18: PE 225*180mm | GM18: PE 250*180mm | GN18: PE 315*180mm | GO18: PE 350*180mm | GP18: PE 225*200mm | GQ18: PE 250*200mm | GR18: PE 315*200mm | GS18: PE 350*200mm | GT18: PE 110 | GU18: PE 160 mm | GV18: PE 200 mm | GW18: PE 250 mm | GX18: PE 300 mm | GY18: PE 20 mm | GZ18: PE 20 mm | HA18: PE 25 mm | HB18: PE 25mm | HC18: PE 32mm | HD18: PE 40mm | HE18: PE 50mm | HF18: PE 63mm | HG18: PE 75mm | HH18: PE 90mm | HI18: PE 110mm | HJ18: PE 140mm | HK18: PE 160mm | HL18: PE 200mm | HM18: PE 250mm | HN18: PE 300mm | HO18: PE 25*20 mm | HP18: PE 25*20 mm | HQ18: PE 32*20 mm | HR18: PE 32*20 mm | HS18: PE 40*20 mm | HT18: PE 40*20 mm | HU18: PE 50*20mm | HV18: PE 50*20mm | HW18: PE 63*20mm | HX18: PE 63*20mm | HY18: PE 75*20mm | HZ18: PE 75*20mm | IA18: PE 90*20mm | IB18: PE 90*20mm | IC18: PE 110*20mm | ID18: PE 110*20mm | IE18: PE 125*20mm | IF18: PE 125*20mm | IG18: PE 140*20mm | IH18: PE 140*20mm | II18: PE 160*20mm | IJ18: PE 160*20mm | IK18: PE 180*20mm | IL18: PE 180*20mm | IM18: PE 200*20mm | IN18: PE 200*20mm | IO18: PE 225*20mm | IP18: PE 225*20mm | IQ18: PE 250*20mm | IR18: PE 250*20mm | IS18: PE 315*20mm | IT18: PE 315*20mm | IU18: PE 350*20mm | IV18: PE 350*20mm | IW18: PE 25*25 mm | IX18: PE 32*25 mm | IY18: PE 32*25 mm | IZ18: PE 40*25 mm | JA18: PE 40*25 mm | JB18: PE 50*25mm | JC18: PE 50*25mm | JD18: PE 63*25mm | JE18: PE 63*25mm | JF18: PE 75*25mm | JG18: PE 75*25mm | JH18: PE 90*25mm | JI18: PE 90*25mm | JJ18: PE 110*25mm | JK18: PE 110*25mm | JL18: PE 125*25mm | JM18: PE 125*25mm | JN18: PE 140*25mm | JO18: PE 140*25mm | JP18: PE 160*25mm | JQ18: PE 160*25mm | JR18: PE 180*25mm | JS18: PE 180*25mm | JT18: PE 200*25mm | JU18: PE 200*25mm | JV18: PE 225*25mm | JW18: PE 225*25mm | JX18: PE 250*25mm | JY18: PE 250*25mm | JZ18: PE 315*25mm | KA18: PE 315*25mm | KB18: PE 350*25mm | KC18: PE 350*25mm | KD18: PE 40*32mm | KE18: PE 50*32mm | KF18: PE 63*32mm | KG18: PE 75*32mm | KH18: PE 90*32mm | KI18: PE 110*32mm | KJ18: PE 125*32mm | KK18: PE 140*32mm | KL18: PE 160*32mm | KM18: PE 180*32mm | KN18: PE 200*32mm | KO18: PE 225*32mm | KP18: PE 250*32mm | KQ18: PE 315*32mm | KR18: PE 350*32mm | KS18: PE 50*40mm | KT18: PE 63*40mm | KU18: PE 75*40mm | KV18: PE 90*40mm | KW18: PE 110*40mm | KX18: PE 125*40mm | KY18: PE 140*40mm | KZ18: PE 160*40mm | LA18: PE 180*40mm | LB18: PE 200*40mm | LC18: PE 225*40mm | LD18: PE 250*40mm | LE18: PE 315*40mm | LF18: PE 350*40mm | LG18: PE 63*50mm | LH18: PE 75*50mm | LI18: PE 90*50mm | LJ18: PE 110*50mm | LK18: PE 125*50mm | LL18: PE 140*50mm | LM18: PE 160*50mm | LN18: PE 180*50mm | LO18: PE 200*50mm | LP18: PE 225*50mm | LQ18: PE 250*50mm | LR18: PE 315*50mm | LS18: PE 350*50mm | LT18: PE 75*63mm | LU18: PE 90*63mm | LV18: PE 110*63mm | LW18: PE 125*63mm | LX18: PE 140*63mm | LY18: PE 160*63mm | LZ18: PE 180*63mm | MA18: PE 200*63mm | MB18: PE 225*63mm | MC18: PE 250*63mm | MD18: PE 315*63mm | ME18: PE 350*63mm | MF18: PE 90*75mm | MG18: PE 110*75mm | MH18: PE 125*75mm | MI18: PE 140*75mm | MJ18: PE 160*75mm | MK18: PE 180*75mm | ML18: PE 200*75mm | MM18: PE 225*75mm | MN18: PE 250*75mm | MO18: PE 315*75mm | MP18: PE 350*75mm | MQ18: PE 110*90mm | MR18: PE 125*90mm | MS18: PE 140*90mm | MT18: PE 160*90mm | MU18: PE 180*90mm | MV18: PE 200*90mm | MW18: PE 225*90mm | MX18: PE 250*90mm | MY18: PE 315*90mm | MZ18: PE 350*90mm | NA18: PE 125*110mm | NB18: PE 140*110mm | NC18: PE 160*110mm | ND18: PE 180*110mm | NE18: PE 200*110mm | NF18: PE 225*110mm | NG18: PE 250*110mm | NH18: PE 315*110mm | NI18: PE 350*110mm | NJ18: PE 140*125mm | NK18: PE 160*125mm | NL18: PE 180*125mm | NM18: PE 200*125mm | NN18: PE 225*125mm | NO18: PE 250*125mm | NP18: PE 315*125mm | NQ18: PE 350*125mm | NR18: PE 160*140mm | NS18: PE 180*140mm | NT18: PE 200*140mm | NU18: PE 225*140mm | NV18: PE 250*140mm | NW18: PE 315*140mm | NX18: PE 350*140mm | NY18: PE 180*160mm | NZ18: PE 200*160mm | OA18: PE 225*160mm | OB18: PE 250*160mm | OC18: PE 315*160mm | OD18: PE 350*160mm | OE18: PE 200*180mm | OF18: PE 225*180mm | OG18: PE 250*180mm | OH18: PE 315*180mm | OI18: PE 350*180mm | OJ18: PE 225*200mm | OK18: PE 250*200mm | OL18: PE 315*200mm | OM18: PE 350*200mm | ON18: PE 110 | OO18: PE 160 mm | OP18: PE 200 mm | OQ18: PE 250 mm | OR18: PE 300 mm | OS18: 25mm-50mm | OT18: 63mm-90mm | OU18: 110mm-200mm | OV18: 250mm-300mm | OX18: 25mm-50mm | OY18: 63mm-90mm | OZ18: 110mm-300mm | PA18: conductă metal | PC18: 25mm-50mm | PD18: 63mm-90mm | PE18: 110mm-200mm | PF18: 250mm-300mm | PH18: 15mm | PI18: 20mm | PJ18: 25mm | PK18: 32mm | PL18: 40mm | PM18: 50mm | PN18: 65mm | PO18: 80mm | PP18: 100mm | PQ18: 150mm | PR18: 200mm | PS18: 15mm | PT18: 20mm | PU18: 25mm | PV18: 32mm | PW18: 40mm | PX18: 50mm | PY18: 65mm | PZ18: 80mm | QA18: 100mm | QB18: 150mm | QC18: 200mm | QD18: D 15 | QE18: D 15 | QF18: D 15 | QG18: 15mm | QH18: 20mm | QI18: 25mm | QJ18: 32mm | QK18: 40mm | QL18: 50mm | QM18: 65mm | QN18: 80mm | QO18: 100mm | QP18: 150mm | QQ18: 200mm
E19: 2.1 | F19: 2.1 | G19: 2.2 | H19: 2.2 | I19: 2.3 | J19: 2.4 | K19: 2.5 | L19: 2.6 | M19: 2.7 | N19: 2.8 | O19: 2.9 | P19: 2.10 | Q19: 2.11 | R19: 2.12 | S19: 2.13 | T19: 2.14 | U19: 2.15 | V19: 2.15 | W19: 2.16 | X19: 2.16 | Y19: 2.17 | Z19: 2.17 | AA19: 2.18 | AB19: 2.18 | AC19: 2.19 | AD19: 2.19 | AE19: 2.20 | AF19: 2.20 | AG19: 2.21 | AH19: 2.21 | AI19: 2.22 | AJ19: 2.22 | AK19: 2.23 | AL19: 2.23 | AM19: 2.24 | AN19: 2.24 | AO19: 2.25 | AP19: 2.25 | AQ19: 2.26 | AR19: 2.26 | AS19: 2.27 | AT19: 2.27 | AU19: 2.28 | AV19: 2.28 | AW19: 2.29 | AX19: 2.29 | AY19: 2.30 | AZ19: 2.30 | BA19: 2.31 | BB19: 2.31 | BD19: 2.32 | BE19: 2.32 | BF19: 2.33 | BG19: 2.33 | BH19: 2.34 | BI19: 2.34 | BJ19: 2.35 | BK19: 2.35 | BL19: 2.36 | BM19: 2.36 | BN19: 2.37 | BO19: 2.37 | BP19: 2.38 | BQ19: 2.38 | BR19: 2.39 | BS19: 2.39 | BT19: 2.40 | BU19: 2.40 | BV19: 2.41 | BW19: 2.41 | BX19: 2.42 | BY19: 2.42 | BZ19: 2.43 | CA19: 2.43 | CB19: 2.44 | CC19: 2.44 | CD19: 2.45 | CE19: 2.45 | CF19: 2.46 | CG19: 2.46 | CH19: 2.47 | CI19: 2.47 | CJ19: 2.48 | CK19: 2.49 | CL19: 2.50 | CM19: 2.51 | CN19: 2.52 | CO19: 2.53 | CP19: 2.54 | CQ19: 2.55 | CR19: 2.56 | CS19: 2.57 | CT19: 2.58 | CU19: 2.59 | CV19: 2.60 | CW19: 2.61 | CX19: 2.62 | CY19: 2.63 | CZ19: 2.64 | DA19: 2.65 | DB19: 2.66 | DC19: 2.67 | DD19: 2.68 | DE19: 2.69 | DF19: 2.70 | DG19: 2.71 | DH19: 2.72 | DI19: 2.73 | DJ19: 2.74 | DK19: 2.75 | DL19: 2.76 | DM19: 2.77 | DN19: 2.78 | DO19: 2.79 | DP19: 2.80 | DQ19: 2.81 | DR19: 2.82 | DS19: 2.83 | DT19: 2.84 | DU19: 2.85 | DV19: 2.86 | DW19: 2.87 | DX19: 2.88 | DY19: 2.89 | DZ19: 2.90 | EA19: 2.91 | EB19: 2.92 | EC19: 2.93 | ED19: 2.94 | EE19: 2.95 | EF19: 2.96 | EG19: 2.97 | EH19: 2.98 | EI19: 2.99 | EJ19: 2.100 | EK19: 2.101 | EL19: 2.102 | EM19: 2.103 | EN19: 2.104 | EO19: 2.105 | EP19: 2.106 | EQ19: 2.107 | ER19: 2.108 | ES19: 2.109 | ET19: 2.110 | EU19: 2.111 | EV19: 2.112 | EW19: 2.113 | EX19: 2.114 | EY19: 2.115 | EZ19: 2.116 | FA19: 2.117 | FB19: 2.118 | FC19: 2.119 | FD19: 2.120 | FE19: 2.121 | FF19: 2.122 | FG19: 2.123 | FH19: 2.124 | FI19: 2.125 | FJ19: 2.126 | FK19: 2.127 | FL19: 2.128 | FM19: 2.129 | FN19: 2.130 | FO19: 2.131 | FP19: 2.132 | FQ19: 2.133 | FR19: 2.134 | FS19: 2.135 | FT19: 2.136 | FU19: 2.137 | FV19: 2.138 | FW19: 2.139 | FX19: 2.140 | FY19: 2.141 | FZ19: 2.142 | GA19: 2.143 | GB19: 2.144 | GC19: 2.145 | GD19: 2.146 | GE19: 2.147 | GF19: 2.148 | GG19: 2.149 | GH19: 2.150 | GI19: 2.151 | GJ19: 2.152 | GK19: 2.153 | GL19: 2.154 | GM19: 2.155 | GN19: 2.156 | GO19: 2.157 | GP19: 2.158 | GQ19: 2.159 | GR19: 2.160 | GS19: 2.161 | GT19: 3.1 | GU19: 3.2 | GV19: 3.3 | GW19: 3.4 | GX19: 3.5 | GY19: 4.1 | GZ19: 4.1 | HA19: 4.2 | HB19: 4.2 | HC19: 4.3 | HD19: 4.4 | HE19: 4.5 | HF19: 4.6 | HG19: 4.7 | HH19: 4.8 | HI19: 4.9 | HJ19: 4.10 | HK19: 4.11 | HL19: 4.12 | HM19: 4.13 | HN19: 4.14 | HO19: 4.15 | HP19: 4.15 | HQ19: 4.16 | HR19: 4.16 | HS19: 4.17 | HT19: 4.17 | HU19: 4.18 | HV19: 4.18 | HW19: 4.19 | HX19: 4.19 | HY19: 4.20 | HZ19: 4.20 | IA19: 4.21 | IB19: 4.21 | IC19: 4.22 | ID19: 4.22 | IE19: 4.23 | IF19: 4.23 | IG19: 4.24 | IH19: 4.24 | II19: 4.25 | IJ19: 4.25 | IK19: 4.26 | IL19: 4.26 | IM19: 4.27 | IN19: 4.27 | IO19: 4.28 | IP19: 4.28 | IQ19: 4.29 | IR19: 4.29 | IS19: 4.30 | IT19: 4.30 | IU19: 4.31 | IV19: 4.31 | IX19: 4.32 | IY19: 4.32 | IZ19: 4.33 | JA19: 4.33 | JB19: 4.34 | JC19: 4.34 | JD19: 4.35 | JE19: 4.35 | JF19: 4.36 | JG19: 4.36 | JH19: 4.37 | JI19: 4.37 | JJ19: 4.38 | JK19: 4.38 | JL19: 4.39 | JM19: 4.39 | JN19: 4.40 | JO19: 4.40 | JP19: 4.41 | JQ19: 4.41 | JR19: 4.42 | JS19: 4.42 | JT19: 4.43 | JU19: 4.43 | JV19: 4.44 | JW19: 4.44 | JX19: 4.45 | JY19: 4.45 | JZ19: 4.46 | KA19: 4.46 | KB19: 4.47 | KC19: 4.47 | KD19: 4.48 | KE19: 4.49 | KF19: 4.50 | KG19: 4.51 | KH19: 4.52 | KI19: 4.53 | KJ19: 4.54 | KK19: 4.55 | KL19: 4.56 | KM19: 4.57 | KN19: 4.58 | KO19: 4.59 | KP19: 4.60 | KQ19: 4.61 | KR19: 4.62 | KS19: 4.63 | KT19: 4.64 | KU19: 4.65 | KV19: 4.66 | KW19: 4.67 | KX19: 4.68 | KY19: 4.69 | KZ19: 4.70 | LA19: 4.71 | LB19: 4.72 | LC19: 4.73 | LD19: 4.74 | LE19: 4.75 | LF19: 4.76 | LG19: 4.77 | LH19: 4.78 | LI19: 4.79 | LJ19: 4.80 | LK19: 4.81 | LL19: 4.82 | LM19: 4.83 | LN19: 4.84 | LO19: 4.85 | LP19: 4.86 | LQ19: 4.87 | LR19: 4.88 | LS19: 4.89 | LT19: 4.90 | LU19: 4.91 | LV19: 4.92 | LW19: 4.93 | LX19: 4.94 | LY19: 4.95 | LZ19: 4.96 | MA19: 4.97 | MB19: 4.98 | MC19: 4.99 | MD19: 4.100 | ME19: 4.101 | MF19: 4.102 | MG19: 4.103 | MH19: 4.104 | MI19: 4.105 | MJ19: 4.106 | MK19: 4.107 | ML19: 4.108 | MM19: 4.109 | MN19: 4.110 | MO19: 4.111 | MP19: 4.112 | MQ19: 4.113 | MR19: 4.114 | MS19: 4.115 | MT19: 4.116 | MU19: 4.117 | MV19: 4.118 | MW19: 4.119 | MX19: 4.120 | MY19: 4.121 | MZ19: 4.122 | NA19: 4.123 | NB19: 4.124 | NC19: 4.125 | ND19: 4.126 | NE19: 4.127 | NF19: 4.128 | NG19: 4.129 | NH19: 4.130 | NI19: 4.131 | NJ19: 4.132 | NK19: 4.133 | NL19: 4.134 | NM19: 4.135 | NN19: 4.136 | NO19: 4.137 | NP19: 4.138 | NQ19: 4.139 | NR19: 4.140 | NS19: 4.141 | NT19: 4.142 | NU19: 4.143 | NV19: 4.144 | NW19: 4.145 | NX19: 4.146 | NY19: 4.147 | NZ19: 4.148 | OA19: 4.149 | OB19: 4.150 | OC19: 4.151 | OD19: 4.152 | OE19: 4.153 | OF19: 4.154 | OG19: 4.155 | OH19: 4.156 | OI19: 4.157 | OJ19: 4.158 | OK19: 4.159 | OL19: 4.160 | OM19: 4.161 | OO19: 5.1 | OS19: 6.1 | OT19: 6.2 | OU19: 6.3 | OV19: 6.4 | OW19: 7.1 | OX19: 8.1 | OY19: 8.2 | OZ19: 8.3 | PA19: 8.4 | PB19: 9.1 | PC19: 10.1 | PD19: 10.2 | PE19: 10.3 | PF19: 10.4 | PG19: 11.1 | PH19: 12.1 | PI19: 12.2 | PJ19: 12.3 | PK19: 12.4 | PL19: 12.5 | PM19: 12.6 | PN19: 12.7 | PO19: 12.8 | PP19: 12.9 | PQ19: 12.10 | PR19: 12.11 | PS19: 13.1 | PT19: 13.2 | PU19: 13.3 | PV19: 13.4 | PW19: 13.5 | PX19: 13.6 | PY19: 13.7 | PZ19: 13.8 | QA19: 13.9 | QB19: 13.10 | QC19: 13.11 | QD19: 14.1 | QE19: 15.1 | QF19: 16.1 | QG19: 17.1 | QH19: 17.2 | QI19: 17.3 | QJ19: 17.4 | QK19: 17.5 | QL19: 17.6 | QM19: 17.7 | QN19: 17.8 | QO19: 17.9 | QP19: 17.10 | QQ19: 17.11 | QR19: 18.1
A20: 1 | B20: Deplasarea la potențialul consumator | C20: =$B$5 -> Sofer | E20: =CTSA!$E$5 -> 0.13057697 | F20: =CTSA!$E$5 -> 0.13057697 | G20: =CTSA!$E$5 -> 0.13057697 | H20: =CTSA!$E$5 -> 0.13057697 | I20: =CTSA!$E$5 -> 0.13057697 | J20: =CTSA!$E$5 -> 0.13057697 | K20: =CTSA!$E$5 -> 0.13057697 | L20: =CTSA!$E$5 -> 0.13057697 | ... OR20: =CTSA!$E$5 -> 0.13057697 | OS20: =CTSA!$E$5*2 -> 0.26115394 | OT20: =CTSA!$E$5*2 -> 0.26115394 | OU20: =CTSA!$E$5*2 -> 0.26115394 | OV20: =CTSA!$E$5*2 -> 0.26115394 | OW20: =CTSA!$E$5*2 -> 0.26115394 | OX20: =CTSA!$E$5 -> 0.13057697 | OY20: =CTSA!$E$5 -> 0.13057697 | OZ20: =CTSA!$E$5 -> 0.13057697 | PA20: =CTSA!$E$5 -> 0.13057697 | PB20: =CTSA!$E$5 -> 0.13057697 | PC20: =CTSA!$E$5 -> 0.13057697 | PD20: =CTSA!$E$5 -> 0.13057697 | PE20: =CTSA!$E$5 -> 0.13057697 | ... PR20: =CTSA!$E$5 -> 0.13057697 | PS20: =(CTSA!$E$5)*2 -> 0.26115394 | PT20: =(CTSA!$E$5)*2 -> 0.26115394 | PU20: =(CTSA!$E$5)*2 -> 0.26115394 | PV20: =(CTSA!$E$5)*2 -> 0.26115394 | PW20: =(CTSA!$E$5)*2 -> 0.26115394 | PX20: =(CTSA!$E$5)*2 -> 0.26115394 | PY20: =(CTSA!$E$5)*2 -> 0.26115394 | PZ20: =(CTSA!$E$5)*2 -> 0.26115394 | ... QE20: =(CTSA!$E$5)*2 -> 0.26115394 | QF20: =CTSA!$E$5 -> 0.13057697 | QG20: =CTSA!$E$5 -> 0.13057697 | QH20: =CTSA!$E$5 -> 0.13057697 | QI20: =CTSA!$E$5 -> 0.13057697 | QJ20: =CTSA!$E$5 -> 0.13057697 | QK20: =CTSA!$E$5 -> 0.13057697 | QL20: =CTSA!$E$5 -> 0.13057697 | QM20: =CTSA!$E$5 -> 0.13057697 | ... QQ20: =CTSA!$E$5 -> 0.13057697
B21: Deplasarea la potențialul consumator | C21: =$B$4 -> Lăcătuș | PH21: =CTSA!$E$5 -> 0.13057697 | PI21: =CTSA!$E$5 -> 0.13057697 | PJ21: =CTSA!$E$5 -> 0.13057697 | PK21: =CTSA!$E$5 -> 0.13057697 | PL21: =CTSA!$E$5 -> 0.13057697 | PM21: =CTSA!$E$5 -> 0.13057697 | PN21: =CTSA!$E$5 -> 0.13057697 | PO21: =CTSA!$E$5 -> 0.13057697 | ... PR21: =CTSA!$E$5 -> 0.13057697 | PS21: =$PR$21*2 -> 0.26115394 | PT21: =$PR$21*2 -> 0.26115394 | PU21: =$PR$21*2 -> 0.26115394 | PV21: =$PR$21*2 -> 0.26115394 | PW21: =$PR$21*2 -> 0.26115394 | PX21: =$PR$21*2 -> 0.26115394 | PY21: =$PR$21*2 -> 0.26115394 | PZ21: =$PR$21*2 -> 0.26115394 | ... QE21: =$PR$21*2 -> 0.26115394 | QF21: =$PR$21 -> 0.13057697 | QG21: =CTSA!$E$5 -> 0.13057697 | QH21: =CTSA!$E$5 -> 0.13057697 | QI21: =CTSA!$E$5 -> 0.13057697 | QJ21: =CTSA!$E$5 -> 0.13057697 | QK21: =CTSA!$E$5 -> 0.13057697 | QL21: =CTSA!$E$5 -> 0.13057697 | QM21: =CTSA!$E$5 -> 0.13057697 | QN21: =CTSA!$E$5 -> 0.13057697 | ... QQ21: =CTSA!$E$5 -> 0.13057697
B22: Deplasarea la potențialul consumator | C22: =$B$6 -> Excavatorist V
A23: 2 | B23: Deplasarea la potențialul consumator | C23: =B4 -> Lăcătuș | E23: =CTSA!$E$5 -> 0.13057697 | F23: =CTSA!$E$5 -> 0.13057697 | G23: =CTSA!$E$5 -> 0.13057697 | H23: =CTSA!$E$5 -> 0.13057697 | I23: =CTSA!$E$5 -> 0.13057697 | J23: =CTSA!$E$5 -> 0.13057697 | K23: =CTSA!$E$5 -> 0.13057697 | L23: =CTSA!$E$5 -> 0.13057697 | ... OR23: =CTSA!$E$5 -> 0.13057697 | OS23: =CTSA!$E$5*2 -> 0.26115394 | OT23: =CTSA!$E$5*2 -> 0.26115394 | OU23: =CTSA!$E$5*2 -> 0.26115394 | OV23: =CTSA!$E$5*2 -> 0.26115394 | OW23: =CTSA!$E$5*2 -> 0.26115394 | OX23: =CTSA!$E$5 -> 0.13057697 | OY23: =CTSA!$E$5 -> 0.13057697 | OZ23: =CTSA!$E$5 -> 0.13057697 | PA23: =CTSA!$E$5 -> 0.13057697 | PB23: =CTSA!$E$5 -> 0.13057697 | PC23: =CTSA!$E$5 -> 0.13057697 | PD23: =CTSA!$E$5 -> 0.13057697 | PE23: =CTSA!$E$5 -> 0.13057697 | ... PG23: =CTSA!$E$5 -> 0.13057697
A24: 3 | B24: Deplasarea la potențialul consumator | C24: =B7 -> Electrogazosudor V | E24: =CTSA!$E$5 -> 0.13057697 | F24: =CTSA!$E$5 -> 0.13057697 | G24: =CTSA!$E$5 -> 0.13057697 | H24: =CTSA!$E$5 -> 0.13057697 | I24: =CTSA!$E$5 -> 0.13057697 | J24: =CTSA!$E$5 -> 0.13057697 | K24: =CTSA!$E$5 -> 0.13057697 | L24: =CTSA!$E$5 -> 0.13057697 | ... T24: =CTSA!$E$5 -> 0.13057697 | DZ24: =CTSA!$E$5 -> 0.13057697 | EA24: =CTSA!$E$5 -> 0.13057697 | EB24: =CTSA!$E$5 -> 0.13057697 | EC24: =CTSA!$E$5 -> 0.13057697 | ED24: =CTSA!$E$5 -> 0.13057697 | EE24: =CTSA!$E$5 -> 0.13057697 | EF24: =CTSA!$E$5 -> 0.13057697 | EG24: =CTSA!$E$5 -> 0.13057697 | ... GS24: =CTSA!$E$5 -> 0.13057697 | GY24: =CTSA!$E$5 -> 0.13057697 | GZ24: =CTSA!$E$5 -> 0.13057697 | HA24: =CTSA!$E$5 -> 0.13057697 | HB24: =CTSA!$E$5 -> 0.13057697 | HC24: =CTSA!$E$5 -> 0.13057697 | HD24: =CTSA!$E$5 -> 0.13057697 | HE24: =CTSA!$E$5 -> 0.13057697 | HF24: =CTSA!$E$5 -> 0.13057697 | ... HN24: =CTSA!$E$5 -> 0.13057697 | LT24: =CTSA!$E$5 -> 0.13057697 | LU24: =CTSA!$E$5 -> 0.13057697 | LV24: =CTSA!$E$5 -> 0.13057697 | LW24: =CTSA!$E$5 -> 0.13057697 | LX24: =CTSA!$E$5 -> 0.13057697 | LY24: =CTSA!$E$5 -> 0.13057697 | LZ24: =CTSA!$E$5 -> 0.13057697 | MA24: =CTSA!$E$5 -> 0.13057697 | ... OM24: =CTSA!$E$5 -> 0.13057697
A25: 4 | B25: Deplasarea la potențialul consumator | C25: =B12 -> Controlor ( inginer, maistru) | E25: =CTSA!$E$5 -> 0.13057697 | F25: =CTSA!$E$5 -> 0.13057697 | G25: =CTSA!$E$5 -> 0.13057697 | H25: =CTSA!$E$5 -> 0.13057697 | I25: =CTSA!$E$5 -> 0.13057697 | J25: =CTSA!$E$5 -> 0.13057697 | K25: =CTSA!$E$5 -> 0.13057697 | L25: =CTSA!$E$5 -> 0.13057697 | ... OR25: =CTSA!$E$5 -> 0.13057697 | OS25: =CTSA!$E$5*2 -> 0.26115394 | OT25: =CTSA!$E$5*2 -> 0.26115394 | OU25: =CTSA!$E$5*2 -> 0.26115394 | OV25: =CTSA!$E$5*2 -> 0.26115394 | OW25: =CTSA!$E$5*2 -> 0.26115394 | OX25: =CTSA!$E$5 -> 0.13057697 | OY25: =CTSA!$E$5 -> 0.13057697 | OZ25: =CTSA!$E$5 -> 0.13057697 | PA25: =CTSA!$E$5 -> 0.13057697 | PB25: =CTSA!$E$5 -> 0.13057697 | PC25: =CTSA!$E$5 -> 0.13057697 | PD25: =CTSA!$E$5 -> 0.13057697 | PE25: =CTSA!$E$5 -> 0.13057697 | ... PG25: =CTSA!$E$5 -> 0.13057697
A26: 5 | B26: Deplasarea la potențialul consumator (timpul pentru excavatorist) | C26: =B6 -> Excavatorist V | E26: =CTSA!$E$5 -> 0.13057697 | F26: =CTSA!$E$5 -> 0.13057697 | G26: =CTSA!$E$5 -> 0.13057697 | H26: =CTSA!$E$5 -> 0.13057697 | I26: =CTSA!$E$5 -> 0.13057697 | J26: =CTSA!$E$5 -> 0.13057697 | K26: =CTSA!$E$5 -> 0.13057697 | L26: =CTSA!$E$5 -> 0.13057697 | ... GX26: =CTSA!$E$5 -> 0.13057697
A27: 6 | B27: Acces la locul de consum | C27: =B4 -> Lăcătuș | E27: 0.01 | F27: 0.01 | G27: 0.01 | H27: 0.01 | I27: 0.01 | J27: 0.01 | K27: 0.01 | L27: 0.01 | M27: 0.01 | N27: 0.01 | O27: 0.01 | P27: 0.01 | Q27: 0.01 | R27: 0.01 | S27: 0.01 | T27: 0.01 | U27: 0.01 | V27: 0.01 | W27: 0.01 | X27: 0.01 | Y27: 0.01 | Z27: 0.01 | AA27: 0.01 | AB27: 0.01 | AC27: 0.01 | AD27: 0.01 | AE27: 0.01 | AF27: 0.01 | AG27: 0.01 | AH27: 0.01 | AI27: 0.01 | AJ27: 0.01 | AK27: 0.01 | AL27: 0.01 | AM27: 0.01 | AN27: 0.01 | AO27: 0.01 | AP27: 0.01 | AQ27: 0.01 | AR27: 0.01 | AS27: 0.01 | AT27: 0.01 | AU27: 0.01 | AV27: 0.01 | AW27: 0.01 | AX27: 0.01 | AY27: 0.01 | AZ27: 0.01 | BA27: 0.01 | BB27: 0.01 | BC27: 0.01 | BD27: 0.01 | BE27: 0.01 | BF27: 0.01 | BG27: 0.01 | BH27: 0.01 | BI27: 0.01 | BJ27: 0.01 | BK27: 0.01 | BL27: 0.01 | BM27: 0.01 | BN27: 0.01 | BO27: 0.01 | BP27: 0.01 | BQ27: 0.01 | BR27: 0.01 | BS27: 0.01 | BT27: 0.01 | BU27: 0.01 | BV27: 0.01 | BW27: 0.01 | BX27: 0.01 | BY27: 0.01 | BZ27: 0.01 | CA27: 0.01 | CB27: 0.01 | CC27: 0.01 | CD27: 0.01 | CE27: 0.01 | CF27: 0.01 | CG27: 0.01 | CH27: 0.01 | CI27: 0.01 | CJ27: 0.01 | CK27: 0.01 | CL27: 0.01 | CM27: 0.01 | CN27: 0.01 | CO27: 0.01 | CP27: 0.01 | CQ27: 0.01 | CR27: 0.01 | CS27: 0.01 | CT27: 0.01 | CU27: 0.01 | CV27: 0.01 | CW27: 0.01 | CX27: 0.01 | CY27: 0.01 | CZ27: 0.01 | DA27: 0.01 | DB27: 0.01 | DC27: 0.01 | DD27: 0.01 | DE27: 0.01 | DF27: 0.01 | DG27: 0.01 | DH27: 0.01 | DI27: 0.01 | DJ27: 0.01 | DK27: 0.01 | DL27: 0.01 | DM27: 0.01 | DN27: 0.01 | DO27: 0.01 | DP27: 0.01 | DQ27: 0.01 | DR27: 0.01 | DS27: 0.01 | DT27: 0.01 | DU27: 0.01 | DV27: 0.01 | DW27: 0.01 | DX27: 0.01 | DY27: 0.01 | DZ27: 0.01 | EA27: 0.01 | EB27: 0.01 | EC27: 0.01 | ED27: 0.01 | EE27: 0.01 | EF27: 0.01 | EG27: 0.01 | EH27: 0.01 | EI27: 0.01 | EJ27: 0.01 | EK27: 0.01 | EL27: 0.01 | EM27: 0.01 | EN27: 0.01 | EO27: 0.01 | EP27: 0.01 | EQ27: 0.01 | ER27: 0.01 | ES27: 0.01 | ET27: 0.01 | EU27: 0.01 | EV27: 0.01 | EW27: 0.01 | EX27: 0.01 | EY27: 0.01 | EZ27: 0.01 | FA27: 0.01 | FB27: 0.01 | FC27: 0.01 | FD27: 0.01 | FE27: 0.01 | FF27: 0.01 | FG27: 0.01 | FH27: 0.01 | FI27: 0.01 | FJ27: 0.01 | FK27: 0.01 | FL27: 0.01 | FM27: 0.01 | FN27: 0.01 | FO27: 0.01 | FP27: 0.01 | FQ27: 0.01 | FR27: 0.01 | FS27: 0.01 | FT27: 0.01 | FU27: 0.01 | FV27: 0.01 | FW27: 0.01 | FX27: 0.01 | FY27: 0.01 | FZ27: 0.01 | GA27: 0.01 | GB27: 0.01 | GC27: 0.01 | GD27: 0.01 | GE27: 0.01 | GF27: 0.01 | GG27: 0.01 | GH27: 0.01 | GI27: 0.01 | GJ27: 0.01 | GK27: 0.01 | GL27: 0.01 | GM27: 0.01 | GN27: 0.01 | GO27: 0.01 | GP27: 0.01 | GQ27: 0.01 | GR27: 0.01 | GS27: 0.01 | GY27: 0.01 | GZ27: 0.01 | HA27: 0.01 | HB27: 0.01 | HC27: 0.01 | HD27: 0.01 | HE27: 0.01 | HF27: 0.01 | HG27: 0.01 | HH27: 0.01 | HI27: 0.01 | HJ27: 0.01 | HK27: 0.01 | HL27: 0.01 | HM27: 0.01 | HN27: 0.01 | HO27: 0.01 | HP27: 0.01 | HQ27: 0.01 | HR27: 0.01 | HS27: 0.01 | HT27: 0.01 | HU27: 0.01 | HV27: 0.01 | HW27: 0.01 | HX27: 0.01 | HY27: 0.01 | HZ27: 0.01 | IA27: 0.01 | IB27: 0.01 | IC27: 0.01 | ID27: 0.01 | IE27: 0.01 | IF27: 0.01 | IG27: 0.01 | IH27: 0.01 | II27: 0.01 | IJ27: 0.01 | IK27: 0.01 | IL27: 0.01 | IM27: 0.01 | IN27: 0.01 | IO27: 0.01 | IP27: 0.01 | IQ27: 0.01 | IR27: 0.01 | IS27: 0.01 | IT27: 0.01 | IU27: 0.01 | IV27: 0.01 | IW27: 0.01 | IX27: 0.01 | IY27: 0.01 | IZ27: 0.01 | JA27: 0.01 | JB27: 0.01 | JC27: 0.01 | JD27: 0.01 | JE27: 0.01 | JF27: 0.01 | JG27: 0.01 | JH27: 0.01 | JI27: 0.01 | JJ27: 0.01 | JK27: 0.01 | JL27: 0.01 | JM27: 0.01 | JN27: 0.01 | JO27: 0.01 | JP27: 0.01 | JQ27: 0.01 | JR27: 0.01 | JS27: 0.01 | JT27: 0.01 | JU27: 0.01 | JV27: 0.01 | JW27: 0.01 | JX27: 0.01 | JY27: 0.01 | JZ27: 0.01 | KA27: 0.01 | KB27: 0.01 | KC27: 0.01 | KD27: 0.01 | KE27: 0.01 | KF27: 0.01 | KG27: 0.01 | KH27: 0.01 | KI27: 0.01 | KJ27: 0.01 | KK27: 0.01 | KL27: 0.01 | KM27: 0.01 | KN27: 0.01 | KO27: 0.01 | KP27: 0.01 | KQ27: 0.01 | KR27: 0.01 | KS27: 0.01 | KT27: 0.01 | KU27: 0.01 | KV27: 0.01 | KW27: 0.01 | KX27: 0.01 | KY27: 0.01 | KZ27: 0.01 | LA27: 0.01 | LB27: 0.01 | LC27: 0.01 | LD27: 0.01 | LE27: 0.01 | LF27: 0.01 | LG27: 0.01 | LH27: 0.01 | LI27: 0.01 | LJ27: 0.01 | LK27: 0.01 | LL27: 0.01 | LM27: 0.01 | LN27: 0.01 | LO27: 0.01 | LP27: 0.01 | LQ27: 0.01 | LR27: 0.01 | LS27: 0.01 | LT27: 0.01 | LU27: 0.01 | LV27: 0.01 | LW27: 0.01 | LX27: 0.01 | LY27: 0.01 | LZ27: 0.01 | MA27: 0.01 | MB27: 0.01 | MC27: 0.01 | MD27: 0.01 | ME27: 0.01 | MF27: 0.01 | MG27: 0.01 | MH27: 0.01 | MI27: 0.01 | MJ27: 0.01 | MK27: 0.01 | ML27: 0.01 | MM27: 0.01 | MN27: 0.01 | MO27: 0.01 | MP27: 0.01 | MQ27: 0.01 | MR27: 0.01 | MS27: 0.01 | MT27: 0.01 | MU27: 0.01 | MV27: 0.01 | MW27: 0.01 | MX27: 0.01 | MY27: 0.01 | MZ27: 0.01 | NA27: 0.01 | NB27: 0.01 | NC27: 0.01 | ND27: 0.01 | NE27: 0.01 | NF27: 0.01 | NG27: 0.01 | NH27: 0.01 | NI27: 0.01 | NJ27: 0.01 | NK27: 0.01 | NL27: 0.01 | NM27: 0.01 | NN27: 0.01 | NO27: 0.01 | NP27: 0.01 | NQ27: 0.01 | NR27: 0.01 | NS27: 0.01 | NT27: 0.01 | NU27: 0.01 | NV27: 0.01 | NW27: 0.01 | NX27: 0.01 | NY27: 0.01 | NZ27: 0.01 | OA27: 0.01 | OB27: 0.01 | OC27: 0.01 | OD27: 0.01 | OE27: 0.01 | OF27: 0.01 | OG27: 0.01 | OH27: 0.01 | OI27: 0.01 | OJ27: 0.01 | OK27: 0.01 | OL27: 0.01 | OM27: 0.01 | OS27: 0.02 | OT27: 0.02 | OU27: 0.02 | OV27: 0.02 | OX27: 0.01 | OY27: 0.02 | OZ27: 0.02 | PA27: 0.02 | PC27: 0.01 | PD27: 0.02 | PE27: 0.02 | PF27: 0.02 | PH27: 0.01 | PI27: 0.01 | PJ27: 0.01 | PK27: 0.01 | PL27: 0.01 | PM27: 0.01 | PN27: 0.01 | PO27: 0.01 | PP27: 0.01 | PQ27: 0.01 | PR27: 0.01 | PS27: 0.02 | PT27: 0.02 | PU27: 0.02 | PV27: 0.02 | PW27: 0.02 | PX27: 0.02 | PY27: 0.02 | PZ27: 0.02 | QA27: 0.02 | QB27: 0.02 | QC27: 0.02 | QD27: 0.02 | QE27: 0.02 | QF27: 0.01 | QG27: 0.01 | QH27: 0.01 | QI27: 0.01 | QJ27: 0.01 | QK27: 0.01 | QL27: 0.01 | QM27: 0.01 | QN27: 0.01 | QO27: 0.01 | QP27: 0.01 | QQ27: 0.01
A28: 8 | B28: Săpătură mecanică cu excavator pe pneuri | C28: =B6 -> Excavatorist V | E28: 0.238 | F28: 0.238 | G28: 0.238 | H28: 0.238 | I28: 0.238 | J28: 0.238 | K28: 0.238 | L28: 0.238 | M28: 0.238 | N28: 0.238 | O28: 0.238 | P28: 0.238 | Q28: 0.238 | R28: 0.238 | S28: 0.238 | T28: 0.238 | U28: 0.238 | V28: 0.238 | W28: 0.238 | X28: 0.238 | Y28: 0.238 | Z28: 0.238 | AA28: 0.238 | AB28: 0.238 | AC28: 0.238 | AD28: 0.238 | AE28: 0.238 | AF28: 0.238 | AG28: 0.238 | AH28: 0.238 | AI28: 0.238 | AJ28: 0.238 | AK28: 0.238 | AL28: 0.238 | AM28: 0.238 | AN28: 0.238 | AO28: 0.238 | AP28: 0.238 | AQ28: 0.238 | AR28: 0.238 | AS28: 0.238 | AT28: 0.238 | AU28: 0.238 | AV28: 0.238 | AW28: 0.238 | AX28: 0.238 | AY28: 0.238 | AZ28: 0.238 | BA28: 0.238 | BB28: 0.238 | BC28: 0.238 | BD28: 0.238 | BE28: 0.238 | BF28: 0.238 | BG28: 0.238 | BH28: 0.238 | BI28: 0.238 | BJ28: 0.238 | BK28: 0.238 | BL28: 0.238 | BM28: 0.238 | BN28: 0.238 | BO28: 0.238 | BP28: 0.238 | BQ28: 0.238 | BR28: 0.238 | BS28: 0.238 | BT28: 0.238 | BU28: 0.238 | BV28: 0.238 | BW28: 0.238 | BX28: 0.238 | BY28: 0.238 | BZ28: 0.238 | CA28: 0.238 | CB28: 0.238 | CC28: 0.238 | CD28: 0.238 | CE28: 0.238 | CF28: 0.238 | CG28: 0.238 | CH28: 0.238 | CI28: 0.238 | CJ28: 0.238 | CK28: 0.238 | CL28: 0.238 | CM28: 0.238 | CN28: 0.238 | CO28: 0.238 | CP28: 0.238 | CQ28: 0.238 | CR28: 0.238 | CS28: 0.238 | CT28: 0.238 | CU28: 0.238 | CV28: 0.238 | CW28: 0.238 | CX28: 0.238 | CY28: 0.238 | CZ28: 0.238 | DA28: 0.238 | DB28: 0.238 | DC28: 0.238 | DD28: 0.238 | DE28: 0.238 | DF28: 0.238 | DG28: 0.238 | DH28: 0.238 | DI28: 0.238 | DJ28: 0.238 | DK28: 0.238 | DL28: 0.238 | DM28: 0.238 | DN28: 0.238 | DO28: 0.238 | DP28: 0.238 | DQ28: 0.238 | DR28: 0.238 | DS28: 0.238 | DT28: 0.238 | DU28: 0.238 | DV28: 0.238 | DW28: 0.238 | DX28: 0.238 | DY28: 0.238 | DZ28: 0.238 | EA28: 0.238 | EB28: 0.238 | EC28: 0.238 | ED28: 0.238 | EE28: 0.238 | EF28: 0.238 | EG28: 0.238 | EH28: 0.238 | EI28: 0.238 | EJ28: 0.238 | EK28: 0.238 | EL28: 0.238 | EM28: 0.238 | EN28: 0.238 | EO28: 0.238 | EP28: 0.238 | EQ28: 0.238 | ER28: 0.238 | ES28: 0.238 | ET28: 0.238 | EU28: 0.238 | EV28: 0.238 | EW28: 0.238 | EX28: 0.238 | EY28: 0.238 | EZ28: 0.238 | FA28: 0.238 | FB28: 0.238 | FC28: 0.238 | FD28: 0.238 | FE28: 0.238 | FF28: 0.238 | FG28: 0.238 | FH28: 0.238 | FI28: 0.238 | FJ28: 0.238 | FK28: 0.238 | FL28: 0.238 | FM28: 0.238 | FN28: 0.238 | FO28: 0.238 | FP28: 0.238 | FQ28: 0.238 | FR28: 0.238 | FS28: 0.238 | FT28: 0.238 | FU28: 0.238 | FV28: 0.238 | FW28: 0.238 | FX28: 0.238 | FY28: 0.238 | FZ28: 0.238 | GA28: 0.238 | GB28: 0.238 | GC28: 0.238 | GD28: 0.238 | GE28: 0.238 | GF28: 0.238 | GG28: 0.238 | GH28: 0.238 | GI28: 0.238 | GJ28: 0.238 | GK28: 0.238 | GL28: 0.238 | GM28: 0.238 | GN28: 0.238 | GO28: 0.238 | GP28: 0.238 | GQ28: 0.238 | GR28: 0.238 | GS28: 0.238 | GT28: =$GS$28*2 -> 0.476 | GU28: =$GS$28*2 -> 0.476 | GV28: =$GS$28*2 -> 0.476 | GW28: =$GS$28*2 -> 0.476 | GX28: =$GS$28*2 -> 0.476
A29: 9 | B29: Montarea prin sudură a piesei de branșare (ștuț) | C29: =B7 -> Electrogazosudor V | E29: 0.3 | F29: 0.3 | G29: 0.3 | H29: 0.3 | I29: 0.3 | J29: 0.36 | K29: 0.36 | L29: 0.4 | M29: 0.42 | N29: 0.49 | O29: 0.6 | P29: 0.81 | Q29: 0.83 | R29: 1.51 | S29: 2.01 | T29: 2.26 | DZ29: 0.35 | EA29: 0.35 | EB29: 0.35 | EC29: 0.35 | ED29: 0.35 | EE29: 0.35 | EF29: 0.35 | EG29: 0.35 | EH29: 0.35 | EI29: 0.35 | EJ29: 0.35 | EK29: 0.35 | EL29: 0.57 | EM29: 0.57 | EN29: 0.57 | EO29: 0.57 | EP29: 0.57 | EQ29: 0.57 | ER29: 0.57 | ES29: 0.57 | ET29: 0.57 | EU29: 0.57 | EV29: 0.57 | EW29: 0.63 | EX29: 0.63 | EY29: 0.63 | EZ29: 0.63 | FA29: 0.63 | FB29: 0.63 | FC29: 0.63 | FD29: 0.63 | FE29: 0.63 | FF29: 0.63 | FG29: 0.8 | FH29: 0.8 | FI29: 0.8 | FJ29: 0.8 | FK29: 0.8 | FL29: 0.8 | FM29: 0.8 | FN29: 0.8 | FO29: 0.8 | FP29: 0.86 | FQ29: 0.86 | FR29: 0.86 | FS29: 0.86 | FT29: 0.86 | FU29: 0.86 | FV29: 0.86 | FW29: 0.86 | FX29: 0.97 | FY29: 0.97 | FZ29: 0.97 | GA29: 0.97 | GB29: 0.97 | GC29: 0.97 | GD29: 0.97 | GE29: 1.09 | GF29: 1.09 | GG29: 1.09 | GH29: 1.09 | GI29: 1.09 | GJ29: 1.09 | GK29: 1.2 | GL29: 1.2 | GM29: 1.2 | GN29: 1.2 | GO29: 1.2 | GP29: 1.32 | GQ29: 1.32 | GR29: 1.32 | GS29: 1.32 | GY29: 0.3 | GZ29: 0.3 | HA29: 0.3 | HB29: 0.3 | HC29: 0.3 | HD29: 0.36 | HE29: 0.36 | HF29: 0.4 | HG29: 0.42 | HH29: 0.49 | HI29: 0.6 | HJ29: 0.81 | HK29: 0.83 | HL29: 1.51 | HM29: 2.01 | HN29: 2.26 | LT29: 0.35 | LU29: 0.35 | LV29: 0.35 | LW29: 0.35 | LX29: 0.35 | LY29: 0.35 | LZ29: 0.35 | MA29: 0.35 | MB29: 0.35 | MC29: 0.35 | MD29: 0.35 | ME29: 0.35 | MF29: 0.57 | MG29: 0.57 | MH29: 0.57 | MI29: 0.57 | MJ29: 0.57 | MK29: 0.57 | ML29: 0.57 | MM29: 0.57 | MN29: 0.57 | MO29: 0.57 | MP29: 0.57 | MQ29: 0.63 | MR29: 0.63 | MS29: 0.63 | MT29: 0.63 | MU29: 0.63 | MV29: 0.63 | MW29: 0.63 | MX29: 0.63 | MY29: 0.63 | MZ29: 0.63 | NA29: 0.8 | NB29: 0.8 | NC29: 0.8 | ND29: 0.8 | NE29: 0.8 | NF29: 0.8 | NG29: 0.8 | NH29: 0.8 | NI29: 0.8 | NJ29: 0.86 | NK29: 0.86 | NL29: 0.86 | NM29: 0.86 | NN29: 0.86 | NO29: 0.86 | NP29: 0.86 | NQ29: 0.86 | NR29: 0.97 | NS29: 0.97 | NT29: 0.97 | NU29: 0.97 | NV29: 0.97 | NW29: 0.97 | NX29: 0.97 | NY29: 1.09 | NZ29: 1.09 | OA29: 1.09 | OB29: 1.09 | OC29: 1.09 | OD29: 1.09 | OE29: 1.2 | OF29: 1.2 | OG29: 1.2 | OH29: 1.2 | OI29: 1.2 | OJ29: 1.32 | OK29: 1.32 | OL29: 1.32 | OM29: 1.32
A30: 10 | B30: Montarea robinetului de concesie de la conducta de apă | C30: =$B$4 -> Lăcătuș | E30: 0.06 | F30: 0.06 | G30: 0.06 | H30: 0.06 | I30: 0.06 | J30: 0.06 | K30: 0.06 | L30: 0.113 | M30: 0.113 | N30: 0.113 | O30: 0.2 | P30: 0.2 | Q30: 0.2 | R30: 0.2 | S30: 0.3 | T30: 0.3 | U30: 0.06 | V30: 0.06 | W30: 0.06 | X30: 0.06 | Y30: 0.06 | Z30: 0.06 | AA30: 0.06 | AB30: 0.06 | AC30: 0.06 | AD30: 0.06 | AE30: 0.06 | AF30: 0.06 | AG30: 0.06 | AH30: 0.06 | AI30: 0.06 | AJ30: 0.06 | AK30: 0.06 | AL30: 0.06 | AM30: 0.06 | AN30: 0.06 | AO30: 0.06 | AP30: 0.06 | AQ30: 0.06 | AR30: 0.06 | AS30: 0.06 | AT30: 0.06 | AU30: 0.06 | AV30: 0.06 | AW30: 0.06 | AX30: 0.06 | AY30: 0.06 | AZ30: 0.06 | BA30: 0.06 | BB30: 0.06 | BC30: 0.06 | BD30: 0.06 | BE30: 0.06 | BF30: 0.06 | BG30: 0.06 | BH30: 0.06 | BI30: 0.06 | BJ30: 0.06 | BK30: 0.06 | BL30: 0.06 | BM30: 0.06 | BN30: 0.06 | BO30: 0.06 | BP30: 0.06 | BQ30: 0.06 | BR30: 0.06 | BS30: 0.06 | BT30: 0.06 | BU30: 0.06 | BV30: 0.06 | BW30: 0.06 | BX30: 0.06 | BY30: 0.06 | BZ30: 0.06 | CA30: 0.06 | CB30: 0.06 | CC30: 0.06 | CD30: 0.06 | CE30: 0.06 | CF30: 0.06 | CG30: 0.06 | CH30: 0.06 | CI30: 0.06 | CJ30: 0.06 | CK30: 0.06 | CL30: 0.06 | CM30: 0.06 | CN30: 0.06 | CO30: 0.06 | CP30: 0.06 | CQ30: 0.06 | CR30: 0.06 | CS30: 0.06 | CT30: 0.06 | CU30: 0.06 | CV30: 0.06 | CW30: 0.06 | CX30: 0.06 | CY30: 0.06 | CZ30: 0.06 | DA30: 0.06 | DB30: 0.06 | DC30: 0.06 | DD30: 0.06 | DE30: 0.06 | DF30: 0.06 | DG30: 0.06 | DH30: 0.06 | DI30: 0.06 | DJ30: 0.06 | DK30: 0.06 | DL30: 0.06 | DM30: 0.06 | DN30: 0.06 | DO30: 0.06 | DP30: 0.06 | DQ30: 0.06 | DR30: 0.06 | DS30: 0.06 | DT30: 0.06 | DU30: 0.06 | DV30: 0.06 | DW30: 0.06 | DX30: 0.06 | DY30: 0.06 | DZ30: 0.113 | EA30: 0.113 | EB30: 0.113 | EC30: 0.113 | ED30: 0.113 | EE30: 0.113 | EF30: 0.113 | EG30: 0.113 | EH30: 0.113 | EI30: 0.113 | EJ30: 0.113 | EK30: 0.113 | EL30: 0.113 | EM30: 0.113 | EN30: 0.113 | EO30: 0.113 | EP30: 0.113 | EQ30: 0.113 | ER30: 0.113 | ES30: 0.113 | ET30: 0.113 | EU30: 0.113 | EV30: 0.113 | EW30: 0.113 | EX30: 0.113 | EY30: 0.113 | EZ30: 0.113 | FA30: 0.113 | FB30: 0.113 | FC30: 0.113 | FD30: 0.113 | FE30: 0.113 | FF30: 0.113 | FG30: 0.2 | FH30: 0.2 | FI30: 0.2 | FJ30: 0.2 | FK30: 0.2 | FL30: 0.2 | FM30: 0.2 | FN30: 0.2 | FO30: 0.2 | FP30: 0.2 | FQ30: 0.2 | FR30: 0.2 | FS30: 0.2 | FT30: 0.2 | FU30: 0.2 | FV30: 0.2 | FW30: 0.2 | FX30: 0.2 | FY30: 0.2 | FZ30: 0.2 | GA30: 0.2 | GB30: 0.2 | GC30: 0.2 | GD30: 0.2 | GE30: 0.2 | GF30: 0.2 | GG30: 0.2 | GH30: 0.2 | GI30: 0.2 | GJ30: 0.2 | GK30: 0.2 | GL30: 0.2 | GM30: 0.2 | GN30: 0.2 | GO30: 0.2 | GP30: 0.2 | GQ30: 0.2 | GR30: 0.2 | GS30: 0.2 | GY30: 0.06 | GZ30: 0.06 | HA30: 0.06 | HB30: 0.06 | HC30: 0.06 | HD30: 0.06 | HE30: 0.06 | HF30: 0.113 | HG30: 0.113 | HH30: 0.113 | HI30: 0.2 | HJ30: 0.2 | HK30: 0.2 | HL30: 0.2 | HM30: 0.3 | HN30: 0.3 | HO30: 0.06 | HP30: 0.06 | HQ30: 0.06 | HR30: 0.06 | HS30: 0.06 | HT30: 0.06 | HU30: 0.06 | HV30: 0.06 | HW30: 0.06 | HX30: 0.06 | HY30: 0.06 | HZ30: 0.06 | IA30: 0.06 | IB30: 0.06 | IC30: 0.06 | ID30: 0.06 | IE30: 0.06 | IF30: 0.06 | IG30: 0.06 | IH30: 0.06 | II30: 0.06 | IJ30: 0.06 | IK30: 0.06 | IL30: 0.06 | IM30: 0.06 | IN30: 0.06 | IO30: 0.06 | IP30: 0.06 | IQ30: 0.06 | IR30: 0.06 | IS30: 0.06 | IT30: 0.06 | IU30: 0.06 | IV30: 0.06 | IW30: 0.06 | IX30: 0.06 | IY30: 0.06 | IZ30: 0.06 | JA30: 0.06 | JB30: 0.06 | JC30: 0.06 | JD30: 0.06 | JE30: 0.06 | JF30: 0.06 | JG30: 0.06 | JH30: 0.06 | JI30: 0.06 | JJ30: 0.06 | JK30: 0.06 | JL30: 0.06 | JM30: 0.06 | JN30: 0.06 | JO30: 0.06 | JP30: 0.06 | JQ30: 0.06 | JR30: 0.06 | JS30: 0.06 | JT30: 0.06 | JU30: 0.06 | JV30: 0.06 | JW30: 0.06 | JX30: 0.06 | JY30: 0.06 | JZ30: 0.06 | KA30: 0.06 | KB30: 0.06 | KC30: 0.06 | KD30: 0.06 | KE30: 0.06 | KF30: 0.06 | KG30: 0.06 | KH30: 0.06 | KI30: 0.06 | KJ30: 0.06 | KK30: 0.06 | KL30: 0.06 | KM30: 0.06 | KN30: 0.06 | KO30: 0.06 | KP30: 0.06 | KQ30: 0.06 | KR30: 0.06 | KS30: 0.06 | KT30: 0.06 | KU30: 0.06 | KV30: 0.06 | KW30: 0.06 | KX30: 0.06 | KY30: 0.06 | KZ30: 0.06 | LA30: 0.06 | LB30: 0.06 | LC30: 0.06 | LD30: 0.06 | LE30: 0.06 | LF30: 0.06 | LG30: 0.06 | LH30: 0.06 | LI30: 0.06 | LJ30: 0.06 | LK30: 0.06 | LL30: 0.06 | LM30: 0.06 | LN30: 0.06 | LO30: 0.06 | LP30: 0.06 | LQ30: 0.06 | LR30: 0.06 | LS30: 0.06 | LT30: 0.113 | LU30: 0.113 | LV30: 0.113 | LW30: 0.113 | LX30: 0.113 | LY30: 0.113 | LZ30: 0.113 | MA30: 0.113 | MB30: 0.113 | MC30: 0.113 | MD30: 0.113 | ME30: 0.113 | MF30: 0.113 | MG30: 0.113 | MH30: 0.113 | MI30: 0.113 | MJ30: 0.113 | MK30: 0.113 | ML30: 0.113 | MM30: 0.113 | MN30: 0.113 | MO30: 0.113 | MP30: 0.113 | MQ30: 0.113 | MR30: 0.113 | MS30: 0.113 | MT30: 0.113 | MU30: 0.113 | MV30: 0.113 | MW30: 0.113 | MX30: 0.113 | MY30: 0.113 | MZ30: 0.113 | NA30: 0.2 | NB30: 0.2 | NC30: 0.2 | ND30: 0.2 | NE30: 0.2 | NF30: 0.2 | NG30: 0.2 | NH30: 0.2 | NI30: 0.2 | NJ30: 0.2 | NK30: 0.2 | NL30: 0.2 | NM30: 0.2 | NN30: 0.2 | NO30: 0.2 | NP30: 0.2 | NQ30: 0.2 | NR30: 0.2 | NS30: 0.2 | NT30: 0.2 | NU30: 0.2 | NV30: 0.2 | NW30: 0.2 | NX30: 0.2 | NY30: 0.2 | NZ30: 0.2 | OA30: 0.2 | OB30: 0.2 | OC30: 0.2 | OD30: 0.2 | OE30: 0.2 | OF30: 0.2 | OG30: 0.2 | OH30: 0.2 | OI30: 0.2 | OJ30: 0.2 | OK30: 0.2 | OL30: 0.2 | OM30: 0.2
A31: 11 | B31: Montare racord | C31: =$B$4 -> Lăcătuș | E31: 0.2 | F31: 0.2 | G31: 0.2 | H31: 0.2 | I31: 0.2 | J31: 0.2 | K31: 0.2 | L31: 0.2 | M31: 0.2 | N31: 0.2 | O31: 0.2 | P31: 0.4 | Q31: 0.4 | R31: 0.4 | S31: 0.4 | T31: 0.4 | U31: 0.2 | V31: 0.2 | W31: 0.2 | X31: 0.2 | Y31: 0.2 | Z31: 0.2 | AA31: 0.2 | AB31: 0.2 | AC31: 0.2 | AD31: 0.2 | AE31: 0.2 | AF31: 0.2 | AG31: 0.2 | AH31: 0.2 | AI31: 0.2 | AJ31: 0.2 | AK31: 0.3 | AL31: 0.3 | AM31: 0.4 | AN31: 0.4 | AO31: 0.4 | AP31: 0.4 | AQ31: 0.4 | AR31: 0.4 | AS31: 0.4 | AT31: 0.4 | AU31: 0.4 | AV31: 0.4 | AW31: 0.4 | AX31: 0.4 | AY31: 0.4 | AZ31: 0.4 | BA31: 0.4 | BB31: 0.4 | BC31: 0.2 | BD31: 0.2 | BE31: 0.2 | BF31: 0.2 | BG31: 0.2 | BH31: 0.2 | BI31: 0.2 | BJ31: 0.2 | BK31: 0.2 | BL31: 0.2 | BM31: 0.2 | BN31: 0.2 | BO31: 0.2 | BP31: 0.2 | BQ31: 0.2 | BR31: 0.3 | BS31: 0.3 | BT31: 0.4 | BU31: 0.4 | BV31: 0.4 | BW31: 0.4 | BX31: 0.4 | BY31: 0.4 | BZ31: 0.4 | CA31: 0.4 | CB31: 0.4 | CC31: 0.4 | CD31: 0.4 | CE31: 0.4 | CF31: 0.4 | CG31: 0.4 | CH31: 0.4 | CI31: 0.4 | CJ31: 0.2 | CK31: 0.2 | CL31: 0.2 | CM31: 0.2 | CN31: 0.2 | CO31: 0.2 | CP31: 0.3 | CQ31: 0.4 | CR31: 0.4 | CS31: 0.4 | CT31: 0.4 | CU31: 0.4 | CV31: 0.4 | CW31: 0.4 | CX31: 0.4 | CY31: 0.2 | CZ31: 0.2 | DA31: 0.2 | DB31: 0.2 | DC31: 0.2 | DD31: 0.3 | DE31: 0.4 | DF31: 0.4 | DG31: 0.4 | DH31: 0.4 | DI31: 0.4 | DJ31: 0.4 | DK31: 0.4 | DL31: 0.4 | DM31: 0.2 | DN31: 0.2 | DO31: 0.2 | DP31: 0.2 | DQ31: 0.3 | DR31: 0.4 | DS31: 0.4 | DT31: 0.4 | DU31: 0.4 | DV31: 0.4 | DW31: 0.4 | DX31: 0.4 | DY31: 0.4 | DZ31: 0.2 | EA31: 0.2 | EB31: 0.2 | EC31: 0.3 | ED31: 0.4 | EE31: 0.4 | EF31: 0.4 | EG31: 0.4 | EH31: 0.4 | EI31: 0.4 | EJ31: 0.4 | EK31: 0.4 | EL31: 0.2 | EM31: 0.2 | EN31: 0.3 | EO31: 0.4 | EP31: 0.4 | EQ31: 0.4 | ER31: 0.4 | ES31: 0.4 | ET31: 0.4 | EU31: 0.4 | EV31: 0.4 | EW31: 0.2 | EX31: 0.3 | EY31: 0.4 | EZ31: 0.4 | FA31: 0.4 | FB31: 0.4 | FC31: 0.4 | FD31: 0.4 | FE31: 0.4 | FF31: 0.4 | FG31: 0.3 | FH31: 0.4 | FI31: 0.4 | FJ31: 0.4 | FK31: 0.4 | FL31: 0.4 | FM31: 0.4 | FN31: 0.4 | FO31: 0.4 | FP31: 0.4 | FQ31: 0.4 | FR31: 0.4 | FS31: 0.4 | FT31: 0.4 | FU31: 0.4 | FV31: 0.4 | FW31: 0.4 | FX31: 0.4 | FY31: 0.4 | FZ31: 0.4 | GA31: 0.4 | GB31: 0.4 | GC31: 0.4 | GD31: 0.4 | GE31: 0.4 | GF31: 0.4 | GG31: 0.4 | GH31: 0.4 | GI31: 0.4 | GJ31: 0.4 | GK31: 0.4 | GL31: 0.4 | GM31: 0.4 | GN31: 0.4 | GO31: 0.4 | GP31: 0.4 | GQ31: 0.4 | GR31: 0.4 | GS31: 0.4
A32: 12 | B32: Montarea branșamentului de apă | C32: =$B$4 -> Lăcătuș | E32: 0.085 | F32: 0.085 | G32: 0.085 | H32: 0.085 | I32: 0.085 | J32: 0.085 | K32: 0.085 | L32: 0.085 | M32: 0.085 | N32: 0.085 | O32: 0.085 | P32: 0.085 | Q32: 0.085 | R32: 0.085 | S32: 0.085 | T32: 0.085 | U32: 0.085 | V32: 0.085 | W32: 0.085 | X32: 0.085 | Y32: 0.085 | Z32: 0.085 | AA32: 0.085 | AB32: 0.085 | AC32: 0.085 | AD32: 0.085 | AE32: 0.085 | AF32: 0.085 | AG32: 0.085 | AH32: 0.085 | AI32: 0.085 | AJ32: 0.085 | AK32: 0.085 | AL32: 0.085 | AM32: 0.085 | AN32: 0.085 | AO32: 0.085 | AP32: 0.085 | AQ32: 0.085 | AR32: 0.085 | AS32: 0.085 | AT32: 0.085 | AU32: 0.085 | AV32: 0.085 | AW32: 0.085 | AX32: 0.085 | AY32: 0.085 | AZ32: 0.085 | BA32: 0.085 | BB32: 0.085 | BC32: 0.085 | BD32: 0.085 | BE32: 0.085 | BF32: 0.085 | BG32: 0.085 | BH32: 0.085 | BI32: 0.085 | BJ32: 0.085 | BK32: 0.085 | BL32: 0.085 | BM32: 0.085 | BN32: 0.085 | BO32: 0.085 | BP32: 0.085 | BQ32: 0.085 | BR32: 0.085 | BS32: 0.085 | BT32: 0.085 | BU32: 0.085 | BV32: 0.085 | BW32: 0.085 | BX32: 0.085 | BY32: 0.085 | BZ32: 0.085 | CA32: 0.085 | CB32: 0.085 | CC32: 0.085 | CD32: 0.085 | CE32: 0.085 | CF32: 0.085 | CG32: 0.085 | CH32: 0.085 | CI32: 0.085 | CJ32: 0.085 | CK32: 0.085 | CL32: 0.085 | CM32: 0.085 | CN32: 0.085 | CO32: 0.085 | CP32: 0.085 | CQ32: 0.085 | CR32: 0.085 | CS32: 0.085 | CT32: 0.085 | CU32: 0.085 | CV32: 0.085 | CW32: 0.085 | CX32: 0.085 | CY32: 0.085 | CZ32: 0.085 | DA32: 0.085 | DB32: 0.085 | DC32: 0.085 | DD32: 0.085 | DE32: 0.085 | DF32: 0.085 | DG32: 0.085 | DH32: 0.085 | DI32: 0.085 | DJ32: 0.085 | DK32: 0.085 | DL32: 0.085 | DM32: 0.085 | DN32: 0.085 | DO32: 0.085 | DP32: 0.085 | DQ32: 0.085 | DR32: 0.085 | DS32: 0.085 | DT32: 0.085 | DU32: 0.085 | DV32: 0.085 | DW32: 0.085 | DX32: 0.085 | DY32: 0.085 | DZ32: 0.085 | EA32: 0.085 | EB32: 0.085 | EC32: 0.085 | ED32: 0.085 | EE32: 0.085 | EF32: 0.085 | EG32: 0.085 | EH32: 0.085 | EI32: 0.085 | EJ32: 0.085 | EK32: 0.085 | EL32: 0.085 | EM32: 0.085 | EN32: 0.085 | EO32: 0.085 | EP32: 0.085 | EQ32: 0.085 | ER32: 0.085 | ES32: 0.085 | ET32: 0.085 | EU32: 0.085 | EV32: 0.085 | EW32: 0.085 | EX32: 0.085 | EY32: 0.085 | EZ32: 0.085 | FA32: 0.085 | FB32: 0.085 | FC32: 0.085 | FD32: 0.085 | FE32: 0.085 | FF32: 0.085 | FG32: 0.085 | FH32: 0.085 | FI32: 0.085 | FJ32: 0.085 | FK32: 0.085 | FL32: 0.085 | FM32: 0.085 | FN32: 0.085 | FO32: 0.085 | FP32: 0.085 | FQ32: 0.085 | FR32: 0.085 | FS32: 0.085 | FT32: 0.085 | FU32: 0.085 | FV32: 0.085 | FW32: 0.085 | FX32: 0.085 | FY32: 0.085 | FZ32: 0.085 | GA32: 0.085 | GB32: 0.085 | GC32: 0.085 | GD32: 0.085 | GE32: 0.085 | GF32: 0.085 | GG32: 0.085 | GH32: 0.085 | GI32: 0.085 | GJ32: 0.085 | GK32: 0.085 | GL32: 0.085 | GM32: 0.085 | GN32: 0.085 | GO32: 0.085 | GP32: 0.085 | GQ32: 0.085 | GR32: 0.085 | GS32: 0.085
A33: 14 | B33: Montarea filtrului | C33: =$B$4 -> Lăcătuș | E33: 0.04 | F33: 0.04 | G33: 0.04 | H33: 0.04 | I33: 0.04 | J33: 0.04 | K33: 0.04 | L33: 0.1 | M33: 0.1 | N33: 0.166 | O33: 0.166 | P33: 0.166 | Q33: 0.166 | R33: 0.166 | S33: 0.166 | T33: 0.166 | U33: 0.04 | V33: 0.04 | W33: 0.04 | X33: 0.04 | Y33: 0.04 | Z33: 0.04 | AA33: 0.04 | AB33: 0.04 | AC33: 0.04 | AD33: 0.04 | AE33: 0.04 | AF33: 0.04 | AG33: 0.04 | AH33: 0.04 | AI33: 0.04 | AJ33: 0.04 | AK33: 0.04 | AL33: 0.04 | AM33: 0.04 | AN33: 0.04 | AO33: 0.04 | AP33: 0.04 | AQ33: 0.04 | AR33: 0.04 | AS33: 0.04 | AT33: 0.04 | AU33: 0.04 | AV33: 0.04 | AW33: 0.04 | AX33: 0.04 | AY33: 0.04 | AZ33: 0.04 | BA33: 0.04 | BB33: 0.04 | BC33: 0.04 | BD33: 0.04 | BE33: 0.04 | BF33: 0.04 | BG33: 0.04 | BH33: 0.04 | BI33: 0.04 | BJ33: 0.04 | BK33: 0.04 | BL33: 0.04 | BM33: 0.04 | BN33: 0.04 | BO33: 0.04 | BP33: 0.04 | BQ33: 0.04 | BR33: 0.04 | BS33: 0.04 | BT33: 0.04 | BU33: 0.04 | BV33: 0.04 | BW33: 0.04 | BX33: 0.04 | BY33: 0.04 | BZ33: 0.04 | CA33: 0.04 | CB33: 0.04 | CC33: 0.04 | CD33: 0.04 | CE33: 0.04 | CF33: 0.04 | CG33: 0.04 | CH33: 0.04 | CI33: 0.04 | CJ33: 0.04 | CK33: 0.04 | CL33: 0.04 | CM33: 0.04 | CN33: 0.04 | CO33: 0.04 | CP33: 0.04 | CQ33: 0.04 | CR33: 0.04 | CS33: 0.04 | CT33: 0.04 | CU33: 0.04 | CV33: 0.04 | CW33: 0.04 | CX33: 0.04 | CY33: 0.04 | CZ33: 0.04 | DA33: 0.04 | DB33: 0.04 | DC33: 0.04 | DD33: 0.04 | DE33: 0.04 | DF33: 0.04 | DG33: 0.04 | DH33: 0.04 | DI33: 0.04 | DJ33: 0.04 | DK33: 0.04 | DL33: 0.04 | DM33: 0.04 | DN33: 0.04 | DO33: 0.04 | DP33: 0.04 | DQ33: 0.04 | DR33: 0.04 | DS33: 0.04 | DT33: 0.04 | DU33: 0.04 | DV33: 0.04 | DW33: 0.04 | DX33: 0.04 | DY33: 0.04 | DZ33: 0.1 | EA33: 0.1 | EB33: 0.1 | EC33: 0.1 | ED33: 0.1 | EE33: 0.1 | EF33: 0.1 | EG33: 0.1 | EH33: 0.1 | EI33: 0.1 | EJ33: 0.1 | EK33: 0.1 | EL33: 0.1 | EM33: 0.1 | EN33: 0.1 | EO33: 0.1 | EP33: 0.1 | EQ33: 0.1 | ER33: 0.1 | ES33: 0.1 | ET33: 0.1 | EU33: 0.1 | EV33: 0.1 | EW33: 0.166 | EX33: 0.166 | EY33: 0.166 | EZ33: 0.166 | FA33: 0.166 | FB33: 0.166 | FC33: 0.166 | FD33: 0.166 | FE33: 0.166 | FF33: 0.166 | FG33: 0.166 | FH33: 0.166 | FI33: 0.166 | FJ33: 0.166 | FK33: 0.166 | FL33: 0.166 | FM33: 0.166 | FN33: 0.166 | FO33: 0.166 | FP33: 0.166 | FQ33: 0.166 | FR33: 0.166 | FS33: 0.166 | FT33: 0.166 | FU33: 0.166 | FV33: 0.166 | FW33: 0.166 | FX33: 0.166 | FY33: 0.166 | FZ33: 0.166 | GA33: 0.166 | GB33: 0.166 | GC33: 0.166 | GD33: 0.166 | GE33: 0.166 | GF33: 0.166 | GG33: 0.166 | GH33: 0.166 | GI33: 0.166 | GJ33: 0.166 | GK33: 0.166 | GL33: 0.166 | GM33: 0.166 | GN33: 0.166 | GO33: 0.166 | GP33: 0.166 | GQ33: 0.166 | GR33: 0.166 | GS33: 0.166 | PH33: 0.04 | PI33: 0.04 | PJ33: 0.04 | PK33: 0.04 | PL33: 0.04 | PM33: 0.04 | PN33: 0.1 | PO33: 0.1 | PP33: 0.166 | PQ33: 0.166 | PR33: 0.166
A34: 15 | B34: Montarea niplului | C34: =$B$4 -> Lăcătuș | E34: 0.04 | F34: 0.04 | G34: 0.04 | H34: 0.04 | I34: 0.04 | J34: 0.04 | K34: 0.04 | L34: 0.066 | M34: 0.066 | N34: 0.094 | O34: 0.094 | P34: 0.094 | Q34: 0.094 | R34: 0.094 | S34: 0.094 | T34: 0.094 | U34: 0.04 | V34: 0.04 | W34: 0.04 | X34: 0.04 | Y34: 0.04 | Z34: 0.04 | AA34: 0.04 | AB34: 0.04 | AC34: 0.04 | AD34: 0.04 | AE34: 0.04 | AF34: 0.04 | AG34: 0.04 | AH34: 0.04 | AI34: 0.04 | AJ34: 0.04 | AK34: 0.04 | AL34: 0.04 | AM34: 0.04 | AN34: 0.04 | AO34: 0.04 | AP34: 0.04 | AQ34: 0.04 | AR34: 0.04 | AS34: 0.04 | AT34: 0.04 | AU34: 0.04 | AV34: 0.04 | AW34: 0.04 | AX34: 0.04 | AY34: 0.04 | AZ34: 0.04 | BA34: 0.04 | BB34: 0.04 | BC34: 0.04 | BD34: 0.04 | BE34: 0.04 | BF34: 0.04 | BG34: 0.04 | BH34: 0.04 | BI34: 0.04 | BJ34: 0.04 | BK34: 0.04 | BL34: 0.04 | BM34: 0.04 | BN34: 0.04 | BO34: 0.04 | BP34: 0.04 | BQ34: 0.04 | BR34: 0.04 | BS34: 0.04 | BT34: 0.04 | BU34: 0.04 | BV34: 0.04 | BW34: 0.04 | BX34: 0.04 | BY34: 0.04 | BZ34: 0.04 | CA34: 0.04 | CB34: 0.04 | CC34: 0.04 | CD34: 0.04 | CE34: 0.04 | CF34: 0.04 | CG34: 0.04 | CH34: 0.04 | CI34: 0.04 | CJ34: 0.04 | CK34: 0.04 | CL34: 0.04 | CM34: 0.04 | CN34: 0.04 | CO34: 0.04 | CP34: 0.04 | CQ34: 0.04 | CR34: 0.04 | CS34: 0.04 | CT34: 0.04 | CU34: 0.04 | CV34: 0.04 | CW34: 0.04 | CX34: 0.04 | CY34: 0.04 | CZ34: 0.04 | DA34: 0.04 | DB34: 0.04 | DC34: 0.04 | DD34: 0.04 | DE34: 0.04 | DF34: 0.04 | DG34: 0.04 | DH34: 0.04 | DI34: 0.04 | DJ34: 0.04 | DK34: 0.04 | DL34: 0.04 | DM34: 0.04 | DN34: 0.04 | DO34: 0.04 | DP34: 0.04 | DQ34: 0.04 | DR34: 0.04 | DS34: 0.04 | DT34: 0.04 | DU34: 0.04 | DV34: 0.04 | DW34: 0.04 | DX34: 0.04 | DY34: 0.04 | DZ34: 0.066 | EA34: 0.066 | EB34: 0.066 | EC34: 0.066 | ED34: 0.066 | EE34: 0.066 | EF34: 0.066 | EG34: 0.066 | EH34: 0.066 | EI34: 0.066 | EJ34: 0.066 | EK34: 0.066 | EL34: 0.066 | EM34: 0.066 | EN34: 0.066 | EO34: 0.066 | EP34: 0.066 | EQ34: 0.066 | ER34: 0.066 | ES34: 0.066 | ET34: 0.066 | EU34: 0.066 | EV34: 0.066 | EW34: 0.094 | EX34: 0.094 | EY34: 0.094 | EZ34: 0.094 | FA34: 0.094 | FB34: 0.094 | FC34: 0.094 | FD34: 0.094 | FE34: 0.094 | FF34: 0.094 | FG34: 0.094 | FH34: 0.094 | FI34: 0.094 | FJ34: 0.094 | FK34: 0.094 | FL34: 0.094 | FM34: 0.094 | FN34: 0.094 | FO34: 0.094 | FP34: 0.094 | FQ34: 0.094 | FR34: 0.094 | FS34: 0.094 | FT34: 0.094 | FU34: 0.094 | FV34: 0.094 | FW34: 0.094 | FX34: 0.094 | FY34: 0.094 | FZ34: 0.094 | GA34: 0.094 | GB34: 0.094 | GC34: 0.094 | GD34: 0.094 | GE34: 0.094 | GF34: 0.094 | GG34: 0.094 | GH34: 0.094 | GI34: 0.094 | GJ34: 0.094 | GK34: 0.094 | GL34: 0.094 | GM34: 0.094 | GN34: 0.094 | GO34: 0.094 | GP34: 0.094 | GQ34: 0.094 | GR34: 0.094 | GS34: 0.094 | PH34: 0.04 | PI34: 0.04 | PJ34: 0.04 | PK34: 0.04 | PL34: 0.04 | PM34: 0.04 | PN34: 0.066 | PO34: 0.066 | PP34: 0.094 | PQ34: 0.094 | PR34: 0.094
A35: 16 | B35: Montarea robinetului de la contor | C35: =$B$4 -> Lăcătuș | E35: 0.05 | F35: 0.05 | G35: 0.05 | H35: 0.05 | I35: 0.05 | J35: 0.06 | K35: 0.06 | L35: 0.113 | M35: 0.113 | N35: 0.113 | O35: 0.2 | P35: 0.2 | Q35: 0.2 | R35: 0.2 | S35: 0.2 | T35: 0.2 | U35: 0.05 | V35: 0.05 | W35: 0.05 | X35: 0.05 | Y35: 0.05 | Z35: 0.05 | AA35: 0.05 | AB35: 0.05 | AC35: 0.05 | AD35: 0.05 | AE35: 0.05 | AF35: 0.05 | AG35: 0.05 | AH35: 0.05 | AI35: 0.05 | AJ35: 0.05 | AK35: 0.05 | AL35: 0.05 | AM35: 0.05 | AN35: 0.05 | AO35: 0.05 | AP35: 0.05 | AQ35: 0.05 | AR35: 0.05 | AS35: 0.05 | AT35: 0.05 | AU35: 0.05 | AV35: 0.05 | AW35: 0.05 | AX35: 0.05 | AY35: 0.05 | AZ35: 0.05 | BA35: 0.05 | BB35: 0.05 | BC35: 0.05 | BD35: 0.05 | BE35: 0.05 | BF35: 0.05 | BG35: 0.05 | BH35: 0.05 | BI35: 0.05 | BJ35: 0.05 | BK35: 0.05 | BL35: 0.05 | BM35: 0.05 | BN35: 0.05 | BO35: 0.05 | BP35: 0.05 | BQ35: 0.05 | BR35: 0.05 | BS35: 0.05 | BT35: 0.05 | BU35: 0.05 | BV35: 0.05 | BW35: 0.05 | BX35: 0.05 | BY35: 0.05 | BZ35: 0.05 | CA35: 0.05 | CB35: 0.05 | CC35: 0.05 | CD35: 0.05 | CE35: 0.05 | CF35: 0.05 | CG35: 0.05 | CH35: 0.05 | CI35: 0.05 | CJ35: 0.05 | CK35: 0.05 | CL35: 0.05 | CM35: 0.05 | CN35: 0.05 | CO35: 0.05 | CP35: 0.05 | CQ35: 0.05 | CR35: 0.05 | CS35: 0.05 | CT35: 0.05 | CU35: 0.05 | CV35: 0.05 | CW35: 0.05 | CX35: 0.05 | CY35: 0.06 | CZ35: 0.06 | DA35: 0.06 | DB35: 0.06 | DC35: 0.06 | DD35: 0.06 | DE35: 0.06 | DF35: 0.06 | DG35: 0.06 | DH35: 0.06 | DI35: 0.06 | DJ35: 0.06 | DK35: 0.06 | DL35: 0.06 | DM35: 0.06 | DN35: 0.06 | DO35: 0.06 | DP35: 0.06 | DQ35: 0.06 | DR35: 0.06 | DS35: 0.06 | DT35: 0.06 | DU35: 0.06 | DV35: 0.06 | DW35: 0.06 | DX35: 0.06 | DY35: 0.06 | DZ35: 0.113 | EA35: 0.113 | EB35: 0.113 | EC35: 0.113 | ED35: 0.113 | EE35: 0.113 | EF35: 0.113 | EG35: 0.113 | EH35: 0.113 | EI35: 0.113 | EJ35: 0.113 | EK35: 0.113 | EL35: 0.113 | EM35: 0.113 | EN35: 0.113 | EO35: 0.113 | EP35: 0.113 | EQ35: 0.113 | ER35: 0.113 | ES35: 0.113 | ET35: 0.113 | EU35: 0.113 | EV35: 0.113 | EW35: 0.113 | EX35: 0.113 | EY35: 0.113 | EZ35: 0.113 | FA35: 0.113 | FB35: 0.113 | FC35: 0.113 | FD35: 0.113 | FE35: 0.113 | FF35: 0.113 | FG35: 0.2 | FH35: 0.2 | FI35: 0.2 | FJ35: 0.2 | FK35: 0.2 | FL35: 0.2 | FM35: 0.2 | FN35: 0.2 | FO35: 0.2 | FP35: 0.2 | FQ35: 0.2 | FR35: 0.2 | FS35: 0.2 | FT35: 0.2 | FU35: 0.2 | FV35: 0.2 | FW35: 0.2 | FX35: 0.2 | FY35: 0.2 | FZ35: 0.2 | GA35: 0.2 | GB35: 0.2 | GC35: 0.2 | GD35: 0.2 | GE35: 0.2 | GF35: 0.2 | GG35: 0.2 | GH35: 0.2 | GI35: 0.2 | GJ35: 0.2 | GK35: 0.2 | GL35: 0.2 | GM35: 0.2 | GN35: 0.2 | GO35: 0.2 | GP35: 0.2 | GQ35: 0.2 | GR35: 0.2 | GS35: 0.2 | PH35: 0.05 | PI35: 0.05 | PJ35: 0.05 | PK35: 0.05 | PL35: 0.06 | PM35: 0.06 | PN35: 0.113 | PO35: 0.113 | PP35: 0.2 | PQ35: 0.2 | PR35: 0.2
A36: 17 | B36: Demontarea contorului | C36: =$B$4 -> Lăcătuș | PS36: 0.03 | PT36: 0.037 | PU36: 0.05 | PV36: 0.05 | PW36: 0.05 | PX36: 0.05 | PY36: 0.08 | PZ36: 0.08 | QA36: 0.12 | QB36: 0.12 | QC36: 0.12 | QD36: 0.03 | QE36: 0.03 | QF36: 0.03
A37: 18 | B37: (Re)Montarea contorului | C37: =$B$4 -> Lăcătuș | V37: 0.05 | X37: 0.05 | Z37: 0.05 | AB37: 0.05 | AD37: 0.05 | AH37: 0.05 | AJ37: 0.05 | AL37: 0.05 | AN37: 0.05 | AP37: 0.05 | AR37: 0.05 | AT37: 0.05 | AV37: 0.05 | AX37: 0.05 | AZ37: 0.05 | BB37: 0.05 | BE37: 0.05 | BG37: 0.05 | BI37: 0.05 | BK37: 0.05 | BO37: 0.05 | BQ37: 0.05 | BS37: 0.05 | BU37: 0.05 | BW37: 0.05 | BY37: 0.05 | CA37: 0.05 | CC37: 0.05 | HP37: 0.05 | HR37: 0.05 | HT37: 0.05 | HV37: 0.05 | HX37: 0.05 | IB37: 0.05 | ID37: 0.05 | IF37: 0.05 | IH37: 0.05 | IJ37: 0.05 | IL37: 0.05 | IN37: 0.05 | IP37: 0.05 | IR37: 0.05 | IT37: 0.05 | IV37: 0.05 | IY37: 0.05 | JA37: 0.05 | JC37: 0.05 | JE37: 0.05 | JI37: 0.05 | JK37: 0.05 | JM37: 0.05 | JO37: 0.05 | JQ37: 0.05 | JS37: 0.05 | JU37: 0.05 | JW37: 0.05 | PH37: 0.05 | PI37: 0.06 | PJ37: 0.083 | PK37: 0.083 | PL37: 0.083 | PM37: 0.083 | PN37: 0.133 | PO37: 0.133 | PP37: 0.167 | PQ37: 0.167 | PR37: 0.167 | PS37: 0.05 | PT37: 0.06 | PU37: 0.083 | PV37: 0.083 | PW37: 0.083 | PX37: 0.083 | PY37: 0.133 | PZ37: 0.133 | QA37: 0.167 | QB37: 0.167 | QC37: 0.167 | QD37: 0.05 | QE37: 0.05 | QF37: 0.05
A38: 19 | B38: Montarea contorului | C38: =$B$4 -> Lăcătuș | F38: 0.05 | H38: 0.05 | I38: 0.05 | J38: 0.06 | K38: 0.06 | L38: 0.113 | M38: 0.113 | N38: 0.113 | O38: 0.2 | P38: 0.2 | Q38: 0.2 | R38: 0.2 | S38: 0.2 | T38: 0.2 | AF38: 0.05 | BM38: 0.05 | CE38: 0.05 | CG38: 0.05 | CI38: 0.05 | CJ38: 0.05 | CK38: 0.05 | CL38: 0.05 | CM38: 0.05 | CN38: 0.05 | CO38: 0.05 | CP38: 0.05 | CQ38: 0.05 | CR38: 0.05 | CS38: 0.05 | CT38: 0.05 | CU38: 0.05 | CV38: 0.05 | CW38: 0.05 | CX38: 0.05 | CY38: 0.06 | CZ38: 0.06 | DA38: 0.06 | DB38: 0.06 | DC38: 0.06 | DD38: 0.06 | DE38: 0.06 | DF38: 0.06 | DG38: 0.06 | DH38: 0.06 | DI38: 0.06 | DJ38: 0.06 | DK38: 0.06 | DL38: 0.06 | DM38: 0.06 | DN38: 0.06 | DO38: 0.06 | DP38: 0.06 | DQ38: 0.06 | DR38: 0.06 | DS38: 0.06 | DT38: 0.06 | DU38: 0.06 | DV38: 0.06 | DW38: 0.06 | DX38: 0.06 | DY38: 0.06 | DZ38: 0.113 | EA38: 0.113 | EB38: 0.113 | EC38: 0.113 | ED38: 0.113 | EE38: 0.113 | EF38: 0.113 | EG38: 0.113 | EH38: 0.113 | EI38: 0.113 | EJ38: 0.113 | EK38: 0.113 | EL38: 0.113 | EM38: 0.113 | EN38: 0.113 | EO38: 0.113 | EP38: 0.113 | EQ38: 0.113 | ER38: 0.113 | ES38: 0.113 | ET38: 0.113 | EU38: 0.113 | EV38: 0.113 | EW38: 0.113 | EX38: 0.113 | EY38: 0.113 | EZ38: 0.113 | FA38: 0.113 | FB38: 0.113 | FC38: 0.113 | FD38: 0.113 | FE38: 0.113 | FF38: 0.113 | FG38: 0.2 | FH38: 0.2 | FI38: 0.2 | FJ38: 0.2 | FK38: 0.2 | FL38: 0.2 | FM38: 0.2 | FN38: 0.2 | FO38: 0.2 | FP38: 0.2 | FQ38: 0.2 | FR38: 0.2 | FS38: 0.2 | FT38: 0.2 | FU38: 0.2 | FV38: 0.2 | FW38: 0.2 | FX38: 0.2 | FY38: 0.2 | FZ38: 0.2 | GA38: 0.2 | GB38: 0.2 | GC38: 0.2 | GD38: 0.2 | GE38: 0.2 | GF38: 0.2 | GG38: 0.2 | GH38: 0.2 | GI38: 0.2 | GJ38: 0.2 | GK38: 0.2 | GL38: 0.2 | GM38: 0.2 | GN38: 0.2 | GO38: 0.2 | GP38: 0.2 | GQ38: 0.2 | GR38: 0.2 | GS38: 0.2 | GZ38: 0.05 | HB38: 0.05 | HC38: 0.05 | HD38: 0.06 | HE38: 0.06 | HF38: 0.113 | HG38: 0.113 | HH38: 0.113 | HI38: 0.2 | HJ38: 0.2 | HK38: 0.2 | HL38: 0.2 | HM38: 0.2 | HN38: 0.2 | HZ38: 0.05 | JG38: 0.05 | JY38: 0.05 | KA38: 0.05 | KC38: 0.05 | KD38: 0.05 | KE38: 0.05 | KF38: 0.05 | KG38: 0.05 | KH38: 0.05 | KI38: 0.05 | KJ38: 0.05 | KK38: 0.05 | KL38: 0.05 | KM38: 0.05 | KN38: 0.05 | KO38: 0.05 | KP38: 0.05 | KQ38: 0.05 | KR38: 0.05 | KS38: 0.06 | KT38: 0.06 | KU38: 0.06 | KV38: 0.06 | KW38: 0.06 | KX38: 0.06 | KY38: 0.06 | KZ38: 0.06 | LA38: 0.06 | LB38: 0.06 | LC38: 0.06 | LD38: 0.06 | LE38: 0.06 | LF38: 0.06 | LG38: 0.06 | LH38: 0.06 | LI38: 0.06 | LJ38: 0.06 | LK38: 0.06 | LL38: 0.06 | LM38: 0.06 | LN38: 0.06 | LO38: 0.06 | LP38: 0.06 | LQ38: 0.06 | LR38: 0.06 | LS38: 0.06 | LT38: 0.113 | LU38: 0.113 | LV38: 0.113 | LW38: 0.113 | LX38: 0.113 | LY38: 0.113 | LZ38: 0.113 | MA38: 0.113 | MB38: 0.113 | MC38: 0.113 | MD38: 0.113 | ME38: 0.113 | MF38: 0.113 | MG38: 0.113 | MH38: 0.113 | MI38: 0.113 | MJ38: 0.113 | MK38: 0.113 | ML38: 0.113 | MM38: 0.113 | MN38: 0.113 | MO38: 0.113 | MP38: 0.113 | MQ38: 0.113 | MR38: 0.113 | MS38: 0.113 | MT38: 0.113 | MU38: 0.113 | MV38: 0.113 | MW38: 0.113 | MX38: 0.113 | MY38: 0.113 | MZ38: 0.113 | NA38: 0.2 | NB38: 0.2 | NC38: 0.2 | ND38: 0.2 | NE38: 0.2 | NF38: 0.2 | NG38: 0.2 | NH38: 0.2 | NI38: 0.2 | NJ38: 0.2 | NK38: 0.2 | NL38: 0.2 | NM38: 0.2 | NN38: 0.2 | NO38: 0.2 | NP38: 0.2 | NQ38: 0.2 | NR38: 0.2 | NS38: 0.2 | NT38: 0.2 | NU38: 0.2 | NV38: 0.2 | NW38: 0.2 | NX38: 0.2 | NY38: 0.2 | NZ38: 0.2 | OA38: 0.2 | OB38: 0.2 | OC38: 0.2 | OD38: 0.2 | OE38: 0.2 | OF38: 0.2 | OG38: 0.2 | OH38: 0.2 | OI38: 0.2 | OJ38: 0.2 | OK38: 0.2 | OL38: 0.2 | OM38: 0.2
A39: 20 | B39: Montarea clapetei de sens unic | C39: =$B$4 -> Lăcătuș | E39: 0.02 | F39: 0.02 | G39: 0.02 | H39: 0.02 | I39: 0.02 | J39: 0.02 | K39: 0.02 | L39: 0.05 | M39: 0.05 | N39: 0.05 | O39: 0.082 | P39: 0.082 | Q39: 0.082 | R39: 0.082 | S39: 0.082 | T39: 0.082 | U39: 0.02 | V39: 0.02 | W39: 0.02 | X39: 0.02 | Y39: 0.02 | Z39: 0.02 | AA39: 0.02 | AB39: 0.02 | AC39: 0.02 | AD39: 0.02 | AE39: 0.02 | AF39: 0.02 | AG39: 0.02 | AH39: 0.02 | AI39: 0.02 | AJ39: 0.02 | AK39: 0.02 | AL39: 0.02 | AM39: 0.02 | AN39: 0.02 | AO39: 0.02 | AP39: 0.02 | AQ39: 0.02 | AR39: 0.02 | AS39: 0.02 | AT39: 0.02 | AU39: 0.02 | AV39: 0.02 | AW39: 0.02 | AX39: 0.02 | AY39: 0.02 | AZ39: 0.02 | BA39: 0.02 | BB39: 0.02 | BC39: 0.02 | BD39: 0.02 | BE39: 0.02 | BF39: 0.02 | BG39: 0.02 | BH39: 0.02 | BI39: 0.02 | BJ39: 0.02 | BK39: 0.02 | BL39: 0.02 | BM39: 0.02 | BN39: 0.02 | BO39: 0.02 | BP39: 0.02 | BQ39: 0.02 | BR39: 0.02 | BS39: 0.02 | BT39: 0.02 | BU39: 0.02 | BV39: 0.02 | BW39: 0.02 | BX39: 0.02 | BY39: 0.02 | BZ39: 0.02 | CA39: 0.02 | CB39: 0.02 | CC39: 0.02 | CD39: 0.02 | CE39: 0.02 | CF39: 0.02 | CG39: 0.02 | CH39: 0.02 | CI39: 0.02 | CJ39: 0.02 | CK39: 0.02 | CL39: 0.02 | CM39: 0.02 | CN39: 0.02 | CO39: 0.02 | CP39: 0.02 | CQ39: 0.02 | CR39: 0.02 | CS39: 0.02 | CT39: 0.02 | CU39: 0.02 | CV39: 0.02 | CW39: 0.02 | CX39: 0.02 | CY39: 0.02 | CZ39: 0.02 | DA39: 0.02 | DB39: 0.02 | DC39: 0.02 | DD39: 0.02 | DE39: 0.02 | DF39: 0.02 | DG39: 0.02 | DH39: 0.02 | DI39: 0.02 | DJ39: 0.02 | DK39: 0.02 | DL39: 0.02 | DM39: 0.02 | DN39: 0.02 | DO39: 0.02 | DP39: 0.02 | DQ39: 0.02 | DR39: 0.02 | DS39: 0.02 | DT39: 0.02 | DU39: 0.02 | DV39: 0.02 | DW39: 0.02 | DX39: 0.02 | DY39: 0.02 | DZ39: 0.05 | EA39: 0.05 | EB39: 0.05 | EC39: 0.05 | ED39: 0.05 | EE39: 0.05 | EF39: 0.05 | EG39: 0.05 | EH39: 0.05 | EI39: 0.05 | EJ39: 0.05 | EK39: 0.05 | EL39: 0.05 | EM39: 0.05 | EN39: 0.05 | EO39: 0.05 | EP39: 0.05 | EQ39: 0.05 | ER39: 0.05 | ES39: 0.05 | ET39: 0.05 | EU39: 0.05 | EV39: 0.05 | EW39: 0.05 | EX39: 0.05 | EY39: 0.05 | EZ39: 0.05 | FA39: 0.05 | FB39: 0.05 | FC39: 0.05 | FD39: 0.05 | FE39: 0.05 | FF39: 0.05 | FG39: 0.082 | FH39: 0.082 | FI39: 0.082 | FJ39: 0.082 | FK39: 0.082 | FL39: 0.082 | FM39: 0.082 | FN39: 0.082 | FO39: 0.082 | FP39: 0.082 | FQ39: 0.082 | FR39: 0.082 | FS39: 0.082 | FT39: 0.082 | FU39: 0.082 | FV39: 0.082 | FW39: 0.082 | FX39: 0.082 | FY39: 0.082 | FZ39: 0.082 | GA39: 0.082 | GB39: 0.082 | GC39: 0.082 | GD39: 0.082 | GE39: 0.082 | GF39: 0.082 | GG39: 0.082 | GH39: 0.082 | GI39: 0.082 | GJ39: 0.082 | GK39: 0.082 | GL39: 0.082 | GM39: 0.082 | GN39: 0.082 | GO39: 0.082 | GP39: 0.082 | GQ39: 0.082 | GR39: 0.082 | GS39: 0.082 | GY39: 0.02 | GZ39: 0.02 | HA39: 0.02 | HB39: 0.02 | HC39: 0.02 | HD39: 0.02 | HE39: 0.02 | HF39: 0.05 | HG39: 0.05 | HH39: 0.05 | HI39: 0.082 | HJ39: 0.082 | HK39: 0.082 | HL39: 0.082 | HM39: 0.082 | HN39: 0.082 | HO39: 0.02 | HP39: 0.02 | HQ39: 0.02 | HR39: 0.02 | HS39: 0.02 | HT39: 0.02 | HU39: 0.02 | HV39: 0.02 | HW39: 0.02 | HX39: 0.02 | HY39: 0.02 | HZ39: 0.02 | IA39: 0.02 | IB39: 0.02 | IC39: 0.02 | ID39: 0.02 | IE39: 0.02 | IF39: 0.02 | IG39: 0.02 | IH39: 0.02 | II39: 0.02 | IJ39: 0.02 | IK39: 0.02 | IL39: 0.02 | IM39: 0.02 | IN39: 0.02 | IO39: 0.02 | IP39: 0.02 | IQ39: 0.02 | IR39: 0.02 | IS39: 0.02 | IT39: 0.02 | IU39: 0.02 | IV39: 0.02 | IW39: 0.02 | IX39: 0.02 | IY39: 0.02 | IZ39: 0.02 | JA39: 0.02 | JB39: 0.02 | JC39: 0.02 | JD39: 0.02 | JE39: 0.02 | JF39: 0.02 | JG39: 0.02 | JH39: 0.02 | JI39: 0.02 | JJ39: 0.02 | JK39: 0.02 | JL39: 0.02 | JM39: 0.02 | JN39: 0.02 | JO39: 0.02 | JP39: 0.02 | JQ39: 0.02 | JR39: 0.02 | JS39: 0.02 | JT39: 0.02 | JU39: 0.02 | JV39: 0.02 | JW39: 0.02 | JX39: 0.02 | JY39: 0.02 | JZ39: 0.02 | KA39: 0.02 | KB39: 0.02 | KC39: 0.02 | KD39: 0.02 | KE39: 0.02 | KF39: 0.02 | KG39: 0.02 | KH39: 0.02 | KI39: 0.02 | KJ39: 0.02 | KK39: 0.02 | KL39: 0.02 | KM39: 0.02 | KN39: 0.02 | KO39: 0.02 | KP39: 0.02 | KQ39: 0.02 | KR39: 0.02 | KS39: 0.02 | KT39: 0.02 | KU39: 0.02 | KV39: 0.02 | KW39: 0.02 | KX39: 0.02 | KY39: 0.02 | KZ39: 0.02 | LA39: 0.02 | LB39: 0.02 | LC39: 0.02 | LD39: 0.02 | LE39: 0.02 | LF39: 0.02 | LG39: 0.02 | LH39: 0.02 | LI39: 0.02 | LJ39: 0.02 | LK39: 0.02 | LL39: 0.02 | LM39: 0.02 | LN39: 0.02 | LO39: 0.02 | LP39: 0.02 | LQ39: 0.02 | LR39: 0.02 | LS39: 0.02 | LT39: 0.05 | LU39: 0.05 | LV39: 0.05 | LW39: 0.05 | LX39: 0.05 | LY39: 0.05 | LZ39: 0.05 | MA39: 0.05 | MB39: 0.05 | MC39: 0.05 | MD39: 0.05 | ME39: 0.05 | MF39: 0.05 | MG39: 0.05 | MH39: 0.05 | MI39: 0.05 | MJ39: 0.05 | MK39: 0.05 | ML39: 0.05 | MM39: 0.05 | MN39: 0.05 | MO39: 0.05 | MP39: 0.05 | MQ39: 0.05 | MR39: 0.05 | MS39: 0.05 | MT39: 0.05 | MU39: 0.05 | MV39: 0.05 | MW39: 0.05 | MX39: 0.05 | MY39: 0.05 | MZ39: 0.05 | NA39: 0.082 | NB39: 0.082 | NC39: 0.082 | ND39: 0.082 | NE39: 0.082 | NF39: 0.082 | NG39: 0.082 | NH39: 0.082 | NI39: 0.082 | NJ39: 0.082 | NK39: 0.082 | NL39: 0.082 | NM39: 0.082 | NN39: 0.082 | NO39: 0.082 | NP39: 0.082 | NQ39: 0.082 | NR39: 0.082 | NS39: 0.082 | NT39: 0.082 | NU39: 0.082 | NV39: 0.082 | NW39: 0.082 | NX39: 0.082 | NY39: 0.082 | NZ39: 0.082 | OA39: 0.082 | OB39: 0.082 | OC39: 0.082 | OD39: 0.082 | OE39: 0.082 | OF39: 0.082 | OG39: 0.082 | OH39: 0.082 | OI39: 0.082 | OJ39: 0.082 | OK39: 0.082 | OL39: 0.082 | OM39: 0.082 | PH39: 0.02 | PI39: 0.02 | PJ39: 0.02 | PK39: 0.02 | PL39: 0.02 | PM39: 0.02 | PN39: 0.05 | PO39: 0.05 | PP39: 0.082 | PQ39: 0.082 | PR39: 0.082
A40: 21 | B40: Conectarea conductei de apă care pleacă spre instalațiile interne ale consumatorului | C40: =$B$4 -> Lăcătuș | E40: 0.05 | F40: 0.05 | G40: 0.05 | H40: 0.05 | I40: 0.05 | J40: 0.05 | K40: 0.05 | L40: 0.05 | M40: 0.05 | N40: 0.05 | O40: 0.082 | P40: 0.082 | Q40: 0.082 | R40: 0.082 | S40: 0.082 | T40: 0.082 | U40: 0.05 | V40: 0.05 | W40: 0.05 | X40: 0.05 | Y40: 0.05 | Z40: 0.05 | AA40: 0.05 | AB40: 0.05 | AC40: 0.05 | AD40: 0.05 | AE40: 0.05 | AF40: 0.05 | AG40: 0.05 | AH40: 0.05 | AI40: 0.05 | AJ40: 0.05 | AK40: 0.05 | AL40: 0.05 | AM40: 0.05 | AN40: 0.05 | AO40: 0.05 | AP40: 0.05 | AQ40: 0.05 | AR40: 0.05 | AS40: 0.05 | AT40: 0.05 | AU40: 0.05 | AV40: 0.05 | AW40: 0.05 | AX40: 0.05 | AY40: 0.05 | AZ40: 0.05 | BA40: 0.05 | BB40: 0.05 | BC40: 0.05 | BD40: 0.05 | BE40: 0.05 | BF40: 0.05 | BG40: 0.05 | BH40: 0.05 | BI40: 0.05 | BJ40: 0.05 | BK40: 0.05 | BL40: 0.05 | BM40: 0.05 | BN40: 0.05 | BO40: 0.05 | BP40: 0.05 | BQ40: 0.05 | BR40: 0.05 | BS40: 0.05 | BT40: 0.05 | BU40: 0.05 | BV40: 0.05 | BW40: 0.05 | BX40: 0.05 | BY40: 0.05 | BZ40: 0.05 | CA40: 0.05 | CB40: 0.05 | CC40: 0.05 | CD40: 0.05 | CE40: 0.05 | CF40: 0.05 | CG40: 0.05 | CH40: 0.05 | CI40: 0.05 | CJ40: 0.05 | CK40: 0.05 | CL40: 0.05 | CM40: 0.05 | CN40: 0.05 | CO40: 0.05 | CP40: 0.05 | CQ40: 0.05 | CR40: 0.05 | CS40: 0.05 | CT40: 0.05 | CU40: 0.05 | CV40: 0.05 | CW40: 0.05 | CX40: 0.05 | CY40: 0.05 | CZ40: 0.05 | DA40: 0.05 | DB40: 0.05 | DC40: 0.05 | DD40: 0.05 | DE40: 0.05 | DF40: 0.05 | DG40: 0.05 | DH40: 0.05 | DI40: 0.05 | DJ40: 0.05 | DK40: 0.05 | DL40: 0.05 | DM40: 0.05 | DN40: 0.05 | DO40: 0.05 | DP40: 0.05 | DQ40: 0.05 | DR40: 0.05 | DS40: 0.05 | DT40: 0.05 | DU40: 0.05 | DV40: 0.05 | DW40: 0.05 | DX40: 0.05 | DY40: 0.05 | DZ40: 0.05 | EA40: 0.05 | EB40: 0.05 | EC40: 0.05 | ED40: 0.05 | EE40: 0.05 | EF40: 0.05 | EG40: 0.05 | EH40: 0.05 | EI40: 0.05 | EJ40: 0.05 | EK40: 0.05 | EL40: 0.05 | EM40: 0.05 | EN40: 0.05 | EO40: 0.05 | EP40: 0.05 | EQ40: 0.05 | ER40: 0.05 | ES40: 0.05 | ET40: 0.05 | EU40: 0.05 | EV40: 0.05 | EW40: 0.05 | EX40: 0.05 | EY40: 0.05 | EZ40: 0.05 | FA40: 0.05 | FB40: 0.05 | FC40: 0.05 | FD40: 0.05 | FE40: 0.05 | FF40: 0.05 | FG40: 0.082 | FH40: 0.082 | FI40: 0.082 | FJ40: 0.082 | FK40: 0.082 | FL40: 0.082 | FM40: 0.082 | FN40: 0.082 | FO40: 0.082 | FP40: 0.082 | FQ40: 0.082 | FR40: 0.082 | FS40: 0.082 | FT40: 0.082 | FU40: 0.082 | FV40: 0.082 | FW40: 0.082 | FX40: 0.082 | FY40: 0.082 | FZ40: 0.082 | GA40: 0.082 | GB40: 0.082 | GC40: 0.082 | GD40: 0.082 | GE40: 0.082 | GF40: 0.082 | GG40: 0.082 | GH40: 0.082 | GI40: 0.082 | GJ40: 0.082 | GK40: 0.082 | GL40: 0.082 | GM40: 0.082 | GN40: 0.082 | GO40: 0.082 | GP40: 0.082 | GQ40: 0.082 | GR40: 0.082 | GS40: 0.082
A41: 22 | B41: Testarea branșamentului și a contorului | C41: =$B$4 -> Lăcătuș | E41: 0.05 | F41: 0.05 | G41: 0.05 | H41: 0.05 | I41: 0.05 | J41: 0.05 | K41: 0.05 | L41: 0.07 | M41: 0.07 | N41: 0.07 | O41: 0.1 | P41: 0.1 | Q41: 0.1 | R41: 0.1 | S41: 0.135 | T41: 0.135 | U41: 0.05 | V41: 0.05 | W41: 0.05 | X41: 0.05 | Y41: 0.05 | Z41: 0.05 | AA41: 0.05 | AB41: 0.05 | AC41: 0.05 | AD41: 0.05 | AE41: 0.05 | AF41: 0.05 | AG41: 0.05 | AH41: 0.05 | AI41: 0.05 | AJ41: 0.05 | AK41: 0.05 | AL41: 0.05 | AM41: 0.05 | AN41: 0.05 | AO41: 0.05 | AP41: 0.05 | AQ41: 0.05 | AR41: 0.05 | AS41: 0.05 | AT41: 0.05 | AU41: 0.05 | AV41: 0.05 | AW41: 0.05 | AX41: 0.05 | AY41: 0.05 | AZ41: 0.05 | BA41: 0.05 | BB41: 0.05 | BC41: 0.05 | BD41: 0.05 | BE41: 0.05 | BF41: 0.05 | BG41: 0.05 | BH41: 0.05 | BI41: 0.05 | BJ41: 0.05 | BK41: 0.05 | BL41: 0.05 | BM41: 0.05 | BN41: 0.05 | BO41: 0.05 | BP41: 0.05 | BQ41: 0.05 | BR41: 0.05 | BS41: 0.05 | BT41: 0.05 | BU41: 0.05 | BV41: 0.05 | BW41: 0.05 | BX41: 0.05 | BY41: 0.05 | BZ41: 0.05 | CA41: 0.05 | CB41: 0.05 | CC41: 0.05 | CD41: 0.05 | CE41: 0.05 | CF41: 0.05 | CG41: 0.05 | CH41: 0.05 | CI41: 0.05 | CJ41: 0.05 | CK41: 0.05 | CL41: 0.05 | CM41: 0.05 | CN41: 0.05 | CO41: 0.05 | CP41: 0.05 | CQ41: 0.05 | CR41: 0.05 | CS41: 0.05 | CT41: 0.05 | CU41: 0.05 | CV41: 0.05 | CW41: 0.05 | CX41: 0.05 | CY41: 0.05 | CZ41: 0.05 | DA41: 0.05 | DB41: 0.05 | DC41: 0.05 | DD41: 0.05 | DE41: 0.05 | DF41: 0.05 | DG41: 0.05 | DH41: 0.05 | DI41: 0.05 | DJ41: 0.05 | DK41: 0.05 | DL41: 0.05 | DM41: 0.05 | DN41: 0.05 | DO41: 0.05 | DP41: 0.05 | DQ41: 0.05 | DR41: 0.05 | DS41: 0.05 | DT41: 0.05 | DU41: 0.05 | DV41: 0.05 | DW41: 0.05 | DX41: 0.05 | DY41: 0.05 | DZ41: 0.07 | EA41: 0.07 | EB41: 0.07 | EC41: 0.07 | ED41: 0.07 | EE41: 0.07 | EF41: 0.07 | EG41: 0.07 | EH41: 0.07 | EI41: 0.07 | EJ41: 0.07 | EK41: 0.07 | EL41: 0.07 | EM41: 0.07 | EN41: 0.07 | EO41: 0.07 | EP41: 0.07 | EQ41: 0.07 | ER41: 0.07 | ES41: 0.07 | ET41: 0.07 | EU41: 0.07 | EV41: 0.07 | EW41: 0.07 | EX41: 0.07 | EY41: 0.07 | EZ41: 0.07 | FA41: 0.07 | FB41: 0.07 | FC41: 0.07 | FD41: 0.07 | FE41: 0.07 | FF41: 0.07 | FG41: 0.1 | FH41: 0.1 | FI41: 0.1 | FJ41: 0.1 | FK41: 0.1 | FL41: 0.1 | FM41: 0.1 | FN41: 0.1 | FO41: 0.1 | FP41: 0.1 | FQ41: 0.1 | FR41: 0.1 | FS41: 0.1 | FT41: 0.1 | FU41: 0.1 | FV41: 0.1 | FW41: 0.1 | FX41: 0.1 | FY41: 0.1 | FZ41: 0.1 | GA41: 0.1 | GB41: 0.1 | GC41: 0.1 | GD41: 0.1 | GE41: 0.1 | GF41: 0.1 | GG41: 0.1 | GH41: 0.1 | GI41: 0.1 | GJ41: 0.1 | GK41: 0.1 | GL41: 0.1 | GM41: 0.1 | GN41: 0.1 | GO41: 0.1 | GP41: 0.1 | GQ41: 0.1 | GR41: 0.1 | GS41: 0.1 | GY41: 0.05 | GZ41: 0.05 | HA41: 0.05 | HB41: 0.05 | HC41: 0.05 | HD41: 0.05 | HE41: 0.05 | HF41: 0.07 | HG41: 0.07 | HH41: 0.07 | HI41: 0.1 | HJ41: 0.1 | HK41: 0.1 | HL41: 0.1 | HM41: 0.135 | HN41: 0.135 | HO41: 0.05 | HP41: 0.05 | HQ41: 0.05 | HR41: 0.05 | HS41: 0.05 | HT41: 0.05 | HU41: 0.05 | HV41: 0.05 | HW41: 0.05 | HX41: 0.05 | HY41: 0.05 | HZ41: 0.05 | IA41: 0.05 | IB41: 0.05 | IC41: 0.05 | ID41: 0.05 | IE41: 0.05 | IF41: 0.05 | IG41: 0.05 | IH41: 0.05 | II41: 0.05 | IJ41: 0.05 | IK41: 0.05 | IL41: 0.05 | IM41: 0.05 | IN41: 0.05 | IO41: 0.05 | IP41: 0.05 | IQ41: 0.05 | IR41: 0.05 | IS41: 0.05 | IT41: 0.05 | IU41: 0.05 | IV41: 0.05 | IW41: 0.05 | IX41: 0.05 | IY41: 0.05 | IZ41: 0.05 | JA41: 0.05 | JB41: 0.05 | JC41: 0.05 | JD41: 0.05 | JE41: 0.05 | JF41: 0.05 | JG41: 0.05 | JH41: 0.05 | JI41: 0.05 | JJ41: 0.05 | JK41: 0.05 | JL41: 0.05 | JM41: 0.05 | JN41: 0.05 | JO41: 0.05 | JP41: 0.05 | JQ41: 0.05 | JR41: 0.05 | JS41: 0.05 | JT41: 0.05 | JU41: 0.05 | JV41: 0.05 | JW41: 0.05 | JX41: 0.05 | JY41: 0.05 | JZ41: 0.05 | KA41: 0.05 | KB41: 0.05 | KC41: 0.05 | KD41: 0.05 | KE41: 0.05 | KF41: 0.05 | KG41: 0.05 | KH41: 0.05 | KI41: 0.05 | KJ41: 0.05 | KK41: 0.05 | KL41: 0.05 | KM41: 0.05 | KN41: 0.05 | KO41: 0.05 | KP41: 0.05 | KQ41: 0.05 | KR41: 0.05 | KS41: 0.05 | KT41: 0.05 | KU41: 0.05 | KV41: 0.05 | KW41: 0.05 | KX41: 0.05 | KY41: 0.05 | KZ41: 0.05 | LA41: 0.05 | LB41: 0.05 | LC41: 0.05 | LD41: 0.05 | LE41: 0.05 | LF41: 0.05 | LG41: 0.05 | LH41: 0.05 | LI41: 0.05 | LJ41: 0.05 | LK41: 0.05 | LL41: 0.05 | LM41: 0.05 | LN41: 0.05 | LO41: 0.05 | LP41: 0.05 | LQ41: 0.05 | LR41: 0.05 | LS41: 0.05 | LT41: 0.07 | LU41: 0.07 | LV41: 0.07 | LW41: 0.07 | LX41: 0.07 | LY41: 0.07 | LZ41: 0.07 | MA41: 0.07 | MB41: 0.07 | MC41: 0.07 | MD41: 0.07 | ME41: 0.07 | MF41: 0.07 | MG41: 0.07 | MH41: 0.07 | MI41: 0.07 | MJ41: 0.07 | MK41: 0.07 | ML41: 0.07 | MM41: 0.07 | MN41: 0.07 | MO41: 0.07 | MP41: 0.07 | MQ41: 0.07 | MR41: 0.07 | MS41: 0.07 | MT41: 0.07 | MU41: 0.07 | MV41: 0.07 | MW41: 0.07 | MX41: 0.07 | MY41: 0.07 | MZ41: 0.07 | NA41: 0.1 | NB41: 0.1 | NC41: 0.1 | ND41: 0.1 | NE41: 0.1 | NF41: 0.1 | NG41: 0.1 | NH41: 0.1 | NI41: 0.1 | NJ41: 0.1 | NK41: 0.1 | NL41: 0.1 | NM41: 0.1 | NN41: 0.1 | NO41: 0.1 | NP41: 0.1 | NQ41: 0.1 | NR41: 0.1 | NS41: 0.1 | NT41: 0.1 | NU41: 0.1 | NV41: 0.1 | NW41: 0.1 | NX41: 0.1 | NY41: 0.1 | NZ41: 0.1 | OA41: 0.1 | OB41: 0.1 | OC41: 0.1 | OD41: 0.1 | OE41: 0.1 | OF41: 0.1 | OG41: 0.1 | OH41: 0.1 | OI41: 0.1 | OJ41: 0.1 | OK41: 0.1 | OL41: 0.1 | OM41: 0.1 | OS41: 0.03 | OT41: 0.07 | OU41: 0.1 | OV41: 0.135 | PC41: 0.03 | PD41: 0.07 | PE41: 0.1 | PF41: 0.135 | PH41: 0.033 | PI41: 0.033 | PJ41: 0.043 | PK41: 0.043 | PL41: 0.043 | PM41: 0.043 | PN41: 0.067 | PO41: 0.067 | PP41: 0.1 | PQ41: 0.1 | PR41: 0.1 | PS41: 0.033 | PT41: 0.033 | PU41: 0.043 | PV41: 0.043 | PW41: 0.043 | PX41: 0.043 | PY41: 0.067 | PZ41: 0.067 | QA41: 0.1 | QB41: 0.1 | QC41: 0.1 | QD41: 0.033 | QE41: 0.033 | QF41: 0.033
A42: 23 | B42: Sigilarea contorului | C42: =B12 -> Controlor ( inginer, maistru) | E42: 0.02 | F42: 0.02 | G42: 0.02 | H42: 0.02 | I42: 0.02 | J42: 0.02 | K42: 0.02 | L42: 0.03 | M42: 0.03 | N42: 0.03 | O42: 0.03 | P42: 0.03 | Q42: 0.03 | R42: 0.03 | S42: 0.03 | T42: 0.03 | U42: 0.017 | V42: 0.017 | W42: 0.017 | X42: 0.017 | Y42: 0.017 | Z42: 0.017 | AA42: 0.017 | AB42: 0.017 | AC42: 0.017 | AD42: 0.017 | AE42: 0.017 | AF42: 0.017 | AG42: 0.017 | AH42: 0.017 | AI42: 0.017 | AJ42: 0.017 | AK42: 0.017 | AL42: 0.017 | AM42: 0.017 | AN42: 0.017 | AO42: 0.017 | AP42: 0.017 | AQ42: 0.017 | AR42: 0.017 | AS42: 0.017 | AT42: 0.017 | AU42: 0.017 | AV42: 0.017 | AW42: 0.017 | AX42: 0.017 | AY42: 0.017 | AZ42: 0.017 | BA42: 0.017 | BB42: 0.017 | BC42: 0.017 | BD42: 0.017 | BE42: 0.017 | BF42: 0.017 | BG42: 0.017 | BH42: 0.017 | BI42: 0.017 | BJ42: 0.017 | BK42: 0.017 | BL42: 0.017 | BM42: 0.017 | BN42: 0.017 | BO42: 0.017 | BP42: 0.017 | BQ42: 0.017 | BR42: 0.017 | BS42: 0.017 | BT42: 0.017 | BU42: 0.017 | BV42: 0.017 | BW42: 0.017 | BX42: 0.017 | BY42: 0.017 | BZ42: 0.017 | CA42: 0.017 | CB42: 0.017 | CC42: 0.017 | CD42: 0.017 | CE42: 0.017 | CF42: 0.017 | CG42: 0.017 | CH42: 0.017 | CI42: 0.017 | CJ42: 0.017 | CK42: 0.017 | CL42: 0.017 | CM42: 0.017 | CN42: 0.017 | CO42: 0.017 | CP42: 0.017 | CQ42: 0.017 | CR42: 0.017 | CS42: 0.017 | CT42: 0.017 | CU42: 0.017 | CV42: 0.017 | CW42: 0.017 | CX42: 0.017 | CY42: 0.017 | CZ42: 0.017 | DA42: 0.017 | DB42: 0.017 | DC42: 0.017 | DD42: 0.017 | DE42: 0.017 | DF42: 0.017 | DG42: 0.017 | DH42: 0.017 | DI42: 0.017 | DJ42: 0.017 | DK42: 0.017 | DL42: 0.017 | DM42: 0.017 | DN42: 0.017 | DO42: 0.017 | DP42: 0.017 | DQ42: 0.017 | DR42: 0.017 | DS42: 0.017 | DT42: 0.017 | DU42: 0.017 | DV42: 0.017 | DW42: 0.017 | DX42: 0.017 | DY42: 0.017 | DZ42: 0.03 | EA42: 0.03 | EB42: 0.03 | EC42: 0.03 | ED42: 0.03 | EE42: 0.03 | EF42: 0.03 | EG42: 0.03 | EH42: 0.03 | EI42: 0.03 | EJ42: 0.03 | EK42: 0.03 | EL42: 0.03 | EM42: 0.03 | EN42: 0.03 | EO42: 0.03 | EP42: 0.03 | EQ42: 0.03 | ER42: 0.03 | ES42: 0.03 | ET42: 0.03 | EU42: 0.03 | EV42: 0.03 | EW42: 0.03 | EX42: 0.03 | EY42: 0.03 | EZ42: 0.03 | FA42: 0.03 | FB42: 0.03 | FC42: 0.03 | FD42: 0.03 | FE42: 0.03 | FF42: 0.03 | FG42: 0.03 | FH42: 0.03 | FI42: 0.03 | FJ42: 0.03 | FK42: 0.03 | FL42: 0.03 | FM42: 0.03 | FN42: 0.03 | FO42: 0.03 | FP42: 0.03 | FQ42: 0.03 | FR42: 0.03 | FS42: 0.03 | FT42: 0.03 | FU42: 0.03 | FV42: 0.03 | FW42: 0.03 | FX42: 0.03 | FY42: 0.03 | FZ42: 0.03 | GA42: 0.03 | GB42: 0.03 | GC42: 0.03 | GD42: 0.03 | GE42: 0.03 | GF42: 0.03 | GG42: 0.03 | GH42: 0.03 | GI42: 0.03 | GJ42: 0.03 | GK42: 0.03 | GL42: 0.03 | GM42: 0.03 | GN42: 0.03 | GO42: 0.03 | GP42: 0.03 | GQ42: 0.03 | GR42: 0.03 | GS42: 0.03 | GY42: 0.02 | GZ42: 0.02 | HA42: 0.02 | HB42: 0.02 | HC42: 0.02 | HD42: 0.02 | HE42: 0.02 | HF42: 0.03 | HG42: 0.03 | HH42: 0.03 | HI42: 0.03 | HJ42: 0.03 | HK42: 0.03 | HL42: 0.03 | HM42: 0.03 | HN42: 0.03 | HO42: 0.017 | HP42: 0.017 | HQ42: 0.017 | HR42: 0.017 | HS42: 0.017 | HT42: 0.017 | HU42: 0.017 | HV42: 0.017 | HW42: 0.017 | HX42: 0.017 | HY42: 0.017 | HZ42: 0.017 | IA42: 0.017 | IB42: 0.017 | IC42: 0.017 | ID42: 0.017 | IE42: 0.017 | IF42: 0.017 | IG42: 0.017 | IH42: 0.017 | II42: 0.017 | IJ42: 0.017 | IK42: 0.017 | IL42: 0.017 | IM42: 0.017 | IN42: 0.017 | IO42: 0.017 | IP42: 0.017 | IQ42: 0.017 | IR42: 0.017 | IS42: 0.017 | IT42: 0.017 | IU42: 0.017 | IV42: 0.017 | IW42: 0.017 | IX42: 0.017 | IY42: 0.017 | IZ42: 0.017 | JA42: 0.017 | JB42: 0.017 | JC42: 0.017 | JD42: 0.017 | JE42: 0.017 | JF42: 0.017 | JG42: 0.017 | JH42: 0.017 | JI42: 0.017 | JJ42: 0.017 | JK42: 0.017 | JL42: 0.017 | JM42: 0.017 | JN42: 0.017 | JO42: 0.017 | JP42: 0.017 | JQ42: 0.017 | JR42: 0.017 | JS42: 0.017 | JT42: 0.017 | JU42: 0.017 | JV42: 0.017 | JW42: 0.017 | JX42: 0.017 | JY42: 0.017 | JZ42: 0.017 | KA42: 0.017 | KB42: 0.017 | KC42: 0.017 | KD42: 0.017 | KE42: 0.017 | KF42: 0.017 | KG42: 0.017 | KH42: 0.017 | KI42: 0.017 | KJ42: 0.017 | KK42: 0.017 | KL42: 0.017 | KM42: 0.017 | KN42: 0.017 | KO42: 0.017 | KP42: 0.017 | KQ42: 0.017 | KR42: 0.017 | KS42: 0.017 | KT42: 0.017 | KU42: 0.017 | KV42: 0.017 | KW42: 0.017 | KX42: 0.017 | KY42: 0.017 | KZ42: 0.017 | LA42: 0.017 | LB42: 0.017 | LC42: 0.017 | LD42: 0.017 | LE42: 0.017 | LF42: 0.017 | LG42: 0.017 | LH42: 0.017 | LI42: 0.017 | LJ42: 0.017 | LK42: 0.017 | LL42: 0.017 | LM42: 0.017 | LN42: 0.017 | LO42: 0.017 | LP42: 0.017 | LQ42: 0.017 | LR42: 0.017 | LS42: 0.017 | LT42: 0.03 | LU42: 0.03 | LV42: 0.03 | LW42: 0.03 | LX42: 0.03 | LY42: 0.03 | LZ42: 0.03 | MA42: 0.03 | MB42: 0.03 | MC42: 0.03 | MD42: 0.03 | ME42: 0.03 | MF42: 0.03 | MG42: 0.03 | MH42: 0.03 | MI42: 0.03 | MJ42: 0.03 | MK42: 0.03 | ML42: 0.03 | MM42: 0.03 | MN42: 0.03 | MO42: 0.03 | MP42: 0.03 | MQ42: 0.03 | MR42: 0.03 | MS42: 0.03 | MT42: 0.03 | MU42: 0.03 | MV42: 0.03 | MW42: 0.03 | MX42: 0.03 | MY42: 0.03 | MZ42: 0.03 | NA42: 0.03 | NB42: 0.03 | NC42: 0.03 | ND42: 0.03 | NE42: 0.03 | NF42: 0.03 | NG42: 0.03 | NH42: 0.03 | NI42: 0.03 | NJ42: 0.03 | NK42: 0.03 | NL42: 0.03 | NM42: 0.03 | NN42: 0.03 | NO42: 0.03 | NP42: 0.03 | NQ42: 0.03 | NR42: 0.03 | NS42: 0.03 | NT42: 0.03 | NU42: 0.03 | NV42: 0.03 | NW42: 0.03 | NX42: 0.03 | NY42: 0.03 | NZ42: 0.03 | OA42: 0.03 | OB42: 0.03 | OC42: 0.03 | OD42: 0.03 | OE42: 0.03 | OF42: 0.03 | OG42: 0.03 | OH42: 0.03 | OI42: 0.03 | OJ42: 0.03 | OK42: 0.03 | OL42: 0.03 | OM42: 0.03 | OS42: 0.017 | OT42: 0.03 | OU42: 0.03 | OV42: 0.03 | PC42: 0.017 | PD42: 0.03 | PE42: 0.03 | PF42: 0.03
A43: 23 | B43: Sigilarea contorului | C43: =$B$4 -> Lăcătuș | PH43: 0.017 | PI43: 0.017 | PJ43: 0.017 | PK43: 0.017 | PL43: 0.017 | PM43: 0.017 | PN43: 0.027 | PO43: 0.027 | PP43: 0.027 | PQ43: 0.027 | PR43: 0.027 | PS43: 0.017 | PT43: 0.017 | PU43: 0.017 | PV43: 0.017 | PW43: 0.017 | PX43: 0.017 | PY43: 0.027 | PZ43: 0.027 | QA43: 0.027 | QB43: 0.027 | QC43: 0.027 | QD43: 0.017 | QE43: 0.017 | QF43: 0.017 | QG43: 0.017 | QH43: 0.017 | QI43: 0.017 | QJ43: 0.017 | QK43: 0.017 | QL43: 0.017 | QM43: 0.027 | QN43: 0.027 | QO43: 0.027 | QP43: 0.027 | QQ43: 0.027
A44: 24 | B44: Întocmirea procesului-verbal de dare în exploatare a contorului și a branșamentului / Completarea actului de sigilare a contorului / Completarea actului de sigilare a obturatorului | C44: =B12 -> Controlor ( inginer, maistru) | E44: 0.057 | F44: 0.057 | G44: 0.057 | H44: 0.057 | I44: 0.057 | J44: 0.057 | K44: 0.057 | L44: 0.057 | M44: 0.057 | N44: 0.057 | O44: 0.057 | P44: 0.057 | Q44: 0.057 | R44: 0.057 | S44: 0.057 | T44: 0.057 | U44: 0.057 | V44: 0.057 | W44: 0.057 | X44: 0.057 | Y44: 0.057 | Z44: 0.057 | AA44: 0.057 | AB44: 0.057 | AC44: 0.057 | AD44: 0.057 | AE44: 0.057 | AF44: 0.057 | AG44: 0.057 | AH44: 0.057 | AI44: 0.057 | AJ44: 0.057 | AK44: 0.057 | AL44: 0.057 | AM44: 0.057 | AN44: 0.057 | AO44: 0.057 | AP44: 0.057 | AQ44: 0.057 | AR44: 0.057 | AS44: 0.057 | AT44: 0.057 | AU44: 0.057 | AV44: 0.057 | AW44: 0.057 | AX44: 0.057 | AY44: 0.057 | AZ44: 0.057 | BA44: 0.057 | BB44: 0.057 | BC44: 0.057 | BD44: 0.057 | BE44: 0.057 | BF44: 0.057 | BG44: 0.057 | BH44: 0.057 | BI44: 0.057 | BJ44: 0.057 | BK44: 0.057 | BL44: 0.057 | BM44: 0.057 | BN44: 0.057 | BO44: 0.057 | BP44: 0.057 | BQ44: 0.057 | BR44: 0.057 | BS44: 0.057 | BT44: 0.057 | BU44: 0.057 | BV44: 0.057 | BW44: 0.057 | BX44: 0.057 | BY44: 0.057 | BZ44: 0.057 | CA44: 0.057 | CB44: 0.057 | CC44: 0.057 | CD44: 0.057 | CE44: 0.057 | CF44: 0.057 | CG44: 0.057 | CH44: 0.057 | CI44: 0.057 | CJ44: 0.057 | CK44: 0.057 | CL44: 0.057 | CM44: 0.057 | CN44: 0.057 | CO44: 0.057 | CP44: 0.057 | CQ44: 0.057 | CR44: 0.057 | CS44: 0.057 | CT44: 0.057 | CU44: 0.057 | CV44: 0.057 | CW44: 0.057 | CX44: 0.057 | CY44: 0.057 | CZ44: 0.057 | DA44: 0.057 | DB44: 0.057 | DC44: 0.057 | DD44: 0.057 | DE44: 0.057 | DF44: 0.057 | DG44: 0.057 | DH44: 0.057 | DI44: 0.057 | DJ44: 0.057 | DK44: 0.057 | DL44: 0.057 | DM44: 0.057 | DN44: 0.057 | DO44: 0.057 | DP44: 0.057 | DQ44: 0.057 | DR44: 0.057 | DS44: 0.057 | DT44: 0.057 | DU44: 0.057 | DV44: 0.057 | DW44: 0.057 | DX44: 0.057 | DY44: 0.057 | DZ44: 0.057 | EA44: 0.057 | EB44: 0.057 | EC44: 0.057 | ED44: 0.057 | EE44: 0.057 | EF44: 0.057 | EG44: 0.057 | EH44: 0.057 | EI44: 0.057 | EJ44: 0.057 | EK44: 0.057 | EL44: 0.057 | EM44: 0.057 | EN44: 0.057 | EO44: 0.057 | EP44: 0.057 | EQ44: 0.057 | ER44: 0.057 | ES44: 0.057 | ET44: 0.057 | EU44: 0.057 | EV44: 0.057 | EW44: 0.057 | EX44: 0.057 | EY44: 0.057 | EZ44: 0.057 | FA44: 0.057 | FB44: 0.057 | FC44: 0.057 | FD44: 0.057 | FE44: 0.057 | FF44: 0.057 | FG44: 0.057 | FH44: 0.057 | FI44: 0.057 | FJ44: 0.057 | FK44: 0.057 | FL44: 0.057 | FM44: 0.057 | FN44: 0.057 | FO44: 0.057 | FP44: 0.057 | FQ44: 0.057 | FR44: 0.057 | FS44: 0.057 | FT44: 0.057 | FU44: 0.057 | FV44: 0.057 | FW44: 0.057 | FX44: 0.057 | FY44: 0.057 | FZ44: 0.057 | GA44: 0.057 | GB44: 0.057 | GC44: 0.057 | GD44: 0.057 | GE44: 0.057 | GF44: 0.057 | GG44: 0.057 | GH44: 0.057 | GI44: 0.057 | GJ44: 0.057 | GK44: 0.057 | GL44: 0.057 | GM44: 0.057 | GN44: 0.057 | GO44: 0.057 | GP44: 0.057 | GQ44: 0.057 | GR44: 0.057 | GS44: 0.057 | GT44: 0.057 | GU44: 0.057 | GV44: 0.057 | GW44: 0.057 | GX44: 0.057 | GY44: 0.057 | GZ44: 0.057 | HA44: 0.057 | HB44: 0.057 | HC44: 0.057 | HD44: 0.057 | HE44: 0.057 | HF44: 0.057 | HG44: 0.057 | HH44: 0.057 | HI44: 0.057 | HJ44: 0.057 | HK44: 0.057 | HL44: 0.057 | HM44: 0.057 | HN44: 0.057 | HO44: 0.057 | HP44: 0.057 | HQ44: 0.057 | HR44: 0.057 | HS44: 0.057 | HT44: 0.057 | HU44: 0.057 | HV44: 0.057 | HW44: 0.057 | HX44: 0.057 | HY44: 0.057 | HZ44: 0.057 | IA44: 0.057 | IB44: 0.057 | IC44: 0.057 | ID44: 0.057 | IE44: 0.057 | IF44: 0.057 | IG44: 0.057 | IH44: 0.057 | II44: 0.057 | IJ44: 0.057 | IK44: 0.057 | IL44: 0.057 | IM44: 0.057 | IN44: 0.057 | IO44: 0.057 | IP44: 0.057 | IQ44: 0.057 | IR44: 0.057 | IS44: 0.057 | IT44: 0.057 | IU44: 0.057 | IV44: 0.057 | IW44: 0.057 | IX44: 0.057 | IY44: 0.057 | IZ44: 0.057 | JA44: 0.057 | JB44: 0.057 | JC44: 0.057 | JD44: 0.057 | JE44: 0.057 | JF44: 0.057 | JG44: 0.057 | JH44: 0.057 | JI44: 0.057 | JJ44: 0.057 | JK44: 0.057 | JL44: 0.057 | JM44: 0.057 | JN44: 0.057 | JO44: 0.057 | JP44: 0.057 | JQ44: 0.057 | JR44: 0.057 | JS44: 0.057 | JT44: 0.057 | JU44: 0.057 | JV44: 0.057 | JW44: 0.057 | JX44: 0.057 | JY44: 0.057 | JZ44: 0.057 | KA44: 0.057 | KB44: 0.057 | KC44: 0.057 | KD44: 0.057 | KE44: 0.057 | KF44: 0.057 | KG44: 0.057 | KH44: 0.057 | KI44: 0.057 | KJ44: 0.057 | KK44: 0.057 | KL44: 0.057 | KM44: 0.057 | KN44: 0.057 | KO44: 0.057 | KP44: 0.057 | KQ44: 0.057 | KR44: 0.057 | KS44: 0.057 | KT44: 0.057 | KU44: 0.057 | KV44: 0.057 | KW44: 0.057 | KX44: 0.057 | KY44: 0.057 | KZ44: 0.057 | LA44: 0.057 | LB44: 0.057 | LC44: 0.057 | LD44: 0.057 | LE44: 0.057 | LF44: 0.057 | LG44: 0.057 | LH44: 0.057 | LI44: 0.057 | LJ44: 0.057 | LK44: 0.057 | LL44: 0.057 | LM44: 0.057 | LN44: 0.057 | LO44: 0.057 | LP44: 0.057 | LQ44: 0.057 | LR44: 0.057 | LS44: 0.057 | LT44: 0.057 | LU44: 0.057 | LV44: 0.057 | LW44: 0.057 | LX44: 0.057 | LY44: 0.057 | LZ44: 0.057 | MA44: 0.057 | MB44: 0.057 | MC44: 0.057 | MD44: 0.057 | ME44: 0.057 | MF44: 0.057 | MG44: 0.057 | MH44: 0.057 | MI44: 0.057 | MJ44: 0.057 | MK44: 0.057 | ML44: 0.057 | MM44: 0.057 | MN44: 0.057 | MO44: 0.057 | MP44: 0.057 | MQ44: 0.057 | MR44: 0.057 | MS44: 0.057 | MT44: 0.057 | MU44: 0.057 | MV44: 0.057 | MW44: 0.057 | MX44: 0.057 | MY44: 0.057 | MZ44: 0.057 | NA44: 0.057 | NB44: 0.057 | NC44: 0.057 | ND44: 0.057 | NE44: 0.057 | NF44: 0.057 | NG44: 0.057 | NH44: 0.057 | NI44: 0.057 | NJ44: 0.057 | NK44: 0.057 | NL44: 0.057 | NM44: 0.057 | NN44: 0.057 | NO44: 0.057 | NP44: 0.057 | NQ44: 0.057 | NR44: 0.057 | NS44: 0.057 | NT44: 0.057 | NU44: 0.057 | NV44: 0.057 | NW44: 0.057 | NX44: 0.057 | NY44: 0.057 | NZ44: 0.057 | OA44: 0.057 | OB44: 0.057 | OC44: 0.057 | OD44: 0.057 | OE44: 0.057 | OF44: 0.057 | OG44: 0.057 | OH44: 0.057 | OI44: 0.057 | OJ44: 0.057 | OK44: 0.057 | OL44: 0.057 | OM44: 0.057 | ON44: 0.057 | OO44: 0.057 | OP44: 0.057 | OQ44: 0.057 | OR44: 0.057 | OS44: 0.114 | OT44: 0.114 | OU44: 0.114 | OV44: 0.114 | OW44: 0.114 | OX44: 0.057 | OY44: 0.057 | OZ44: 0.057 | PA44: 0.057 | PB44: 0.057 | PC44: 0.057 | PD44: 0.057 | PE44: 0.057 | PF44: 0.057 | PG44: 0.057
A45: 24 | B45: Întocmirea procesului-verbal de dare în exploatare a contorului și a branșamentului / Completarea actului de sigilare a contorului / Completarea actului de sigilare a obturatorului | C45: =$B$4 -> Lăcătuș | PH45: 0.057 | PI45: 0.057 | PJ45: 0.057 | PK45: 0.057 | PL45: 0.057 | PM45: 0.057 | PN45: 0.057 | PO45: 0.057 | PP45: 0.057 | PQ45: 0.057 | PR45: 0.057 | PS45: 0.114 | PT45: 0.114 | PU45: 0.114 | PV45: 0.114 | PW45: 0.114 | PX45: 0.114 | PY45: 0.114 | PZ45: 0.114 | QA45: 0.114 | QB45: 0.114 | QC45: 0.114 | QD45: =0.057*2 -> 0.114 | QE45: =0.057*2 -> 0.114 | QF45: 0.057 | QG45: 0.057 | QH45: 0.057 | QI45: 0.057 | QJ45: 0.057 | QK45: 0.057 | QL45: 0.057 | QM45: 0.057 | QN45: 0.057 | QO45: 0.057 | QP45: 0.057 | QQ45: 0.057
A46: 25 | B46: Deplasare spre camin de vizitare | C46: =$B$4 -> Lăcătuș | OS46: 0.02 | OT46: 0.02 | OU46: 0.02 | OV46: 0.02 | OX46: 0.01 | OY46: =$OX$46 -> 0.01 | OZ46: =$OX$46 -> 0.01 | PA46: =$OX$46 -> 0.01 | PC46: 0.01 | PD46: =$PC$46 -> 0.01 | PE46: =$PC$46 -> 0.01 | PF46: =$PC$46 -> 0.01 | PH46: 0.017 | PI46: 0.017 | PJ46: =$PI$46 -> 0.017 | PK46: =$PI$46 -> 0.017 | PL46: =$PI$46 -> 0.017 | PM46: =$PI$46 -> 0.017 | PN46: =$PI$46 -> 0.017 | PO46: =$PI$46 -> 0.017 | PP46: =$PI$46 -> 0.017 | PQ46: =$PI$46 -> 0.017 | PR46: =$PI$46 -> 0.017 | PS46: 0.034 | PT46: 0.034 | PU46: 0.034 | PV46: 0.034 | PW46: 0.034 | PX46: 0.034 | PY46: 0.034 | PZ46: 0.034 | QA46: 0.034 | QB46: 0.034 | QC46: 0.034 | QD46: 0.034 | QE46: 0.034 | QF46: 0.017 | QG46: 0.017 | QH46: 0.017 | QI46: 0.017 | QJ46: 0.017 | QK46: 0.017 | QL46: 0.017 | QM46: 0.017 | QN46: 0.017 | QO46: 0.017 | QP46: 0.017 | QQ46: 0.017
B47: Deșertarea liniei, curățarea liniei | C47: =$B$4 -> Lăcătuș | PH47: 0.01 | PI47: 0.01 | PJ47: 0.01 | PK47: 0.01 | PL47: 0.01 | PM47: 0.01 | PN47: 0.033 | PO47: 0.033 | PP47: 0.05 | PQ47: 0.05 | PR47: 0.05 | PS47: 0.01 | PT47: 0.01 | PU47: 0.01 | PV47: 0.01 | PW47: 0.01 | PX47: 0.01 | PY47: 0.033 | PZ47: 0.033 | QA47: 0.05 | QB47: 0.05 | QC47: 0.05 | QD47: 0.01 | QE47: 0.01 | QF47: 0.01
A48: 26 | B48: Desigilare, demontare obturator | C48: =$B$4 -> Lăcătuș | OS48: 0.03 | OT48: 0.04 | OU48: 0.07 | OV48: 0.07 | PC48: 0.03 | PD48: 0.04 | PE48: 0.07 | PF48: 0.07
A49: 27 | B49: Reconecatre la rețeaua publică | C49: =$B$4 -> Lăcătuș | OS49: 0.05 | OT49: 0.05 | OU49: 0.082 | OV49: 0.082 | PC49: 0.04 | PD49: 0.05 | PE49: 0.082 | PF49: 0.082
A50: 28 | B50: Stopare apă / Stopare get și debranșare/Închiderea ventilului/robinetului pînă la contor | C50: =$B$4 -> Lăcătuș | OS50: 0.03 | OT50: 0.03 | OU50: 0.03 | OV50: 0.03 | OX50: 0.03 | OY50: 0.03 | OZ50: 0.03 | PA50: 0.03 | PH50: 0.01 | PI50: 0.01 | PJ50: 0.01 | PK50: 0.01 | PL50: 0.01 | PM50: 0.01 | PN50: 0.017 | PO50: 0.017 | PP50: 0.033 | PQ50: 0.033 | PR50: 0.033 | PS50: 0.01 | PT50: 0.01 | PU50: 0.01 | PV50: 0.01 | PW50: 0.01 | PX50: 0.01 | PY50: 0.017 | PZ50: 0.017 | QA50: 0.033 | QB50: 0.033 | QC50: 0.033 | QD50: 0.01 | QE50: 0.01 | QF50: 0.01
A51: 29 | B51: Montarea piesei de branșare (colier) | C51: =$B$4 -> Lăcătuș | U51: 0.646 | V51: 0.646 | W51: 0.646 | X51: 0.646 | Y51: 0.646 | Z51: 0.646 | AA51: 0.646 | AB51: 0.646 | AC51: 0.646 | AD51: 0.646 | AE51: 0.646 | AF51: 0.646 | AG51: 0.646 | AH51: 0.646 | AI51: 0.772 | AJ51: 0.772 | AK51: 0.819 | AL51: 0.819 | AM51: 0.866 | AN51: 0.866 | AO51: 0.866 | AP51: 0.866 | AQ51: 0.866 | AR51: 0.866 | AS51: 0.866 | AT51: 0.866 | AU51: 0.866 | AV51: 0.866 | AW51: 0.866 | AX51: 0.866 | AY51: 0.866 | AZ51: 0.866 | BA51: 0.866 | BB51: 0.866 | BC51: 0.646 | BD51: 0.646 | BE51: 0.646 | BF51: 0.646 | BG51: 0.646 | BH51: 0.646 | BI51: 0.646 | BJ51: 0.646 | BK51: 0.646 | BL51: 0.646 | BM51: 0.646 | BN51: 0.646 | BO51: 0.646 | BP51: 0.772 | BQ51: 0.772 | BR51: 0.819 | BS51: 0.819 | BT51: 0.866 | BU51: 0.866 | BV51: 0.866 | BW51: 0.866 | BX51: 0.866 | BY51: 0.866 | BZ51: 0.866 | CA51: 0.866 | CB51: 0.866 | CC51: 0.866 | CD51: 0.866 | CE51: 0.866 | CF51: 0.866 | CG51: 0.866 | CH51: 0.866 | CI51: 0.866 | CJ51: 0.646 | CK51: 0.646 | CL51: 0.646 | CM51: 0.646 | CN51: 0.646 | CO51: 0.772 | CP51: 0.819 | CQ51: 0.866 | CR51: 0.866 | CS51: 0.866 | CT51: 0.866 | CU51: 0.866 | CV51: 0.866 | CW51: 0.866 | CX51: 0.866 | CY51: 0.646 | CZ51: 0.646 | DA51: 0.646 | DB51: 0.646 | DC51: 0.772 | DD51: 0.819 | DE51: 0.866 | DF51: 0.866 | DG51: 0.866 | DH51: 0.866 | DI51: 0.866 | DJ51: 0.866 | DK51: 0.866 | DL51: 0.866 | DM51: 0.646 | DN51: 0.646 | DO51: 0.646 | DP51: 0.772 | DQ51: 0.819 | DR51: 0.866 | DS51: 0.866 | DT51: 0.866 | DU51: 0.866 | DV51: 0.866 | DW51: 0.866 | DX51: 0.866 | DY51: 0.866 | DZ51: 0.646 | EA51: 0.646 | EB51: 0.772 | EC51: 0.819 | ED51: 0.866 | EE51: 0.866 | EF51: 0.866 | EG51: 0.866 | EH51: 0.866 | EI51: 0.866 | EJ51: 0.866 | EK51: 0.866 | EL51: 0.646 | EM51: 0.772 | EN51: 0.819 | EO51: 0.866 | EP51: 0.866 | EQ51: 0.866 | ER51: 0.866 | ES51: 0.866 | ET51: 0.866 | EU51: 0.866 | EV51: 0.866 | EW51: 0.772 | EX51: 0.819 | EY51: 0.866 | EZ51: 0.866 | FA51: 0.866 | FB51: 0.866 | FC51: 0.866 | FD51: 0.866 | FE51: 0.866 | FF51: 0.866 | FG51: 0.819 | FH51: 0.866 | FI51: 0.866 | FJ51: 0.866 | FK51: 0.866 | FL51: 0.866 | FM51: 0.866 | FN51: 0.866 | FO51: 0.866 | FP51: 0.866 | FQ51: 0.866 | FR51: 0.866 | FS51: 0.866 | FT51: 0.866 | FU51: 0.866 | FV51: 0.866 | FW51: 0.866 | FX51: 0.866 | FY51: 0.866 | FZ51: 0.866 | GA51: 0.866 | GB51: 0.866 | GC51: 0.866 | GD51: 0.866 | GE51: 0.866 | GF51: 0.866 | GG51: 0.866 | GH51: 0.866 | GI51: 0.866 | GJ51: 0.866 | GK51: 0.866 | GL51: 0.866 | GM51: 0.866 | GN51: 0.866 | GO51: 0.866 | GP51: 0.866 | GQ51: 0.866 | GR51: 0.866 | GS51: 0.866 | HO51: 0.646 | HP51: 0.646 | HQ51: 0.646 | HR51: 0.646 | HS51: 0.646 | HT51: 0.646 | HU51: 0.646 | HV51: 0.646 | HW51: 0.646 | HX51: 0.646 | HY51: 0.646 | HZ51: 0.646 | IA51: 0.646 | IB51: 0.646 | IC51: 0.772 | ID51: 0.772 | IE51: 0.819 | IF51: 0.819 | IG51: 0.866 | IH51: 0.866 | II51: 0.866 | IJ51: 0.866 | IK51: 0.866 | IL51: 0.866 | IM51: 0.866 | IN51: 0.866 | IO51: 0.866 | IP51: 0.866 | IQ51: 0.866 | IR51: 0.866 | IS51: 0.866 | IT51: 0.866 | IU51: 0.866 | IV51: 0.866 | IW51: 0.646 | IX51: 0.646 | IY51: 0.646 | IZ51: 0.646 | JA51: 0.646 | JB51: 0.646 | JC51: 0.646 | JD51: 0.646 | JE51: 0.646 | JF51: 0.646 | JG51: 0.646 | JH51: 0.646 | JI51: 0.646 | JJ51: 0.772 | JK51: 0.772 | JL51: 0.819 | JM51: 0.819 | JN51: 0.866 | JO51: 0.866 | JP51: 0.866 | JQ51: 0.866 | JR51: 0.866 | JS51: 0.866 | JT51: 0.866 | JU51: 0.866 | JV51: 0.866 | JW51: 0.866 | JX51: 0.866 | JY51: 0.866 | JZ51: 0.866 | KA51: 0.866 | KB51: 0.866 | KC51: 0.866 | KD51: 0.646 | KE51: 0.646 | KF51: 0.646 | KG51: 0.646 | KH51: 0.646 | KI51: 0.772 | KJ51: 0.819 | KK51: 0.866 | KL51: 0.866 | KM51: 0.866 | KN51: 0.866 | KO51: 0.866 | KP51: 0.866 | KQ51: 0.866 | KR51: 0.866 | KS51: 0.646 | KT51: 0.646 | KU51: 0.646 | KV51: 0.646 | KW51: 0.772 | KX51: 0.819 | KY51: 0.866 | KZ51: 0.866 | LA51: 0.866 | LB51: 0.866 | LC51: 0.866 | LD51: 0.866 | LE51: 0.866 | LF51: 0.866 | LG51: 0.646 | LH51: 0.646 | LI51: 0.646 | LJ51: 0.772 | LK51: 0.819 | LL51: 0.866 | LM51: 0.866 | LN51: 0.866 | LO51: 0.866 | LP51: 0.866 | LQ51: 0.866 | LR51: 0.866 | LS51: 0.866 | LT51: 0.646 | LU51: 0.646 | LV51: 0.772 | LW51: 0.819 | LX51: 0.866 | LY51: 0.866 | LZ51: 0.866 | MA51: 0.866 | MB51: 0.866 | MC51: 0.866 | MD51: 0.866 | ME51: 0.866 | MF51: 0.646 | MG51: 0.772 | MH51: 0.819 | MI51: 0.866 | MJ51: 0.866 | MK51: 0.866 | ML51: 0.866 | MM51: 0.866 | MN51: 0.866 | MO51: 0.866 | MP51: 0.866 | MQ51: 0.772 | MR51: 0.819 | MS51: 0.866 | MT51: 0.866 | MU51: 0.866 | MV51: 0.866 | MW51: 0.866 | MX51: 0.866 | MY51: 0.866 | MZ51: 0.866 | NA51: 0.819 | NB51: 0.866 | NC51: 0.866 | ND51: 0.866 | NE51: 0.866 | NF51: 0.866 | NG51: 0.866 | NH51: 0.866 | NI51: 0.866 | NJ51: 0.866 | NK51: 0.866 | NL51: 0.866 | NM51: 0.866 | NN51: 0.866 | NO51: 0.866 | NP51: 0.866 | NQ51: 0.866 | NR51: 0.866 | NS51: 0.866 | NT51: 0.866 | NU51: 0.866 | NV51: 0.866 | NW51: 0.866 | NX51: 0.866 | NY51: 0.866 | NZ51: 0.866 | OA51: 0.866 | OB51: 0.866 | OC51: 0.866 | OD51: 0.866 | OE51: 0.866 | OF51: 0.866 | OG51: 0.866 | OH51: 0.866 | OI51: 0.866 | OJ51: 0.866 | OK51: 0.866 | OL51: 0.866 | OM51: 0.866
A52: 30 | B52: Montare obturator | C52: =$B$4 -> Lăcătuș | OS52: 0.04 | OT52: 0.04 | OU52: 0.07 | OV52: 0.08 | OX52: 0.04 | OY52: 0.04 | OZ52: 0.07 | PA52: 0.08
A53: 31 | B53: Montare aplicator | C53: =$B$4 -> Lăcătuș | QD53: 0.05 | QE53: 0.05
A54: 32 | B54: Demontare aplicator | C54: =$B$4 -> Lăcătuș | QD54: 0.03 | QE54: 0.03
A55: 33 | B55: Sigilarea obturatorului | C55: =B12 -> Controlor ( inginer, maistru) | OS55: 0.017 | OT55: 0.02 | OU55: 0.025 | OV55: 0.025 | OW55: 0.025 | OX55: 0.017 | OY55: 0.02 | OZ55: 0.025 | PA55: 0.025 | PB55: 0.025
A56: 36 | B56: Efectuarea copiilor | C56: =B11 -> Funcţionari administrativi | QR56: 0.17
A57: 37 | B57: Spargerea manuală a fundației de beton RpAc E10 | C57: =$B$4 -> Lăcătuș | E57: 0.15 | F57: 0.15 | G57: 0.15 | H57: 0.15 | I57: 0.15 | J57: 0.15 | K57: 0.15 | L57: 0.15 | M57: 0.15 | N57: 0.15 | O57: 0.15 | P57: 0.15 | Q57: 0.15 | R57: 0.15 | S57: 0.15 | T57: 0.15 | U57: 0.15 | V57: 0.15 | W57: 0.15 | X57: 0.15 | Y57: 0.15 | Z57: 0.15 | AA57: 0.15 | AB57: 0.15 | AC57: 0.15 | AD57: 0.15 | AE57: 0.15 | AF57: 0.15 | AG57: 0.15 | AH57: 0.15 | AI57: 0.15 | AJ57: 0.15 | AK57: 0.15 | AL57: 0.15 | AM57: 0.15 | AN57: 0.15 | AO57: 0.15 | AP57: 0.15 | AQ57: 0.15 | AR57: 0.15 | AS57: 0.15 | AT57: 0.15 | AU57: 0.15 | AV57: 0.15 | AW57: 0.15 | AX57: 0.15 | AY57: 0.15 | AZ57: 0.15 | BA57: 0.15 | BB57: 0.15 | BC57: 0.15 | BD57: 0.15 | BE57: 0.15 | BF57: 0.15 | BG57: 0.15 | BH57: 0.15 | BI57: 0.15 | BJ57: 0.15 | BK57: 0.15 | BL57: 0.15 | BM57: 0.15 | BN57: 0.15 | BO57: 0.15 | BP57: 0.15 | BQ57: 0.15 | BR57: 0.15 | BS57: 0.15 | BT57: 0.15 | BU57: 0.15 | BV57: 0.15 | BW57: 0.15 | BX57: 0.15 | BY57: 0.15 | BZ57: 0.15 | CA57: 0.15 | CB57: 0.15 | CC57: 0.15 | CD57: 0.15 | CE57: 0.15 | CF57: 0.15 | CG57: 0.15 | CH57: 0.15 | CI57: 0.15 | CJ57: 0.15 | CK57: 0.15 | CL57: 0.15 | CM57: 0.15 | CN57: 0.15 | CO57: 0.15 | CP57: 0.15 | CQ57: 0.15 | CR57: 0.15 | CS57: 0.15 | CT57: 0.15 | CU57: 0.15 | CV57: 0.15 | CW57: 0.15 | CX57: 0.15 | CY57: 0.15 | CZ57: 0.15 | DA57: 0.15 | DB57: 0.15 | DC57: 0.15 | DD57: 0.15 | DE57: 0.15 | DF57: 0.15 | DG57: 0.15 | DH57: 0.15 | DI57: 0.15 | DJ57: 0.15 | DK57: 0.15 | DL57: 0.15 | DM57: 0.15 | DN57: 0.15 | DO57: 0.15 | DP57: 0.15 | DQ57: 0.15 | DR57: 0.15 | DS57: 0.15 | DT57: 0.15 | DU57: 0.15 | DV57: 0.15 | DW57: 0.15 | DX57: 0.15 | DY57: 0.15 | DZ57: 0.15 | EA57: 0.15 | EB57: 0.15 | EC57: 0.15 | ED57: 0.15 | EE57: 0.15 | EF57: 0.15 | EG57: 0.15 | EH57: 0.15 | EI57: 0.15 | EJ57: 0.15 | EK57: 0.15 | EL57: 0.15 | EM57: 0.15 | EN57: 0.15 | EO57: 0.15 | EP57: 0.15 | EQ57: 0.15 | ER57: 0.15 | ES57: 0.15 | ET57: 0.15 | EU57: 0.15 | EV57: 0.15 | EW57: 0.15 | EX57: 0.15 | EY57: 0.15 | EZ57: 0.15 | FA57: 0.15 | FB57: 0.15 | FC57: 0.15 | FD57: 0.15 | FE57: 0.15 | FF57: 0.15 | FG57: 0.15 | FH57: 0.15 | FI57: 0.15 | FJ57: 0.15 | FK57: 0.15 | FL57: 0.15 | FM57: 0.15 | FN57: 0.15 | FO57: 0.15 | FP57: 0.15 | FQ57: 0.15 | FR57: 0.15 | FS57: 0.15 | FT57: 0.15 | FU57: 0.15 | FV57: 0.15 | FW57: 0.15 | FX57: 0.15 | FY57: 0.15 | FZ57: 0.15 | GA57: 0.15 | GB57: 0.15 | GC57: 0.15 | GD57: 0.15 | GE57: 0.15 | GF57: 0.15 | GG57: 0.15 | GH57: 0.15 | GI57: 0.15 | GJ57: 0.15 | GK57: 0.15 | GL57: 0.15 | GM57: 0.15 | GN57: 0.15 | GO57: 0.15 | GP57: 0.15 | GQ57: 0.15 | GR57: 0.15 | GS57: 0.15 | GT57: 0.15 | GU57: 0.15 | GV57: 0.15 | GW57: 0.15 | GX57: 0.15 | GY57: 0.15 | GZ57: 0.15 | HA57: 0.15 | HB57: 0.15 | HC57: 0.15 | HD57: 0.15 | HE57: 0.15 | HF57: 0.15 | HG57: 0.15 | HH57: 0.15 | HI57: 0.15 | HJ57: 0.15 | HK57: 0.15 | HL57: 0.15 | HM57: 0.15 | HN57: 0.15 | HO57: 0.15 | HP57: 0.15 | HQ57: 0.15 | HR57: 0.15 | HS57: 0.15 | HT57: 0.15 | HU57: 0.15 | HV57: 0.15 | HW57: 0.15 | HX57: 0.15 | HY57: 0.15 | HZ57: 0.15 | IA57: 0.15 | IB57: 0.15 | IC57: 0.15 | ID57: 0.15 | IE57: 0.15 | IF57: 0.15 | IG57: 0.15 | IH57: 0.15 | II57: 0.15 | IJ57: 0.15 | IK57: 0.15 | IL57: 0.15 | IM57: 0.15 | IN57: 0.15 | IO57: 0.15 | IP57: 0.15 | IQ57: 0.15 | IR57: 0.15 | IS57: 0.15 | IT57: 0.15 | IU57: 0.15 | IV57: 0.15 | IW57: 0.15 | IX57: 0.15 | IY57: 0.15 | IZ57: 0.15 | JA57: 0.15 | JB57: 0.15 | JC57: 0.15 | JD57: 0.15 | JE57: 0.15 | JF57: 0.15 | JG57: 0.15 | JH57: 0.15 | JI57: 0.15 | JJ57: 0.15 | JK57: 0.15 | JL57: 0.15 | JM57: 0.15 | JN57: 0.15 | JO57: 0.15 | JP57: 0.15 | JQ57: 0.15 | JR57: 0.15 | JS57: 0.15 | JT57: 0.15 | JU57: 0.15 | JV57: 0.15 | JW57: 0.15 | JX57: 0.15 | JY57: 0.15 | JZ57: 0.15 | KA57: 0.15 | KB57: 0.15 | KC57: 0.15 | KD57: 0.15 | KE57: 0.15 | KF57: 0.15 | KG57: 0.15 | KH57: 0.15 | KI57: 0.15 | KJ57: 0.15 | KK57: 0.15 | KL57: 0.15 | KM57: 0.15 | KN57: 0.15 | KO57: 0.15 | KP57: 0.15 | KQ57: 0.15 | KR57: 0.15 | KS57: 0.15 | KT57: 0.15 | KU57: 0.15 | KV57: 0.15 | KW57: 0.15 | KX57: 0.15 | KY57: 0.15 | KZ57: 0.15 | LA57: 0.15 | LB57: 0.15 | LC57: 0.15 | LD57: 0.15 | LE57: 0.15 | LF57: 0.15 | LG57: 0.15 | LH57: 0.15 | LI57: 0.15 | LJ57: 0.15 | LK57: 0.15 | LL57: 0.15 | LM57: 0.15 | LN57: 0.15 | LO57: 0.15 | LP57: 0.15 | LQ57: 0.15 | LR57: 0.15 | LS57: 0.15 | LT57: 0.15 | LU57: 0.15 | LV57: 0.15 | LW57: 0.15 | LX57: 0.15 | LY57: 0.15 | LZ57: 0.15 | MA57: 0.15 | MB57: 0.15 | MC57: 0.15 | MD57: 0.15 | ME57: 0.15 | MF57: 0.15 | MG57: 0.15 | MH57: 0.15 | MI57: 0.15 | MJ57: 0.15 | MK57: 0.15 | ML57: 0.15 | MM57: 0.15 | MN57: 0.15 | MO57: 0.15 | MP57: 0.15 | MQ57: 0.15 | MR57: 0.15 | MS57: 0.15 | MT57: 0.15 | MU57: 0.15 | MV57: 0.15 | MW57: 0.15 | MX57: 0.15 | MY57: 0.15 | MZ57: 0.15 | NA57: 0.15 | NB57: 0.15 | NC57: 0.15 | ND57: 0.15 | NE57: 0.15 | NF57: 0.15 | NG57: 0.15 | NH57: 0.15 | NI57: 0.15 | NJ57: 0.15 | NK57: 0.15 | NL57: 0.15 | NM57: 0.15 | NN57: 0.15 | NO57: 0.15 | NP57: 0.15 | NQ57: 0.15 | NR57: 0.15 | NS57: 0.15 | NT57: 0.15 | NU57: 0.15 | NV57: 0.15 | NW57: 0.15 | NX57: 0.15 | NY57: 0.15 | NZ57: 0.15 | OA57: 0.15 | OB57: 0.15 | OC57: 0.15 | OD57: 0.15 | OE57: 0.15 | OF57: 0.15 | OG57: 0.15 | OH57: 0.15 | OI57: 0.15 | OJ57: 0.15 | OK57: 0.15 | OL57: 0.15 | OM57: 0.15 | ON57: 0.15 | OO57: 0.15 | OP57: 0.15 | OQ57: 0.15 | OR57: 0.15
A58: 38 | B58: Montarea tuburilor din PVC, D = 160 mm îngropate la o adîncime de până la 2 m AcD18 | C58: =$B$4 -> Lăcătuș | GT58: 1.25 | GU58: 1.25 | GV58: 1.25 | GW58: 1.25 | GX58: 1.25 | ON58: 0.15 | OO58: 0.15 | OP58: 0.15 | OQ58: 0.15 | OR58: 0.15
A59: 39 | B59: Repararea fisurilor prin intermediul căminelor de vizitare cu mortar de ciment, M-100 RpAcE08 | C59: =$B$4 -> Lăcătuș | GT59: 0.1 | GU59: 0.1 | GV59: 0.1 | GW59: 0.1 | GX59: 0.1 | ON59: 0.1 | OO59: 0.1 | OP59: 0.1 | OQ59: 0.1 | OR59: 0.1
A60: 40 | B60: Demontarea dopului D=160 mm RpSD05 | C60: =$B$4 -> Lăcătuș | OW60: 0.15 | PG60: 0.15
B61: Manevrarea (inchiderea si deschiderea) manuala a venelor montate in pamint, in vederea izolarii diferitelor zone din retea, vanele avind diametrul 50-200 mm | C61: =$B$4 -> Lăcătuș | O61: 0.2 | P61: 0.2 | Q61: 0.2 | R61: 0.2 | S61: 0.2 | T61: 0.2 | FG61: 0.2 | FH61: 0.2 | FI61: 0.2 | FJ61: 0.2 | FK61: 0.2 | FL61: 0.2 | FM61: 0.2 | FN61: 0.2 | FO61: 0.2 | FP61: 0.2 | FQ61: 0.2 | FR61: 0.2 | FS61: 0.2 | FT61: 0.2 | FU61: 0.2 | FV61: 0.2 | FW61: 0.2 | FX61: 0.2 | FY61: 0.2 | FZ61: 0.2 | GA61: 0.2 | GB61: 0.2 | GC61: 0.2 | GD61: 0.2 | GE61: 0.2 | GF61: 0.2 | GG61: 0.2 | GH61: 0.2 | GI61: 0.2 | GJ61: 0.2 | GK61: 0.2 | GL61: 0.2 | GM61: 0.2 | GN61: 0.2 | GO61: 0.2 | GP61: 0.2 | GQ61: 0.2 | GR61: 0.2 | GS61: 0.2 | HI61: 0.2 | HJ61: 0.2 | HK61: 0.2 | HL61: 0.2 | HM61: 0.2 | HN61: 0.2 | NA61: 0.2 | NB61: 0.2 | NC61: 0.2 | ND61: 0.2 | NE61: 0.2 | NF61: 0.2 | NG61: 0.2 | NH61: 0.2 | NI61: 0.2 | NJ61: 0.2 | NK61: 0.2 | NL61: 0.2 | NM61: 0.2 | NN61: 0.2 | NO61: 0.2 | NP61: 0.2 | NQ61: 0.2 | NR61: 0.2 | NS61: 0.2 | NT61: 0.2 | NU61: 0.2 | NV61: 0.2 | NW61: 0.2 | NX61: 0.2 | NY61: 0.2 | NZ61: 0.2 | OA61: 0.2 | OB61: 0.2 | OC61: 0.2 | OD61: 0.2 | OE61: 0.2 | OF61: 0.2 | OG61: 0.2 | OH61: 0.2 | OI61: 0.2 | OJ61: 0.2 | OK61: 0.2 | OL61: 0.2 | OM61: 0.2
B62: Evacuarea apei, mecanic, cu electropompa de 2.8-8 kW | C62: =$B$4 -> Lăcătuș | O62: 0.08 | P62: 0.08 | Q62: 0.08 | R62: 0.08 | S62: 0.08 | T62: 0.08 | FG62: 0.08 | FH62: 0.08 | FI62: 0.08 | FJ62: 0.08 | FK62: 0.08 | FL62: 0.08 | FM62: 0.08 | FN62: 0.08 | FO62: 0.08 | FP62: 0.08 | FQ62: 0.08 | FR62: 0.08 | FS62: 0.08 | FT62: 0.08 | FU62: 0.08 | FV62: 0.08 | FW62: 0.08 | FX62: 0.08 | FY62: 0.08 | FZ62: 0.08 | GA62: 0.08 | GB62: 0.08 | GC62: 0.08 | GD62: 0.08 | GE62: 0.08 | GF62: 0.08 | GG62: 0.08 | GH62: 0.08 | GI62: 0.08 | GJ62: 0.08 | GK62: 0.08 | GL62: 0.08 | GM62: 0.08 | GN62: 0.08 | GO62: 0.08 | GP62: 0.08 | GQ62: 0.08 | GR62: 0.08 | GS62: 0.08 | HI62: 0.08 | HJ62: 0.08 | HK62: 0.08 | HL62: 0.08 | HM62: 0.08 | HN62: 0.08 | NA62: 0.08 | NB62: 0.08 | NC62: 0.08 | ND62: 0.08 | NE62: 0.08 | NF62: 0.08 | NG62: 0.08 | NH62: 0.08 | NI62: 0.08 | NJ62: 0.08 | NK62: 0.08 | NL62: 0.08 | NM62: 0.08 | NN62: 0.08 | NO62: 0.08 | NP62: 0.08 | NQ62: 0.08 | NR62: 0.08 | NS62: 0.08 | NT62: 0.08 | NU62: 0.08 | NV62: 0.08 | NW62: 0.08 | NX62: 0.08 | NY62: 0.08 | NZ62: 0.08 | OA62: 0.08 | OB62: 0.08 | OC62: 0.08 | OD62: 0.08 | OE62: 0.08 | OF62: 0.08 | OG62: 0.08 | OH62: 0.08 | OI62: 0.08 | OJ62: 0.08 | OK62: 0.08 | OL62: 0.08 | OM62: 0.08
B63: Tencuieli interioare si exterioare sclivisite, executate manual, cu mortar de ciment M 100-T de 2 cm grosime medie, la pereti din beton sau caramida, cu suprafete plane | C63: =$B$4 -> Lăcătuș | E63: 0.0518581 | F63: 0.0518581 | G63: 0.052154219 | H63: 0.052154219 | I63: 0.052584136 | J63: 0.0530974 | K63: 0.053771875 | L63: 0.054852119 | M63: 0.055617969 | N63: 0.056835275 | O63: 0.088586275 | P63: 0.0914869 | Q63: 0.0936034 | R63: 0.098275 | S63: 0.10493687 | T63: 0.1125125 | U63: 0.0518581 | V63: 0.0518581 | W63: 0.0518581 | X63: 0.0518581 | Y63: 0.0518581 | Z63: 0.0518581 | AA63: 0.0518581 | AB63: 0.0518581 | AC63: 0.0518581 | AD63: 0.0518581 | AE63: 0.0518581 | AF63: 0.0518581 | AG63: 0.0518581 | AH63: 0.0518581 | AI63: 0.0518581 | AJ63: 0.0518581 | AK63: 0.0518581 | AL63: 0.0518581 | AM63: 0.0518581 | AN63: 0.0518581 | AO63: 0.0518581 | AP63: 0.0518581 | AQ63: 0.0518581 | AR63: 0.0518581 | AS63: 0.0518581 | AT63: 0.0518581 | AU63: 0.0518581 | AV63: 0.0518581 | AW63: 0.0518581 | AX63: 0.0518581 | AY63: 0.0518581 | AZ63: 0.0518581 | BA63: 0.0518581 | BB63: 0.0518581 | BC63: 0.052154219 | BD63: 0.052154219 | BE63: 0.052154219 | BF63: 0.052154219 | BG63: 0.052154219 | BH63: 0.052154219 | BI63: 0.052154219 | BJ63: 0.052154219 | BK63: 0.052154219 | BL63: 0.052154219 | BM63: 0.052154219 | BN63: 0.052154219 | BO63: 0.052154219 | BP63: 0.052154219 | BQ63: 0.052154219 | BR63: 0.052154219 | BS63: 0.052154219 | BT63: 0.052154219 | BU63: 0.052154219 | BV63: 0.052154219 | BW63: 0.052154219 | BX63: 0.052154219 | BY63: 0.052154219 | BZ63: 0.052154219 | CA63: 0.052154219 | CB63: 0.052154219 | CC63: 0.052154219 | CD63: 0.052154219 | CE63: 0.052154219 | CF63: 0.052154219 | CG63: 0.052154219 | CH63: 0.052154219 | CI63: 0.052154219 | CJ63: 0.052584136 | CK63: 0.052584136 | CL63: 0.052584136 | CM63: 0.052584136 | CN63: 0.052584136 | CO63: 0.052584136 | CP63: 0.052584136 | CQ63: 0.052584136 | CR63: 0.052584136 | CS63: 0.052584136 | CT63: 0.052584136 | CU63: 0.052584136 | CV63: 0.052584136 | CW63: 0.052584136 | CX63: 0.052584136 | CY63: 0.0530974 | CZ63: 0.0530974 | DA63: 0.0530974 | DB63: 0.0530974 | DC63: 0.0530974 | DD63: 0.0530974 | DE63: 0.0530974 | DF63: 0.0530974 | DG63: 0.0530974 | DH63: 0.0530974 | DI63: 0.0530974 | DJ63: 0.0530974 | DK63: 0.0530974 | DL63: 0.0530974 | DM63: 0.053771875 | DN63: 0.053771875 | DO63: 0.053771875 | DP63: 0.053771875 | DQ63: 0.053771875 | DR63: 0.053771875 | DS63: 0.053771875 | DT63: 0.053771875 | DU63: 0.053771875 | DV63: 0.053771875 | DW63: 0.053771875 | DX63: 0.053771875 | DY63: 0.053771875 | DZ63: 0.054852119 | EA63: 0.054852119 | EB63: 0.054852119 | EC63: 0.054852119 | ED63: 0.054852119 | EE63: 0.054852119 | EF63: 0.054852119 | EG63: 0.054852119 | EH63: 0.054852119 | EI63: 0.054852119 | EJ63: 0.054852119 | EK63: 0.054852119 | EL63: 0.055617969 | EM63: 0.055617969 | EN63: 0.055617969 | EO63: 0.055617969 | EP63: 0.055617969 | EQ63: 0.055617969 | ER63: 0.055617969 | ES63: 0.055617969 | ET63: 0.055617969 | EU63: 0.055617969 | EV63: 0.055617969 | EW63: 0.056835275 | EX63: 0.056835275 | EY63: 0.056835275 | EZ63: 0.056835275 | FA63: 0.056835275 | FB63: 0.056835275 | FC63: 0.056835275 | FD63: 0.056835275 | FE63: 0.056835275 | FF63: 0.056835275 | FG63: 0.088586275 | FH63: 0.088586275 | FI63: 0.088586275 | FJ63: 0.088586275 | FK63: 0.088586275 | FL63: 0.088586275 | FM63: 0.088586275 | FN63: 0.088586275 | FO63: 0.088586275 | FP63: 0.089995469 | FQ63: 0.089995469 | FR63: 0.089995469 | FS63: 0.089995469 | FT63: 0.089995469 | FU63: 0.089995469 | FV63: 0.089995469 | FW63: 0.089995469 | FX63: 0.0914869 | FY63: 0.0914869 | FZ63: 0.0914869 | GA63: 0.0914869 | GB63: 0.0914869 | GC63: 0.0914869 | GD63: 0.0914869 | GE63: 0.0936034 | GF63: 0.0936034 | GG63: 0.0936034 | GH63: 0.0936034 | GI63: 0.0936034 | GJ63: 0.0936034 | GK63: 0.0958661 | GL63: 0.0958661 | GM63: 0.0958661 | GN63: 0.0958661 | GO63: 0.0958661 | GP63: 0.098275 | GQ63: 0.098275 | GR63: 0.098275 | GS63: 0.098275 | GY63: 0.0518581 | GZ63: 0.0518581 | HA63: 0.052154219 | HB63: 0.052154219 | HC63: 0.052584136 | HD63: 0.0530974 | HE63: 0.053771875 | HF63: 0.054852119 | HG63: 0.055617969 | HH63: 0.056835275 | HI63: 0.088586275 | HJ63: 0.0914869 | HK63: 0.0936034 | HL63: 0.098275 | HM63: 0.10493687 | HN63: 0.1125125 | HO63: 0.0518581 | HP63: 0.0518581 | HQ63: 0.0518581 | HR63: 0.0518581 | HS63: 0.0518581 | HT63: 0.0518581 | HU63: 0.0518581 | HV63: 0.0518581 | HW63: 0.0518581 | HX63: 0.0518581 | HY63: 0.0518581 | HZ63: 0.0518581 | IA63: 0.0518581 | IB63: 0.0518581 | IC63: 0.0518581 | ID63: 0.0518581 | IE63: 0.0518581 | IF63: 0.0518581 | IG63: 0.0518581 | IH63: 0.0518581 | II63: 0.0518581 | IJ63: 0.0518581 | IK63: 0.0518581 | IL63: 0.0518581 | IM63: 0.0518581 | IN63: 0.0518581 | IO63: 0.0518581 | IP63: 0.0518581 | IQ63: 0.0518581 | IR63: 0.0518581 | IS63: 0.0518581 | IT63: 0.0518581 | IU63: 0.0518581 | IV63: 0.0518581 | IW63: 0.052154219 | IX63: 0.052154219 | IY63: 0.052154219 | IZ63: 0.052154219 | JA63: 0.052154219 | JB63: 0.052154219 | JC63: 0.052154219 | JD63: 0.052154219 | JE63: 0.052154219 | JF63: 0.052154219 | JG63: 0.052154219 | JH63: 0.052154219 | JI63: 0.052154219 | JJ63: 0.052154219 | JK63: 0.052154219 | JL63: 0.052154219 | JM63: 0.052154219 | JN63: 0.052154219 | JO63: 0.052154219 | JP63: 0.052154219 | JQ63: 0.052154219 | JR63: 0.052154219 | JS63: 0.052154219 | JT63: 0.052154219 | JU63: 0.052154219 | JV63: 0.052154219 | JW63: 0.052154219 | JX63: 0.052154219 | JY63: 0.052154219 | JZ63: 0.052154219 | KA63: 0.052154219 | KB63: 0.052154219 | KC63: 0.052154219 | KD63: 0.052584136 | KE63: 0.052584136 | KF63: 0.052584136 | KG63: 0.052584136 | KH63: 0.052584136 | KI63: 0.052584136 | KJ63: 0.052584136 | KK63: 0.052584136 | KL63: 0.052584136 | KM63: 0.052584136 | KN63: 0.052584136 | KO63: 0.052584136 | KP63: 0.052584136 | KQ63: 0.052584136 | KR63: 0.052584136 | KS63: 0.0530974 | KT63: 0.0530974 | KU63: 0.0530974 | KV63: 0.0530974 | KW63: 0.0530974 | KX63: 0.0530974 | KY63: 0.0530974 | KZ63: 0.0530974 | LA63: 0.0530974 | LB63: 0.0530974 | LC63: 0.0530974 | LD63: 0.0530974 | LE63: 0.0530974 | LF63: 0.0530974 | LG63: 0.053771875 | LH63: 0.053771875 | LI63: 0.053771875 | LJ63: 0.053771875 | LK63: 0.053771875 | LL63: 0.053771875 | LM63: 0.053771875 | LN63: 0.053771875 | LO63: 0.053771875 | LP63: 0.053771875 | LQ63: 0.053771875 | LR63: 0.053771875 | LS63: 0.053771875 | LT63: 0.054852119 | LU63: 0.054852119 | LV63: 0.054852119 | LW63: 0.054852119 | LX63: 0.054852119 | LY63: 0.054852119 | LZ63: 0.054852119 | MA63: 0.054852119 | MB63: 0.054852119 | MC63: 0.054852119 | MD63: 0.054852119 | ME63: 0.054852119 | MF63: 0.055617969 | MG63: 0.055617969 | MH63: 0.055617969 | MI63: 0.055617969 | MJ63: 0.055617969 | MK63: 0.055617969 | ML63: 0.055617969 | MM63: 0.055617969 | MN63: 0.055617969 | MO63: 0.055617969 | MP63: 0.055617969 | MQ63: 0.056835275 | MR63: 0.056835275 | MS63: 0.056835275 | MT63: 0.056835275 | MU63: 0.056835275 | MV63: 0.056835275 | MW63: 0.056835275 | MX63: 0.056835275 | MY63: 0.056835275 | MZ63: 0.056835275 | NA63: 0.088586275 | NB63: 0.088586275 | NC63: 0.088586275 | ND63: 0.088586275 | NE63: 0.088586275 | NF63: 0.088586275 | NG63: 0.088586275 | NH63: 0.088586275 | NI63: 0.088586275 | NJ63: 0.089995469 | NK63: 0.089995469 | NL63: 0.089995469 | NM63: 0.089995469 | NN63: 0.089995469 | NO63: 0.089995469 | NP63: 0.089995469 | NQ63: 0.089995469 | NR63: 0.0914869 | NS63: 0.0914869 | NT63: 0.0914869 | NU63: 0.0914869 | NV63: 0.0914869 | NW63: 0.0914869 | NX63: 0.0914869 | NY63: 0.0936034 | NZ63: 0.0936034 | OA63: 0.0936034 | OB63: 0.0936034 | OC63: 0.0936034 | OD63: 0.0936034 | OE63: 0.0958661 | OF63: 0.0958661 | OG63: 0.0958661 | OH63: 0.0958661 | OI63: 0.0958661 | OJ63: 0.098275 | OK63: 0.098275 | OL63: 0.098275 | OM63: 0.098275
B64: Compactarea cu maiul mecanic de 150-200 kg a umpluturilor in straturi succesive de 20-30 cm grosime, exclusiv udarea fiecarui strat in parte, umpluturile executindu-se din pamint necoeziv | C64: =$B$4 -> Lăcătuș | E64: 0.04 | F64: 0.04 | G64: 0.04 | H64: 0.04 | I64: 0.04 | J64: 0.04 | K64: 0.04 | L64: 0.04 | M64: 0.04 | N64: 0.04 | O64: 0.04 | P64: 0.04 | Q64: 0.04 | R64: 0.04 | S64: 0.04 | T64: 0.04 | U64: 0.04 | V64: 0.04 | W64: 0.04 | X64: 0.04 | Y64: 0.04 | Z64: 0.04 | AA64: 0.04 | AB64: 0.04 | AC64: 0.04 | AD64: 0.04 | AE64: 0.04 | AF64: 0.04 | AG64: 0.04 | AH64: 0.04 | AI64: 0.04 | AJ64: 0.04 | AK64: 0.04 | AL64: 0.04 | AM64: 0.04 | AN64: 0.04 | AO64: 0.04 | AP64: 0.04 | AQ64: 0.04 | AR64: 0.04 | AS64: 0.04 | AT64: 0.04 | AU64: 0.04 | AV64: 0.04 | AW64: 0.04 | AX64: 0.04 | AY64: 0.04 | AZ64: 0.04 | BA64: 0.04 | BB64: 0.04 | BC64: 0.04 | BD64: 0.04 | BE64: 0.04 | BF64: 0.04 | BG64: 0.04 | BH64: 0.04 | BI64: 0.04 | BJ64: 0.04 | BK64: 0.04 | BL64: 0.04 | BM64: 0.04 | BN64: 0.04 | BO64: 0.04 | BP64: 0.04 | BQ64: 0.04 | BR64: 0.04 | BS64: 0.04 | BT64: 0.04 | BU64: 0.04 | BV64: 0.04 | BW64: 0.04 | BX64: 0.04 | BY64: 0.04 | BZ64: 0.04 | CA64: 0.04 | CB64: 0.04 | CC64: 0.04 | CD64: 0.04 | CE64: 0.04 | CF64: 0.04 | CG64: 0.04 | CH64: 0.04 | CI64: 0.04 | CJ64: 0.04 | CK64: 0.04 | CL64: 0.04 | CM64: 0.04 | CN64: 0.04 | CO64: 0.04 | CP64: 0.04 | CQ64: 0.04 | CR64: 0.04 | CS64: 0.04 | CT64: 0.04 | CU64: 0.04 | CV64: 0.04 | CW64: 0.04 | CX64: 0.04 | CY64: 0.04 | CZ64: 0.04 | DA64: 0.04 | DB64: 0.04 | DC64: 0.04 | DD64: 0.04 | DE64: 0.04 | DF64: 0.04 | DG64: 0.04 | DH64: 0.04 | DI64: 0.04 | DJ64: 0.04 | DK64: 0.04 | DL64: 0.04 | DM64: 0.04 | DN64: 0.04 | DO64: 0.04 | DP64: 0.04 | DQ64: 0.04 | DR64: 0.04 | DS64: 0.04 | DT64: 0.04 | DU64: 0.04 | DV64: 0.04 | DW64: 0.04 | DX64: 0.04 | DY64: 0.04 | DZ64: 0.04 | EA64: 0.04 | EB64: 0.04 | EC64: 0.04 | ED64: 0.04 | EE64: 0.04 | EF64: 0.04 | EG64: 0.04 | EH64: 0.04 | EI64: 0.04 | EJ64: 0.04 | EK64: 0.04 | EL64: 0.04 | EM64: 0.04 | EN64: 0.04 | EO64: 0.04 | EP64: 0.04 | EQ64: 0.04 | ER64: 0.04 | ES64: 0.04 | ET64: 0.04 | EU64: 0.04 | EV64: 0.04 | EW64: 0.04 | EX64: 0.04 | EY64: 0.04 | EZ64: 0.04 | FA64: 0.04 | FB64: 0.04 | FC64: 0.04 | FD64: 0.04 | FE64: 0.04 | FF64: 0.04 | FG64: 0.04 | FH64: 0.04 | FI64: 0.04 | FJ64: 0.04 | FK64: 0.04 | FL64: 0.04 | FM64: 0.04 | FN64: 0.04 | FO64: 0.04 | FP64: 0.04 | FQ64: 0.04 | FR64: 0.04 | FS64: 0.04 | FT64: 0.04 | FU64: 0.04 | FV64: 0.04 | FW64: 0.04 | FX64: 0.04 | FY64: 0.04 | FZ64: 0.04 | GA64: 0.04 | GB64: 0.04 | GC64: 0.04 | GD64: 0.04 | GE64: 0.04 | GF64: 0.04 | GG64: 0.04 | GH64: 0.04 | GI64: 0.04 | GJ64: 0.04 | GK64: 0.04 | GL64: 0.04 | GM64: 0.04 | GN64: 0.04 | GO64: 0.04 | GP64: 0.04 | GQ64: 0.04 | GR64: 0.04 | GS64: 0.04 | GT64: 0.04 | GU64: 0.04 | GV64: 0.04 | GW64: 0.04 | GX64: 0.04
A65: 41 | B65: Montarea dopului PVC, D=160 mm RpSB12 | C65: =$B$4 -> Lăcătuș | PB65: 0.15
B66: Total, om/ore | E66: =SUM(E67:E74) -> 2.1147429 | F66: =SUM(F67:F74) -> 2.1647429 | G66: =SUM(G67:G74) -> 2.1150391 | H66: =SUM(H67:H74) -> 2.1650391 | I66: =SUM(I67:I74) -> 2.165469 | J66: =SUM(J67:J74) -> 2.2459822 | K66: =SUM(K67:K74) -> 2.2466567 | L66: =SUM(L67:L74) -> 2.592737 | ... QR66: =SUM(QR67:QR74) -> 0.17
B67: =B4 -> Lăcătuș | E67: =SUMIF($C$20:$C$65,$B$67,E20:E65) -> 0.97743507 | F67: =SUMIF($C$20:$C$65,$B$67,F20:F65) -> 1.0274351 | G67: =SUMIF($C$20:$C$65,$B$67,G20:G65) -> 0.97773119 | H67: =SUMIF($C$20:$C$65,$B$67,H20:H65) -> 1.0277312 | I67: =SUMIF($C$20:$C$65,$B$67,I20:I65) -> 1.0281611 | J67: =SUMIF($C$20:$C$65,$B$67,J20:J65) -> 1.0486744 | K67: =SUMIF($C$20:$C$65,$B$67,K20:K65) -> 1.0493488 | L67: =SUMIF($C$20:$C$65,$B$67,L20:L65) -> 1.3454291 | ... QR67: =SUMIF($C$20:$C$65,$B$67,QR20:QR65) -> 0
B68: =B12 -> Controlor ( inginer, maistru) | E68: =SUMIF($C$20:$C$65,$B$68,E20:E65) -> 0.20757697 | F68: =SUMIF($C$20:$C$65,$B$68,F20:F65) -> 0.20757697 | G68: =SUMIF($C$20:$C$65,$B$68,G20:G65) -> 0.20757697 | H68: =SUMIF($C$20:$C$65,$B$68,H20:H65) -> 0.20757697 | I68: =SUMIF($C$20:$C$65,$B$68,I20:I65) -> 0.20757697 | J68: =SUMIF($C$20:$C$65,$B$68,J20:J65) -> 0.20757697 | K68: =SUMIF($C$20:$C$65,$B$68,K20:K65) -> 0.20757697 | L68: =SUMIF($C$20:$C$65,$B$68,L20:L65) -> 0.21757697 | ... QR68: =SUMIF($C$20:$C$65,$B$68,QR20:QR65) -> 0
B69: =B6 -> Excavatorist V | E69: =SUMIF($C$20:$C$65,$B$69,E20:E65) -> 0.36857697 | F69: =SUMIF($C$20:$C$65,$B$69,F20:F65) -> 0.36857697 | G69: =SUMIF($C$20:$C$65,$B$69,G20:G65) -> 0.36857697 | H69: =SUMIF($C$20:$C$65,$B$69,H20:H65) -> 0.36857697 | I69: =SUMIF($C$20:$C$65,$B$69,I20:I65) -> 0.36857697 | J69: =SUMIF($C$20:$C$65,$B$69,J20:J65) -> 0.36857697 | K69: =SUMIF($C$20:$C$65,$B$69,K20:K65) -> 0.36857697 | L69: =SUMIF($C$20:$C$65,$B$69,L20:L65) -> 0.36857697 | ... QR69: =SUMIF($C$20:$C$65,$B$69,QR20:QR65) -> 0
B70: =B5 -> Sofer | E70: =SUMIF($C$20:$C$65,$B$70,E20:E65) -> 0.13057697 | F70: =SUMIF($C$20:$C$65,$B$70,F20:F65) -> 0.13057697 | G70: =SUMIF($C$20:$C$65,$B$70,G20:G65) -> 0.13057697 | H70: =SUMIF($C$20:$C$65,$B$70,H20:H65) -> 0.13057697 | I70: =SUMIF($C$20:$C$65,$B$70,I20:I65) -> 0.13057697 | J70: =SUMIF($C$20:$C$65,$B$70,J20:J65) -> 0.13057697 | K70: =SUMIF($C$20:$C$65,$B$70,K20:K65) -> 0.13057697 | L70: =SUMIF($C$20:$C$65,$B$70,L20:L65) -> 0.13057697 | ... QR70: =SUMIF($C$20:$C$65,$B$70,QR20:QR65) -> 0
B71: =B7 -> Electrogazosudor V | E71: =SUMIF($C$20:$C$65,$B$71,E20:E65) -> 0.43057697 | F71: =SUMIF($C$20:$C$65,$B$71,F20:F65) -> 0.43057697 | G71: =SUMIF($C$20:$C$65,$B$71,G20:G65) -> 0.43057697 | H71: =SUMIF($C$20:$C$65,$B$71,H20:H65) -> 0.43057697 | I71: =SUMIF($C$20:$C$65,$B$71,I20:I65) -> 0.43057697 | J71: =SUMIF($C$20:$C$65,$B$71,J20:J65) -> 0.49057697 | K71: =SUMIF($C$20:$C$65,$B$71,K20:K65) -> 0.49057697 | L71: =SUMIF($C$20:$C$65,$B$71,L20:L65) -> 0.53057697 | ... QR71: =SUMIF($C$20:$C$65,$B$71,QR20:QR65) -> 0
B72: =B8 -> Masinist la excavatoare | E72: =SUMIF($C$20:$C$65,$B$72,E20:E65) -> 0 | F72: =SUMIF($C$20:$C$65,$B$72,F20:F65) -> 0 | G72: =SUMIF($C$20:$C$65,$B$72,G20:G65) -> 0 | H72: =SUMIF($C$20:$C$65,$B$72,H20:H65) -> 0 | I72: =SUMIF($C$20:$C$65,$B$72,I20:I65) -> 0 | J72: =SUMIF($C$20:$C$65,$B$72,J20:J65) -> 0 | K72: =SUMIF($C$20:$C$65,$B$72,K20:K65) -> 0 | L72: =SUMIF($C$20:$C$65,$B$72,L20:L65) -> 0 | ... QR72: =SUMIF($C$20:$C$65,$B$72,QR20:QR65) -> 0
B73: =B9 -> Maistru | E73: =SUMIF($C$20:$C$65,$B$73,E20:E65) -> 0 | F73: =SUMIF($C$20:$C$65,$B$73,F20:F65) -> 0 | G73: =SUMIF($C$20:$C$65,$B$73,G20:G65) -> 0 | H73: =SUMIF($C$20:$C$65,$B$73,H20:H65) -> 0 | I73: =SUMIF($C$20:$C$65,$B$73,I20:I65) -> 0 | J73: =SUMIF($C$20:$C$65,$B$73,J20:J65) -> 0 | K73: =SUMIF($C$20:$C$65,$B$73,K20:K65) -> 0 | L73: =SUMIF($C$20:$C$65,$B$73,L20:L65) -> 0 | ... QR73: =SUMIF($C$20:$C$65,$B$73,QR20:QR65) -> 0
B74: =B11 -> Funcţionari administrativi | E74: =SUMIF($C$20:$C$65,$B$74,E20:E65) -> 0 | F74: =SUMIF($C$20:$C$65,$B$74,F20:F65) -> 0 | G74: =SUMIF($C$20:$C$65,$B$74,G20:G65) -> 0 | H74: =SUMIF($C$20:$C$65,$B$74,H20:H65) -> 0 | I74: =SUMIF($C$20:$C$65,$B$74,I20:I65) -> 0 | J74: =SUMIF($C$20:$C$65,$B$74,J20:J65) -> 0 | K74: =SUMIF($C$20:$C$65,$B$74,K20:K65) -> 0 | L74: =SUMIF($C$20:$C$65,$B$74,L20:L65) -> 0 | ... QR74: =SUMIF($C$20:$C$65,$B$74,QR20:QR65) -> 0.17
